BEGIN:VCALENDAR
VERSION:2.0
PRODID:IEEE vTools.Events//EN
CALSCALE:GREGORIAN
BEGIN:VTIMEZONE
TZID:Pacific/Honolulu
BEGIN:STANDARD
DTSTART:19470608T023000
TZOFFSETFROM:-1130
TZOFFSETTO:-1000
TZNAME:HST
END:STANDARD
END:VTIMEZONE
BEGIN:VEVENT
DTSTAMP:20250828T170117Z
UID:679B4834-A7D8-4A0E-B8DA-218D3937AF99
DTSTART;TZID=Pacific/Honolulu:20250827T183000
DTEND;TZID=Pacific/Honolulu:20250827T200000
DESCRIPTION:Professor Azita Emami from The California Institute of Technolo
 gy will give a seminar talk on &quot;Brain-Computer Interfaces: A Software-Hard
 ware Co-Design Approach&quot; on Wednesday August 27th at 6:30PM. RSVP one week
  in advance for food orders\, provided for $5 cash per person. Students do
  not need to bring payment. Indicate food preference with event registrati
 on.\n\nRoom: 244\, Bldg: Holmes Hall\, 2540 Dole St\, Honolulu\, Hawaii\, 
 United States\, 96822
LOCATION:Room: 244\, Bldg: Holmes Hall\, 2540 Dole St\, Honolulu\, Hawaii\,
  United States\, 96822
ORGANIZER:calvinlee@ieee.org
SEQUENCE:55
SUMMARY:IEEE HAWAII EDS/SSCS CHAPTER SEMINAR ON 8-27-2025 AT 6:30PM HOLMES-
 244 BY PROF EMAMI\, CALTECH
URL;VALUE=URI:https://events.vtools.ieee.org/m/495537
X-ALT-DESC:Description: &lt;br /&gt;&lt;p&gt;Professor Azita Emami from The California 
 Institute of Technology will give a seminar talk on &quot;Brain-Computer Interf
 aces: A Software-Hardware Co-Design Approach&quot; on Wednesday August 27th at 
 6:30PM. RSVP one week in advance for food orders\, provided for $5 cash pe
 r person. Students do not need to bring payment. Indicate food preference 
 with event registration.&lt;/p&gt;
END:VEVENT
END:VCALENDAR

