BEGIN:VCALENDAR
VERSION:2.0
PRODID:IEEE vTools.Events//EN
CALSCALE:GREGORIAN
BEGIN:VTIMEZONE
TZID:America/Chicago
BEGIN:DAYLIGHT
DTSTART:20250309T030000
TZOFFSETFROM:-0600
TZOFFSETTO:-0500
RRULE:FREQ=YEARLY;BYDAY=2SU;BYMONTH=3
TZNAME:CDT
END:DAYLIGHT
BEGIN:STANDARD
DTSTART:20251102T010000
TZOFFSETFROM:-0500
TZOFFSETTO:-0600
RRULE:FREQ=YEARLY;BYDAY=1SU;BYMONTH=11
TZNAME:CST
END:STANDARD
END:VTIMEZONE
BEGIN:VEVENT
DTSTAMP:20251007T121329Z
UID:70BCC5E3-3B06-4D8E-A1D4-A4DBD2B41E20
DTSTART;TZID=America/Chicago:20251006T160000
DTEND;TZID=America/Chicago:20251006T170000
DESCRIPTION:Brief description of program:\n\nThe topic of IEC-61850 based d
 igital substations has become an area of great consideration across the ut
 ility industry over the past few years. This presentation will provide an 
 overview of the Southern Company Research &amp; Development team’s vision of
  incorporating this technology across our system\, the benefits that this 
 technology and our approach can provide\, and milestones we have met thus 
 far in making this vision a reality.\n\nPLEASE register for this event to 
 help have a list of participants to mark present and email PDH forms. Cont
 inue requesting PDHs to ensure you receive your PDH.\n\nPlease email [RoyB
 rown@southernco.com](mailto:roybrown@southernco.com) after attending the e
 vent if you want a PDH certificate.\n\nContact Roy lee brown if you cannot
  log in: 205-842-6761 or email for help.\n\nI will email you a Link that w
 orks for me.\n\nWe look forward to you joining us and sharing this excitin
 g program.\n\nThe IEEE Alabama Section is dedicating this event to the cel
 ebration of IEEE Day\, and we are delighted to join other IEEE groups in m
 arking this important occasion.\n\nIEEE Day is an annual celebration that 
 honors the historic moment in 1884 when engineers around the world first c
 ame together to share their technical ideas. The event underscores one of 
 IEEE’s core missions—to showcase how members across local communities 
 collaborate and innovate through technology to build a better tomorrow.\n\
 nCo-sponsored by: Glenn R. Wilson SCS Research &amp; Development\n\nSpeaker(s)
 : Jonathan Doroh\, \, \n\nAgenda: \n4:00 PM Presentation\n\n5:00 PM - Adjo
 urn\n\nVirtual: https://events.vtools.ieee.org/m/495737
LOCATION:Virtual: https://events.vtools.ieee.org/m/495737
ORGANIZER:Chair-ALSect@ieee.org
SEQUENCE:141
SUMMARY:The Vision for Digital Substations at Southern Company
URL;VALUE=URI:https://events.vtools.ieee.org/m/495737
X-ALT-DESC:Description: &lt;br /&gt;&lt;p class=&quot;MsoNormal&quot;&gt;&lt;span style=&quot;font-size: 
 11.0pt\;&quot;&gt;Brief description of program:&lt;/span&gt;&lt;/p&gt;\n&lt;p class=&quot;MsoNormal&quot;&gt;&lt;
 span style=&quot;font-size: 11.0pt\;&quot;&gt;The topic of IEC-61850 based digital subs
 tations has become an area of great consideration across the utility indus
 try over the past few years.&amp;nbsp\; This presentation will provide an over
 view of the Southern Company Research &amp;amp\; Development team&amp;rsquo\;s vis
 ion of incorporating this technology across our system\, the benefits that
  this technology and our approach can provide\, and milestones we have met
  thus far in making this vision a reality.&amp;nbsp\;&lt;/span&gt;&lt;/p&gt;\n&lt;p&gt;&lt;span sty
 le=&quot;color: rgb(224\, 62\, 45)\;&quot;&gt;PLEASE register for this event to help ha
 ve a list of participants to mark present and email PDH forms. Continue re
 questing PDHs to ensure you receive your PDH.&lt;/span&gt;&lt;/p&gt;\n&lt;p&gt;&lt;span style=&quot;
 color: rgb(255\, 0\, 0)\;&quot;&gt;Please email&amp;nbsp\;&lt;/span&gt;&lt;a href=&quot;mailto:roybr
 own@southernco.com&quot;&gt;RoyBrown@southernco.com&lt;/a&gt;&lt;span style=&quot;color: rgb(255
 \, 0\, 0)\;&quot;&gt; after attending the event if you want a PDH certificate.&lt;/sp
 an&gt;&lt;/p&gt;\n&lt;p&gt;&lt;span style=&quot;color: #ff0000\;&quot;&gt;Contact Roy lee brown if you ca
 nnot log in: 205-842-6761 or email for help.&amp;nbsp\;&lt;/span&gt;&lt;/p&gt;\n&lt;p&gt;&lt;span s
 tyle=&quot;color: #ff0000\;&quot;&gt;I will email you a Link that works for me.&lt;/span&gt;&lt;
 /p&gt;\n&lt;p&gt;&lt;span style=&quot;color: #ff0000\;&quot;&gt;We look forward to you joining us a
 nd sharing this exciting program.&lt;/span&gt;&lt;/p&gt;\n&lt;p&gt;&amp;nbsp\;&lt;/p&gt;\n&lt;p data-star
 t=&quot;103&quot; data-end=&quot;277&quot;&gt;The &lt;strong data-start=&quot;107&quot; data-end=&quot;131&quot;&gt;IEEE Al
 abama Section&lt;/strong&gt; is dedicating this event to the celebration of &lt;str
 ong data-start=&quot;179&quot; data-end=&quot;191&quot;&gt;IEEE Day&lt;/strong&gt;\, and we are delight
 ed to join other IEEE groups in marking this important occasion.&lt;/p&gt;\n&lt;p d
 ata-start=&quot;279&quot; data-end=&quot;617&quot;&gt;&lt;strong data-start=&quot;279&quot; data-end=&quot;291&quot;&gt;IEE
 E Day&lt;/strong&gt; is an annual celebration that honors the historic moment in
  &lt;strong data-start=&quot;352&quot; data-end=&quot;360&quot;&gt;1884&lt;/strong&gt; when engineers arou
 nd the world first came together to share their technical ideas. The event
  underscores one of IEEE&amp;rsquo\;s core missions&amp;mdash\;to showcase how mem
 bers across local communities collaborate and innovate through technology 
 to build a better tomorrow.&lt;/p&gt;&lt;br /&gt;&lt;br /&gt;Agenda: &lt;br /&gt;&lt;p&gt;&lt;span style=&quot;f
 ont-size: 12pt\;&quot;&gt;&lt;span style=&quot;font-family: arial\,helvetica\,sans-serif\;
 &quot;&gt;4:00 PM Presentation&lt;/span&gt;&lt;/span&gt;&lt;/p&gt;\n&lt;p&gt;&lt;span style=&quot;font-family: ari
 al\,helvetica\,sans-serif\; font-size: 12pt\;&quot;&gt;5:00 PM - Adjourn&lt;/span&gt;&lt;/p
 &gt;
END:VEVENT
END:VCALENDAR

