BEGIN:VCALENDAR
VERSION:2.0
PRODID:IEEE vTools.Events//EN
CALSCALE:GREGORIAN
BEGIN:VTIMEZONE
TZID:Asia/Kolkata
BEGIN:STANDARD
DTSTART:19451014T230000
TZOFFSETFROM:+0630
TZOFFSETTO:+0530
TZNAME:IST
END:STANDARD
END:VTIMEZONE
BEGIN:VEVENT
DTSTAMP:20250820T041936Z
UID:AA18C5DE-7400-4067-9D46-412F83B27396
DTSTART;TZID=Asia/Kolkata:20250818T100000
DTEND;TZID=Asia/Kolkata:20250818T160000
DESCRIPTION:Greetings!\n\nThe Department of ECE\, EEE\, IEEE SPS Chapter 
 – VNRVJIET &amp; IEEE VNRVJIET SB\, in collaboration with the IEEE SPS Hyder
 abad Chapter and IEEE Hyderabad Section\, proposes to organize a Distingui
 shed Lecture on “Easy and Lazy Technical Writing: Solid Logic to Invoke 
 an Aha-Experience” by Dr. Akihiko K. Sugiyama on 18th August 2025 at the
  B-Block Seminar Hall\, VNRVJIET.\n\n&quot;If you can&#39;t explain it simply\, you
  don&#39;t understand it well enough.&quot;\n— Albert Einstein\n\nThis talk prese
 nts a simple and practical approach for inexperienced authors to write tec
 hnical papers with a higher chance of acceptance.\n\nIn technical writing\
 , success largely depends on logical structuring before the drafting proce
 ss begins. By examining the reviewer&#39;s perspective\, the value of the pape
 r and the trick to achieve it are identified as the two most critical elem
 ents of the paper&#39;s logical framework. This insight is reinforced by a dia
 mond-shaped structure that illustrates the relationship between expectatio
 n and reality.\n\nTo gain an overview of the manuscript and refine its log
 ical structure\, preparing slides before drafting proves helpful. A three-
 point analysis\, performed prior to slide preparation\, helps identify the
  value\, trick\, and problem addressed in the paper. This is facilitated u
 sing a specially designed three-point analysis sheet\, which uses a font s
 ize of 36 points—forcing authors to repeatedly distill and refine their 
 ideas to capture the core essence.\n\nOnce the value and trick are clearly
  identified\, designing the paper title and topic sentence becomes straigh
 tforward. Examples are provided to help authors understand how to perform 
 the three-point analysis effectively.\n\nIn the drill session\, participan
 ts will have the opportunity to apply the three-point analysis method to t
 heir own papers.\n\nSpeaker’s Biography\n\nDr. Akihiko K. Sugiyama bring
 s over 40 years of experience in developing telecommunications\, speech\, 
 and audio signal processing systems for both consumer and network products
 . He has a proven track record of technology adoption in commercial produc
 ts and international standards\, with numerous publications and granted pa
 tents. His career uniquely combines research excellence with marketing and
  sales expertise—developing over 300 new global contacts in just two yea
 rs and conducting proof-of-concept evaluations with world-leading companie
 s for technical licensing.\n\nHe represented Japan in ISO/IEC MPEG Audio s
 tandardization\, serving as Interim Chair of the Audio Subgroup at the Ang
 ra dos Reis Meeting in Brazil\, and has also contributed to ITU and 3GPP s
 tandardizations. Bridging industry and academia\, Dr. Sugiyama has over 25
  years of university teaching experience\, supervising 75 internship stude
 nts.\n\nTo date\, he has delivered 232 invited talks across 101 cities in 
 31 countries\, and received 25 awards\, including the prestigious 2024 Ind
 ustry Innovation Award from the IEEE Signal Processing Society. He is the 
 sole or co-inventor of 273 registered patents in Japan and abroad.\n\nDr. 
 Sugiyama is a Fellow of IEEE and an Honorary Member and Fellow of IEICE. H
 e has served as a Distinguished Lecturer for the IEEE Signal Processing So
 ciety (2014–2015) and IEEE Consumer Electronics Society (2017–2018)\, 
 as well as a Distinguished Industry Speaker for the IEEE Signal Processing
  Society (2020–2021). In 2020\, the IEEE Consumer Electronics Society re
 cognized him as a Renowned Distinguished Speaker (“The Rock Star”).\nI
 t’s a pleasure to connect with you all[]\n\nAgenda: \nEvent Agenda\n\nEv
 ent Agenda\n\n-\nWelcoming the Guests\n\n-\nIntroduction of the Speaker\n\
 n-\nDistinguished Lecture\n“Easy and Lazy Technical Writing: Solid Logic
  to Invoke an Aha-Experience”\nBy Dr. Akihiko K. Sugiyama\, Dr. Eng.\n\n
 -\nQ &amp; A Session\n\n-\nConcluding Remarks\n\n-\nNetworking &amp; Informal Inte
 raction\n\nBldg: B Block Seminar Hall\, VNR Vignana Jyothi Institute of En
 gineering and Technology\, Pragathi Nagar\, Hyderabad\, Andhra Pradesh\, I
 ndia\, 500090
LOCATION:Bldg: B Block Seminar Hall\, VNR Vignana Jyothi Institute of Engin
 eering and Technology\, Pragathi Nagar\, Hyderabad\, Andhra Pradesh\, Indi
 a\, 500090
ORGANIZER:neelima_n@vnrvjiet.in
SEQUENCE:48
SUMMARY:IEEE SPS VNRVJIET &amp; SPS Hyderabad Section are organising a DIS Lect
 ure onEasy and Lazy Technical Writing: Solid logic to invoke an Aha-Experi
 ence
URL;VALUE=URI:https://events.vtools.ieee.org/m/495947
X-ALT-DESC:Description: &lt;br /&gt;&lt;p data-start=&quot;124&quot; data-end=&quot;266&quot;&gt;&lt;strong da
 ta-start=&quot;124&quot; data-end=&quot;266&quot;&gt;Greetings!&lt;/strong&gt;&lt;/p&gt;\n&lt;p data-start=&quot;131&quot;
  data-end=&quot;522&quot;&gt;The Department of ECE\, EEE\, IEEE SPS Chapter &amp;ndash\; VN
 RVJIET &amp;amp\; IEEE VNRVJIET SB\, in collaboration with the IEEE SPS Hydera
 bad Chapter and IEEE Hyderabad Section\, proposes to organize a &lt;strong da
 ta-start=&quot;311&quot; data-end=&quot;336&quot;&gt;Distinguished Lecture&lt;/strong&gt; on &lt;strong da
 ta-start=&quot;342&quot; data-end=&quot;420&quot;&gt;&amp;ldquo\;Easy and Lazy Technical Writing: Sol
 id Logic to Invoke an Aha-Experience&amp;rdquo\; &lt;/strong&gt;by &lt;strong data-star
 t=&quot;426&quot; data-end=&quot;453&quot;&gt;Dr. Akihiko K. Sugiyama&amp;nbsp\; &lt;/strong&gt;on &lt;strong 
 data-start=&quot;459&quot; data-end=&quot;479&quot;&gt;18th August 2025&lt;/strong&gt; at the &lt;strong d
 ata-start=&quot;487&quot; data-end=&quot;521&quot;&gt;B-Block Seminar Hall\, VNRVJIET&lt;/strong&gt;.&lt;/
 p&gt;\n&lt;blockquote data-start=&quot;524&quot; data-end=&quot;622&quot;&gt;\n&lt;p data-start=&quot;526&quot; data
 -end=&quot;622&quot;&gt;&lt;em data-start=&quot;526&quot; data-end=&quot;598&quot;&gt;&quot;If you can&#39;t explain it si
 mply\, you don&#39;t understand it well enough.&quot;&lt;/em&gt;&lt;br data-start=&quot;598&quot; data
 -end=&quot;601&quot;&gt;&amp;mdash\; &lt;em data-start=&quot;605&quot; data-end=&quot;622&quot;&gt;Albert Einstein&lt;/e
 m&gt;&lt;/p&gt;\n&lt;/blockquote&gt;\n&lt;p data-start=&quot;124&quot; data-end=&quot;266&quot;&gt;&lt;strong data-sta
 rt=&quot;124&quot; data-end=&quot;266&quot;&gt;&lt;br&gt;This talk presents a simple and practical appr
 oach for inexperienced authors to write technical papers with a higher cha
 nce of acceptance.&lt;/strong&gt;&lt;/p&gt;\n&lt;p data-start=&quot;268&quot; data-end=&quot;683&quot;&gt;In tec
 hnical writing\, success largely depends on logical structuring before the
  drafting process begins. By examining the reviewer&#39;s perspective\, the &lt;s
 trong data-start=&quot;418&quot; data-end=&quot;427&quot;&gt;value&lt;/strong&gt; of the paper and the 
 &lt;strong data-start=&quot;449&quot; data-end=&quot;458&quot;&gt;trick&lt;/strong&gt; to achieve it are i
 dentified as the two most critical elements of the paper&#39;s logical framewo
 rk. This insight is reinforced by a &lt;strong data-start=&quot;588&quot; data-end=&quot;616
 &quot;&gt;diamond-shaped structure&lt;/strong&gt; that illustrates the relationship betw
 een expectation and reality.&lt;/p&gt;\n&lt;p data-start=&quot;685&quot; data-end=&quot;1161&quot;&gt;To g
 ain an overview of the manuscript and refine its logical structure\, prepa
 ring slides before drafting proves helpful. A &lt;strong data-start=&quot;808&quot; dat
 a-end=&quot;832&quot;&gt;three-point analysis&lt;/strong&gt;\, performed prior to slide prepa
 ration\, helps identify the &lt;strong data-start=&quot;891&quot; data-end=&quot;900&quot;&gt;value&lt;
 /strong&gt;\, &lt;strong data-start=&quot;902&quot; data-end=&quot;911&quot;&gt;trick&lt;/strong&gt;\, and &lt;s
 trong data-start=&quot;917&quot; data-end=&quot;928&quot;&gt;problem&lt;/strong&gt; addressed in the pa
 per. This is facilitated using a specially designed &lt;strong data-start=&quot;10
 00&quot; data-end=&quot;1030&quot;&gt;three-point analysis sheet&lt;/strong&gt;\, which uses a fon
 t size of &lt;strong data-start=&quot;1058&quot; data-end=&quot;1071&quot;&gt;36 points&lt;/strong&gt;&amp;mda
 sh\;forcing authors to repeatedly distill and refine their ideas to captur
 e the core essence.&lt;/p&gt;\n&lt;p data-start=&quot;1163&quot; data-end=&quot;1391&quot;&gt;Once the val
 ue and trick are clearly identified\, designing the &lt;strong data-start=&quot;12
 26&quot; data-end=&quot;1241&quot;&gt;paper title&lt;/strong&gt; and &lt;strong data-start=&quot;1246&quot; dat
 a-end=&quot;1264&quot;&gt;topic sentence&lt;/strong&gt; becomes straightforward. Examples are
  provided to help authors understand how to perform the three-point analys
 is effectively.&lt;/p&gt;\n&lt;p data-start=&quot;1393&quot; data-end=&quot;1519&quot;&gt;In the &lt;strong d
 ata-start=&quot;1400&quot; data-end=&quot;1417&quot;&gt;drill session&lt;/strong&gt;\, participants wil
 l have the opportunity to apply the three-point analysis method to their o
 wn papers.&lt;/p&gt;\n&lt;p class=&quot;skrollable skrollable-between&quot; data-start=&quot;86&quot; d
 ata-end=&quot;111&quot;&gt;&lt;strong class=&quot;skrollable skrollable-between&quot; data-start=&quot;86
 &quot; data-end=&quot;109&quot;&gt;Speaker&amp;rsquo\;s Biography&lt;/strong&gt;&lt;/p&gt;\n&lt;p class=&quot;skroll
 able skrollable-between&quot; data-start=&quot;113&quot; data-end=&quot;691&quot;&gt;Dr. Akihiko K. Su
 giyama brings over&amp;nbsp\;&lt;strong class=&quot;skrollable skrollable-between&quot; dat
 a-start=&quot;149&quot; data-end=&quot;175&quot;&gt;40 years of experience&lt;/strong&gt;&amp;nbsp\;in deve
 loping telecommunications\, speech\, and audio signal processing systems f
 or both consumer and network products. He has a proven track record of tec
 hnology adoption in commercial products and international standards\, with
  numerous publications and granted patents. His career uniquely combines r
 esearch excellence with marketing and sales expertise&amp;mdash\;developing ov
 er&amp;nbsp\;&lt;strong class=&quot;skrollable skrollable-between&quot; data-start=&quot;546&quot; da
 ta-end=&quot;591&quot;&gt;300 new global contacts in just two years&lt;/strong&gt;&amp;nbsp\;and 
 conducting proof-of-concept evaluations with world-leading companies for t
 echnical licensing.&lt;/p&gt;\n&lt;p class=&quot;skrollable skrollable-between&quot; data-sta
 rt=&quot;693&quot; data-end=&quot;1055&quot;&gt;He represented Japan in&amp;nbsp\;&lt;strong class=&quot;skro
 llable skrollable-between&quot; data-start=&quot;717&quot; data-end=&quot;755&quot;&gt;ISO/IEC MPEG Au
 dio standardization&lt;/strong&gt;\, serving as&amp;nbsp\;&lt;strong class=&quot;skrollable 
 skrollable-between&quot; data-start=&quot;768&quot; data-end=&quot;807&quot;&gt;Interim Chair of the A
 udio Subgroup&lt;/strong&gt;&amp;nbsp\;at the Angra dos Reis Meeting in Brazil\, and
  has also contributed to&amp;nbsp\;&lt;strong class=&quot;skrollable skrollable-betwee
 n&quot; data-start=&quot;877&quot; data-end=&quot;884&quot;&gt;ITU&lt;/strong&gt;&amp;nbsp\;and&amp;nbsp\;&lt;strong cl
 ass=&quot;skrollable skrollable-between&quot; data-start=&quot;889&quot; data-end=&quot;897&quot;&gt;3GPP&lt;/
 strong&gt;&amp;nbsp\;standardizations. Bridging industry and academia\, Dr. Sugiy
 ama has over&amp;nbsp\;&lt;strong class=&quot;skrollable skrollable-between&quot; data-star
 t=&quot;970&quot; data-end=&quot;1016&quot;&gt;25 years of university teaching experience&lt;/strong
 &gt;\, supervising 75 internship students.&lt;/p&gt;\n&lt;p class=&quot;skrollable skrollab
 le-between&quot; data-start=&quot;1057&quot; data-end=&quot;1352&quot;&gt;To date\, he has delivered&amp;n
 bsp\;&lt;strong class=&quot;skrollable skrollable-between&quot; data-start=&quot;1083&quot; data-
 end=&quot;1104&quot;&gt;232 invited talks&lt;/strong&gt;&amp;nbsp\;across 101 cities in 31 countr
 ies\, and received&amp;nbsp\;&lt;strong class=&quot;skrollable skrollable-between&quot; dat
 a-start=&quot;1153&quot; data-end=&quot;1166&quot;&gt;25 awards&lt;/strong&gt;\, including the prestigi
 ous&amp;nbsp\;&lt;strong class=&quot;skrollable skrollable-between&quot; data-start=&quot;1194&quot; 
 data-end=&quot;1228&quot;&gt;2024 Industry Innovation Award&lt;/strong&gt;&amp;nbsp\;from the IEE
 E Signal Processing Society. He is the sole or co-inventor of&amp;nbsp\;&lt;stron
 g class=&quot;skrollable skrollable-between&quot; data-start=&quot;1303&quot; data-end=&quot;1329&quot;&gt;
 273 registered patents&lt;/strong&gt;&amp;nbsp\;in Japan and abroad.&lt;/p&gt;\n&lt;p class=&quot;
 skrollable skrollable-between&quot; data-start=&quot;1354&quot; data-end=&quot;1809&quot;&gt;Dr. Sugiy
 ama is a&amp;nbsp\;&lt;strong class=&quot;skrollable skrollable-between&quot; data-start=&quot;1
 372&quot; data-end=&quot;1390&quot;&gt;Fellow of IEEE&lt;/strong&gt;&amp;nbsp\;and an&amp;nbsp\;&lt;strong cl
 ass=&quot;skrollable skrollable-between&quot; data-start=&quot;1398&quot; data-end=&quot;1437&quot;&gt;Hono
 rary Member and Fellow of IEICE&lt;/strong&gt;. He has served as a&amp;nbsp\;&lt;strong
  class=&quot;skrollable skrollable-between&quot; data-start=&quot;1458&quot; data-end=&quot;1484&quot;&gt;D
 istinguished Lecturer&lt;/strong&gt;&amp;nbsp\;for the IEEE Signal Processing Societ
 y (2014&amp;ndash\;2015) and IEEE Consumer Electronics Society (2017&amp;ndash\;20
 18)\, as well as a&amp;nbsp\;&lt;strong class=&quot;skrollable skrollable-between&quot; dat
 a-start=&quot;1600&quot; data-end=&quot;1634&quot;&gt;Distinguished Industry Speaker&lt;/strong&gt;&amp;nbs
 p\;for the IEEE Signal Processing Society (2020&amp;ndash\;2021). In 2020\, th
 e IEEE Consumer Electronics Society recognized him as a&amp;nbsp\;&lt;strong clas
 s=&quot;skrollable skrollable-between&quot; data-start=&quot;1754&quot; data-end=&quot;1806&quot;&gt;Renown
 ed Distinguished Speaker (&amp;ldquo\;The Rock Star&amp;rdquo\;)&lt;/strong&gt;.&lt;br&gt;It&amp;r
 squo\;s a pleasure to connect with you all&lt;img src=&quot;https://events.vtools.
 ieee.org/vtools_ui/media/display/87d697bf-3b9b-4116-b451-4cd127f61713&quot; alt
 =&quot;&quot; width=&quot;1005&quot; height=&quot;1422&quot;&gt;&lt;/p&gt;&lt;br /&gt;&lt;br /&gt;Agenda: &lt;br /&gt;&lt;p class=&quot;skr
 ollable skrollable-between&quot; data-start=&quot;77&quot; data-end=&quot;95&quot;&gt;&lt;strong class=&quot;s
 krollable skrollable-between&quot; data-start=&quot;77&quot; data-end=&quot;93&quot;&gt;Event Agenda&lt;/
 strong&gt;&lt;/p&gt;\n&lt;h3 data-start=&quot;132&quot; data-end=&quot;152&quot;&gt;&lt;strong data-start=&quot;136&quot; 
 data-end=&quot;152&quot;&gt;Event Agenda&lt;/strong&gt;&lt;/h3&gt;\n&lt;ul data-start=&quot;154&quot; data-end=&quot;
 465&quot;&gt;\n&lt;li data-start=&quot;154&quot; data-end=&quot;182&quot;&gt;\n&lt;p data-start=&quot;156&quot; data-end=
 &quot;182&quot;&gt;&lt;strong data-start=&quot;156&quot; data-end=&quot;180&quot;&gt;Welcoming the Guests&lt;/strong
 &gt;&lt;/p&gt;\n&lt;/li&gt;\n&lt;li data-start=&quot;183&quot; data-end=&quot;218&quot;&gt;\n&lt;p data-start=&quot;185&quot; da
 ta-end=&quot;218&quot;&gt;&lt;strong data-start=&quot;185&quot; data-end=&quot;216&quot;&gt;Introduction of the S
 peaker&lt;/strong&gt;&lt;/p&gt;\n&lt;/li&gt;\n&lt;li data-start=&quot;219&quot; data-end=&quot;374&quot;&gt;\n&lt;p data-
 start=&quot;221&quot; data-end=&quot;374&quot;&gt;&lt;strong data-start=&quot;221&quot; data-end=&quot;246&quot;&gt;Disting
 uished Lecture&lt;/strong&gt;&lt;br data-start=&quot;246&quot; data-end=&quot;249&quot;&gt;&lt;em data-start=
 &quot;251&quot; data-end=&quot;327&quot;&gt;&amp;ldquo\;Easy and Lazy Technical Writing: Solid Logic 
 to Invoke an Aha-Experience&amp;rdquo\;&lt;/em&gt;&lt;br data-start=&quot;327&quot; data-end=&quot;330
 &quot;&gt;&lt;strong data-start=&quot;332&quot; data-end=&quot;372&quot;&gt;By Dr. Akihiko K. Sugiyama\, Dr.
  Eng.&lt;/strong&gt;&lt;/p&gt;\n&lt;/li&gt;\n&lt;li data-start=&quot;375&quot; data-end=&quot;396&quot;&gt;\n&lt;p data-s
 tart=&quot;377&quot; data-end=&quot;396&quot;&gt;&lt;strong data-start=&quot;377&quot; data-end=&quot;394&quot;&gt;Q &amp;amp\;
  A Session&lt;/strong&gt;&lt;/p&gt;\n&lt;/li&gt;\n&lt;li data-start=&quot;397&quot; data-end=&quot;423&quot;&gt;\n&lt;p d
 ata-start=&quot;399&quot; data-end=&quot;423&quot;&gt;&lt;strong data-start=&quot;399&quot; data-end=&quot;421&quot;&gt;Con
 cluding Remarks&lt;/strong&gt;&lt;/p&gt;\n&lt;/li&gt;\n&lt;li data-start=&quot;424&quot; data-end=&quot;465&quot;&gt;\
 n&lt;p data-start=&quot;426&quot; data-end=&quot;465&quot;&gt;&lt;strong data-start=&quot;426&quot; data-end=&quot;463
 &quot;&gt;Networking &amp;amp\; Informal Interaction&lt;/strong&gt;&lt;/p&gt;\n&lt;/li&gt;\n&lt;/ul&gt;\n&lt;p&gt;&amp;n
 bsp\;&lt;/p&gt;\n&lt;p&gt;&amp;nbsp\;&lt;/p&gt;\n&lt;p class=&quot;skrollable skrollable-between&quot; data-s
 tart=&quot;293&quot; data-end=&quot;332&quot;&gt;&amp;nbsp\;&lt;/p&gt;
END:VEVENT
END:VCALENDAR

