BEGIN:VCALENDAR
VERSION:2.0
PRODID:IEEE vTools.Events//EN
CALSCALE:GREGORIAN
BEGIN:VTIMEZONE
TZID:America/New_York
BEGIN:DAYLIGHT
DTSTART:20250309T030000
TZOFFSETFROM:-0500
TZOFFSETTO:-0400
RRULE:FREQ=YEARLY;BYDAY=2SU;BYMONTH=3
TZNAME:EDT
END:DAYLIGHT
BEGIN:STANDARD
DTSTART:20251102T010000
TZOFFSETFROM:-0400
TZOFFSETTO:-0500
RRULE:FREQ=YEARLY;BYDAY=1SU;BYMONTH=11
TZNAME:EST
END:STANDARD
END:VTIMEZONE
BEGIN:VEVENT
DTSTAMP:20251029T235225Z
UID:51911769-A19C-4C43-A881-F0D44EB18C22
DTSTART;TZID=America/New_York:20251023T180000
DTEND;TZID=America/New_York:20251023T200000
DESCRIPTION:QST IEEE! (in the lingo\, &quot;calling all of the Institute!&quot;) Amat
 eur radio operators have been on the air since about 1900\, and the United
  States Department of Commerce has been licensing individuals as amateur r
 adio operators since 1912. We will discuss why amateur radio remains relev
 ant\, important\, and interesting today\, and why IEEE members may want to
  seek amateur radio licensure.\n\nSpeaker(s): Steven\, David\n\nAgenda: \n
 6:00 registration\, snacking and networking\n\n6:30 IEEE overview\n\n6:45:
  Presentation\, Q&amp;A\n\nRoom: Meeting Room A\, Bldg: Cuyahoga County Librar
 y\, 2121 Snow Rd\, Parma\, Ohio\, United States\, 44134\, Virtual: https:/
 /events.vtools.ieee.org/m/495999
LOCATION:Room: Meeting Room A\, Bldg: Cuyahoga County Library\, 2121 Snow R
 d\, Parma\, Ohio\, United States\, 44134\, Virtual: https://events.vtools.
 ieee.org/m/495999
ORGANIZER:s.galecki@ieee.org
SEQUENCE:20
SUMMARY:Amateur Radio: The National Parks of the Electromagnetic Spectrum
URL;VALUE=URI:https://events.vtools.ieee.org/m/495999
X-ALT-DESC:Description: &lt;br /&gt;&lt;p&gt;QST IEEE! (in the lingo\, &quot;calling all of 
 the Institute!&quot;) Amateur radio operators have been on the air since about 
 1900\, and the United States Department of Commerce has been licensing ind
 ividuals as amateur radio operators since 1912.&amp;nbsp\; We will discuss why
  amateur radio remains relevant\, important\, and interesting today\, and 
 why IEEE members may want to seek amateur radio licensure.&lt;/p&gt;&lt;br /&gt;&lt;br /&gt;
 Agenda: &lt;br /&gt;&lt;p&gt;6:00 registration\, snacking and networking&lt;/p&gt;\n&lt;p&gt;6:30 
 IEEE overview&lt;/p&gt;\n&lt;p&gt;6:45: Presentation\, Q&amp;amp\;A&lt;/p&gt;
END:VEVENT
END:VCALENDAR

