BEGIN:VCALENDAR
VERSION:2.0
PRODID:IEEE vTools.Events//EN
CALSCALE:GREGORIAN
BEGIN:VTIMEZONE
TZID:US/Central
BEGIN:DAYLIGHT
DTSTART:20250309T030000
TZOFFSETFROM:-0600
TZOFFSETTO:-0500
RRULE:FREQ=YEARLY;BYDAY=2SU;BYMONTH=3
TZNAME:CDT
END:DAYLIGHT
BEGIN:STANDARD
DTSTART:20251102T010000
TZOFFSETFROM:-0500
TZOFFSETTO:-0600
RRULE:FREQ=YEARLY;BYDAY=1SU;BYMONTH=11
TZNAME:CST
END:STANDARD
END:VTIMEZONE
BEGIN:VEVENT
DTSTAMP:20251002T194444Z
UID:4A4FBEB5-6E97-4C02-9DC1-E14F87E362E1
DTSTART;TZID=US/Central:20251002T123000
DTEND;TZID=US/Central:20251002T133000
DESCRIPTION:October 2025 Lafayette Section Executive Committee Meeting\n\nA
 genda: \nSection Chair Updates\n\nUpcoming Meetings\n\nBudget Report\n\nSo
 ciety Chair Action Plan Updates\n\nWebmaster Updates\n\nMembership Develop
 ment Report\n\nConclusion\n\nVirtual: https://events.vtools.ieee.org/m/496
 032
LOCATION:Virtual: https://events.vtools.ieee.org/m/496032
ORGANIZER:mlanclos@lus.org
SEQUENCE:4
SUMMARY:Executive Committee Meeting - October 2025
URL;VALUE=URI:https://events.vtools.ieee.org/m/496032
X-ALT-DESC:Description: &lt;br /&gt;&lt;p&gt;October&amp;nbsp\;2025 Lafayette Section Execu
 tive Committee Meeting&lt;/p&gt;&lt;br /&gt;&lt;br /&gt;Agenda: &lt;br /&gt;&lt;p&gt;Section Chair Updat
 es&amp;nbsp\;&lt;/p&gt;\n&lt;p&gt;Upcoming Meetings&lt;/p&gt;\n&lt;p&gt;Budget Report&lt;/p&gt;\n&lt;p&gt;Society 
 Chair Action Plan Updates&lt;/p&gt;\n&lt;p&gt;Webmaster Updates&lt;/p&gt;\n&lt;p&gt;Membership Dev
 elopment Report&lt;/p&gt;\n&lt;p&gt;Conclusion&lt;/p&gt;\n&lt;p&gt;&amp;nbsp\;&lt;/p&gt;
END:VEVENT
END:VCALENDAR

