BEGIN:VCALENDAR
VERSION:2.0
PRODID:IEEE vTools.Events//EN
CALSCALE:GREGORIAN
BEGIN:VTIMEZONE
TZID:America/New_York
BEGIN:DAYLIGHT
DTSTART:20250309T030000
TZOFFSETFROM:-0500
TZOFFSETTO:-0400
RRULE:FREQ=YEARLY;BYDAY=2SU;BYMONTH=3
TZNAME:EDT
END:DAYLIGHT
BEGIN:STANDARD
DTSTART:20251102T010000
TZOFFSETFROM:-0400
TZOFFSETTO:-0500
RRULE:FREQ=YEARLY;BYDAY=1SU;BYMONTH=11
TZNAME:EST
END:STANDARD
END:VTIMEZONE
BEGIN:VEVENT
DTSTAMP:20250815T160555Z
UID:8009BDF5-5847-4BAD-9060-0619612488A2
DTSTART;TZID=America/New_York:20250814T120000
DTEND;TZID=America/New_York:20250814T133000
DESCRIPTION:This talk shares an independent perspective on how industry and
  research meet and how together they potentially shape and transform the n
 ext decade and beyond. This is outlined in the context of expected paradig
 m shifts in global intelligent and resilient connectivity\, with multi-mod
 al and multi-sensory immersive interaction and digital world experience\, 
 autonomous swarms\, intelligent agents\, and man-machine collaboration\, a
 nd environmental awareness. It highlights the journey of related research 
 topics\, their transformative potentials\, and the associated questions an
 d challenges\, in an end-to-end context and path\, towards a seamless\, in
 clusive\, and sustainable socio-economic transformation.\n\nSpeaker(s): Ja
 van Erfanian\, \n\nRoom: 4026\, Bldg: SITE\, 800 King Edward Avenue\, Otta
 wa\, Ontario\, Canada\, K1N 1A2
LOCATION:Room: 4026\, Bldg: SITE\, 800 King Edward Avenue\, Ottawa\, Ontari
 o\, Canada\, K1N 1A2
ORGANIZER:amir_andaliby@ieee.org
SEQUENCE:23
SUMMARY:Research and Industry Shaping the 6G Era: Intelligent\, Resilient a
 nd Inclusive Socio-Economic Transformation
URL;VALUE=URI:https://events.vtools.ieee.org/m/496115
X-ALT-DESC:Description: &lt;br /&gt;&lt;p&gt;&lt;img style=&quot;display: block\; margin-left: 
 auto\; margin-right: auto\;&quot; src=&quot;https://events.vtools.ieee.org/vtools_ui
 /media/display/547177d2-b89d-4867-ad8d-35a0b03be024&quot; width=&quot;716&quot; height=&quot;4
 89&quot;&gt;&lt;/p&gt;\n&lt;p&gt;This talk shares an independent perspective on how industry a
 nd research meet and how together they potentially shape and transform the
  next decade and beyond. This is outlined in the context of expected parad
 igm shifts in global intelligent and resilient connectivity\, with multi-m
 odal and multi-sensory immersive interaction and digital world experience\
 , autonomous swarms\, intelligent agents\, and man-machine collaboration\,
  and environmental awareness. It highlights the journey of related researc
 h topics\, their transformative potentials\, and the associated questions 
 and challenges\, in an end-to-end context and path\, towards a seamless\, 
 inclusive\, and sustainable socio-economic transformation.&lt;/p&gt;
END:VEVENT
END:VCALENDAR

