BEGIN:VCALENDAR
VERSION:2.0
PRODID:IEEE vTools.Events//EN
CALSCALE:GREGORIAN
BEGIN:VTIMEZONE
TZID:America/New_York
BEGIN:DAYLIGHT
DTSTART:20250309T030000
TZOFFSETFROM:-0500
TZOFFSETTO:-0400
RRULE:FREQ=YEARLY;BYDAY=2SU;BYMONTH=3
TZNAME:EDT
END:DAYLIGHT
BEGIN:STANDARD
DTSTART:20251102T010000
TZOFFSETFROM:-0400
TZOFFSETTO:-0500
RRULE:FREQ=YEARLY;BYDAY=1SU;BYMONTH=11
TZNAME:EST
END:STANDARD
END:VTIMEZONE
BEGIN:VEVENT
DTSTAMP:20250825T151255Z
UID:46A1F7FB-888C-4A3E-80E8-CF2676DB7027
DTSTART;TZID=America/New_York:20250822T110000
DTEND;TZID=America/New_York:20250822T120000
DESCRIPTION:The Trident Chapter and Nanotech Chapter are pleased to host ED
 S Distinguished Lecturer Prof. Ramachandra Achar from Carleton University\
 , Ottawa\, Canada. Prof. Achar will give a seminar\, &quot;Emerging High-Speed 
 Nanoscale Interconnect Issues and Modelling Challenges&quot; at 11:00 am ET on 
 Friday\, August 22.\n\nThe seminar will be in a hybrid format\, with the i
 n-person talk in room EECS 1200 on the University of Michigan North Campus
  in Ann Arbor\, MI\, and a simulcast via Zoom.\n\nProf. Achar will be avai
 lable before and after the talk for questions and 1-on-1 meetings. To arra
 nge a meeting\, please contact the hosts.\n\nSEM Trident Chapter (AP03/ED1
 5/MTT17/PHO36) [website](https://r4.ieee.org/sem/chapter-iv-trident/)\n\nS
 peaker(s): Prof. Ram Achar\n\nAgenda: \nWelcome: 11:00 am\n\nPresentation\
 n\nQ&amp;A\n\nClosing\n\nIEEE EDS Distinguished Lecture\n\nEmerging High-Speed
  Nanoscale Interconnect Issues and Modelling Challenges\n\nProf. Ramachand
 ra Achar\, Ph. D.\, P. Eng.\,\n\nIEEE Fellow\, Fellow EIC\n\nProfessor\, D
 epartment of Electronics\,\n\nCarleton University\, Ottawa\, Ontario - K1S
  5B6\n\nEmail: achar@doe.carleton.ca\nURL: www.doe.carleton.ca/~achar\nAbs
 tract: With the increasing demands for higher signal speeds coupled with t
 he need for decreasing feature sizes\, interconnect related signal integri
 ty effects such as delay\, distortion\, reflections\, crosstalk\, ground b
 ounce and electromagnetic interference have become the dominant factors li
 miting the performance of high-speed systems. These effects can be diverse
  and can seriously impact the design performance at all hierarchical level
 s including integrated circuits\, printed circuit boards\, multi-chip modu
 les and backplanes. This talk provides a comprehensive approach for unders
 tanding the multidisciplinary problem of signal integrity: issues/modeling
 /analysis in high-speed designs.\n\nBio: Prof. Achar currently is a profes
 sor in the department of electronics engineering at Carleton University\, 
 Canada (since 2000). He also served in various capacities in leading resea
 rch labs\, including T. J. Watson Research Center\, IBM\, New York (1995)\
 , Larsen and Toubro Engineers Ltd.\, Mysore (1992)\, Central Electronics E
 ngineering Research Institute\, Pilani\, India (1992) and Indian Institute
  of Science\, Bangalore\, India (1990).  He has published over 250 peer-re
 viewed articles in international transactions/conferences\, six multimedia
  books on signal integrity and five chapters in different books and has re
 ceived numerous prestigious awards recognizing his research contributions.
  His research interests include signal/power integrity analysis\, high-spe
 ed interconnects\, circuit simulation\, parallel and numerical algorithms 
 and microwave/RF/EMC/EMI mixed-domain analysis. Prof. Achar currently serv
 es as a Distinguished Lecturer of the IEEE Electronic Devices Society and 
 IEEE Electronic Packaging Society\, Chair of the Distinguished Lecturer of
  program of IEEE EMC Society. He also serves in several executive/steering
 /advisory/technical-program committees of several leading IEEE internation
 al conferences\, such as EPEPS\, EDAPS and SPI etc.  Dr. Achar is a practi
 cing professional engineer of Ontario\, a Fellow of Engineers Institute of
  Canada and IEEE.\n\nRoom: 1200 EECS\, Bldg: EECS Building\, 1301 Beal Ave
 \, University of Michigan North Campus\, Ann Arbor\, Michigan\, United Sta
 tes\, 48109\, Virtual: https://events.vtools.ieee.org/m/496118
LOCATION:Room: 1200 EECS\, Bldg: EECS Building\, 1301 Beal Ave\, University
  of Michigan North Campus\, Ann Arbor\, Michigan\, United States\, 48109\,
  Virtual: https://events.vtools.ieee.org/m/496118
ORGANIZER:yms@umich.edu
SEQUENCE:37
SUMMARY:IEEE EDS Distinguished Lecture - Prof. Ramachandra Achar
URL;VALUE=URI:https://events.vtools.ieee.org/m/496118
X-ALT-DESC:Description: &lt;br /&gt;&lt;p&gt;The Trident Chapter and Nanotech Chapter a
 re pleased to host EDS Distinguished Lecturer Prof. Ramachandra Achar from
  Carleton University\, Ottawa\, Canada. Prof. Achar will give a seminar\, 
 &amp;nbsp\;&quot;&lt;strong&gt;Emerging High-Speed Nanoscale Interconnect Issues and Mode
 lling Challenges&lt;/strong&gt;&quot;&amp;nbsp\;at 11:00 am ET on Friday\, August 22.&lt;/p&gt;
 \n&lt;p&gt;The seminar will be in a hybrid format\, with the in-person talk in r
 oom EECS 1200 on the University of Michigan North Campus in Ann Arbor\, MI
 \, and a simulcast via Zoom.&lt;/p&gt;\n&lt;p&gt;Prof. Achar will be available before 
 and after the talk for questions and 1-on-1 meetings. To arrange a meeting
 \, please contact the hosts.&lt;/p&gt;\n&lt;p&gt;SEM Trident Chapter (AP03/ED15/MTT17/
 PHO36) &lt;a href=&quot;https://r4.ieee.org/sem/chapter-iv-trident/&quot;&gt;website&lt;/a&gt;&lt;/
 p&gt;&lt;br /&gt;&lt;br /&gt;Agenda: &lt;br /&gt;&lt;p&gt;Welcome: 11:00 am&lt;/p&gt;\n&lt;p&gt;Presentation&lt;/p&gt;\
 n&lt;p&gt;Q&amp;amp\;A&lt;/p&gt;\n&lt;p&gt;Closing&lt;/p&gt;\n&lt;p class=&quot;MsoNormal&quot; style=&quot;text-align: 
 center\;&quot; align=&quot;center&quot;&gt;&lt;strong&gt;&lt;em style=&quot;mso-bidi-font-style: normal\;&quot;
 &gt;&lt;span lang=&quot;EN-CA&quot; style=&quot;font-size: 16.0pt\; line-height: 115%\; color: 
 black\; mso-themecolor: text1\; mso-ansi-language: EN-CA\;&quot;&gt;IEEE EDS Disti
 nguished Lecture&lt;/span&gt;&lt;/em&gt;&lt;/strong&gt;&lt;/p&gt;\n&lt;p&gt;&lt;strong&gt;&lt;span style=&quot;font-si
 ze: 14.0pt\; line-height: 115%\; font-family: &#39;Calibri&#39;\,sans-serif\; mso-
 ascii-theme-font: minor-latin\; mso-fareast-font-family: Calibri\; mso-far
 east-theme-font: minor-latin\; mso-hansi-theme-font: minor-latin\; mso-bid
 i-font-family: &#39;Times New Roman&#39;\; mso-bidi-theme-font: minor-bidi\; color
 : black\; mso-themecolor: text1\; mso-ansi-language: EN-US\; mso-fareast-l
 anguage: EN-US\; mso-bidi-language: AR-SA\;&quot;&gt;Emerging High-Speed Nanoscale
  Interconnect Issues and Modelling Challenges&lt;/span&gt;&lt;/strong&gt;&lt;/p&gt;\n&lt;table 
 style=&quot;border-collapse: collapse\; width: 100%\; border-width: 1px\; borde
 r-style: none\;&quot; border=&quot;1&quot;&gt;&lt;colgroup&gt;&lt;col style=&quot;width: 24.9513%\;&quot;&gt;&lt;col 
 style=&quot;width: 75.0487%\;&quot;&gt;&lt;/colgroup&gt;\n&lt;tbody&gt;\n&lt;tr&gt;\n&lt;td style=&quot;text-alig
 n: left\;&quot;&gt;\n&lt;p style=&quot;margin: 0in\; text-align: left\;&quot; align=&quot;center&quot;&gt;&lt;i
 mg src=&quot;https://events.vtools.ieee.org/vtools_ui/media/display/cad852c8-6c
 94-4a51-81be-34e620188d10&quot;&gt;&lt;/p&gt;\n&lt;/td&gt;\n&lt;td&gt;\n&lt;p style=&quot;margin: 0in\; text
 -align: left\;&quot; align=&quot;center&quot;&gt;&lt;strong&gt;&lt;span lang=&quot;EN-CA&quot; style=&quot;font-size
 : 12.0pt\; font-family: &#39;Times New Roman&#39;\,serif\; color: windowtext\;&quot;&gt;Pr
 of. Ramachandra Achar\, &lt;/span&gt;&lt;/strong&gt;&lt;span lang=&quot;EN-CA&quot; style=&quot;font-siz
 e: 12.0pt\; font-family: &#39;Times New Roman&#39;\,serif\;&quot;&gt;Ph. D.\, P. Eng.\, &lt;/
 span&gt;&lt;/p&gt;\n&lt;p style=&quot;margin: 0in\; text-align: left\;&quot; align=&quot;center&quot;&gt;&lt;spa
 n lang=&quot;EN-CA&quot; style=&quot;font-size: 12.0pt\; font-family: &#39;Times New Roman&#39;\,
 serif\;&quot;&gt;IEEE Fellow\, Fellow EIC&lt;/span&gt;&lt;/p&gt;\n&lt;p class=&quot;MsoNormal&quot; style=&quot;
 margin-bottom: 0in\; text-align: left\;&quot; align=&quot;center&quot;&gt;&lt;span style=&quot;font-
 size: 12.0pt\; line-height: 115%\; font-family: &#39;Times New Roman&#39;\,serif\;
  mso-bidi-theme-font: minor-bidi\;&quot;&gt;Professor\, Department of Electronics\
 ,&lt;/span&gt;&lt;/p&gt;\n&lt;p class=&quot;MsoNormal&quot; style=&quot;margin-bottom: 0in\; text-align:
  left\;&quot; align=&quot;center&quot;&gt;&lt;span style=&quot;font-size: 12.0pt\; line-height: 115%
 \; font-family: &#39;Times New Roman&#39;\,serif\; mso-bidi-theme-font: minor-bidi
 \;&quot;&gt;Carleton University\, Ottawa\, Ontario - K1S 5B6&lt;/span&gt;&lt;/p&gt;\n&lt;p class=
 &quot;MsoNormal&quot; style=&quot;margin-bottom: 0in\; text-align: left\;&quot; align=&quot;center&quot;
 &gt;&lt;span style=&quot;font-size: 12.0pt\; line-height: 115%\; font-family: &#39;Times 
 New Roman&#39;\,serif\; mso-bidi-theme-font: minor-bidi\;&quot;&gt;Email: &lt;/span&gt;&lt;a hr
 ef=&quot;mailto:achar@doe.carleton.ca&quot;&gt;&lt;span style=&quot;font-size: 12.0pt\; line-he
 ight: 115%\; font-family: &#39;Times New Roman&#39;\,serif\; mso-bidi-theme-font: 
 minor-bidi\;&quot;&gt;achar@doe.carleton.ca&lt;/span&gt;&lt;/a&gt;&lt;/p&gt;\n&lt;span style=&quot;font-size
 : 12.0pt\; line-height: 115%\; font-family: &#39;Times New Roman&#39;\,serif\; mso
 -fareast-font-family: Calibri\; mso-fareast-theme-font: minor-latin\; mso-
 bidi-theme-font: minor-bidi\; mso-ansi-language: EN-US\; mso-fareast-langu
 age: EN-US\; mso-bidi-language: AR-SA\;&quot;&gt;URL:&lt;span style=&quot;mso-tab-count: 1
 \;&quot;&gt;&amp;nbsp\;&amp;nbsp\; &lt;/span&gt;&lt;/span&gt;&lt;span style=&quot;font-size: 11.0pt\; line-hei
 ght: 115%\; font-family: &#39;Calibri&#39;\,sans-serif\; mso-ascii-theme-font: min
 or-latin\; mso-fareast-font-family: Calibri\; mso-fareast-theme-font: mino
 r-latin\; mso-hansi-theme-font: minor-latin\; mso-bidi-font-family: &#39;Times
  New Roman&#39;\; mso-bidi-theme-font: minor-bidi\; mso-ansi-language: EN-US\;
  mso-fareast-language: EN-US\; mso-bidi-language: AR-SA\;&quot;&gt;&lt;a href=&quot;http:/
 /www.doe.carleton.ca/~achar&quot;&gt;&lt;span style=&quot;font-size: 12.0pt\; line-height:
  115%\; font-family: &#39;Times New Roman&#39;\,serif\; mso-bidi-theme-font: minor
 -bidi\;&quot;&gt;www.doe.carleton.ca/~achar&lt;/span&gt;&lt;/a&gt;&lt;/span&gt;&lt;/td&gt;\n&lt;/tr&gt;\n&lt;/tbody
 &gt;\n&lt;/table&gt;\n&lt;p class=&quot;MsoNormal&quot; style=&quot;text-align: justify\;&quot;&gt;&lt;strong st
 yle=&quot;mso-bidi-font-weight: normal\;&quot;&gt;&lt;span style=&quot;font-size: 12.0pt\; line
 -height: 115%\;&quot;&gt;Abstract:&lt;/span&gt;&lt;/strong&gt;&lt;span style=&quot;font-size: 12.0pt\;
  line-height: 115%\;&quot;&gt; With the increasing demands for higher signal speed
 s coupled with the need for decreasing feature sizes\, interconnect relate
 d signal integrity effects such as delay\, distortion\, reflections\, cros
 stalk\, ground bounce and electromagnetic interference have become the dom
 inant factors limiting the performance of high-speed systems. These effect
 s can be diverse and can seriously impact the design performance at all hi
 erarchical levels including integrated circuits\, printed circuit boards\,
  multi-chip modules and backplanes. This talk provides a comprehensive app
 roach for understanding the multidisciplinary problem of signal integrity:
  issues/modeling/analysis in high-speed designs.&lt;/span&gt;&lt;/p&gt;\n&lt;p class=&quot;Mso
 Normal&quot; style=&quot;text-align: justify\;&quot;&gt;&lt;strong style=&quot;mso-bidi-font-weight:
  normal\;&quot;&gt;&lt;span style=&quot;font-size: 12.0pt\; line-height: 115%\;&quot;&gt;Bio:&lt;/spa
 n&gt;&lt;/strong&gt;&lt;span style=&quot;font-size: 12.0pt\; line-height: 115%\;&quot;&gt; &lt;/span&gt;&lt;
 span style=&quot;font-size: 12.0pt\; line-height: 115%\; mso-fareast-font-famil
 y: &#39;Times New Roman&#39;\;&quot;&gt;Prof. Achar currently is a professor in the depart
 ment of electronics engineering at Carleton University\, Canada (since 200
 0). He also served in various capacities in leading research labs\, includ
 ing T. J. Watson Research Center\, IBM\, New York (1995)\, Larsen and Toub
 ro Engineers Ltd.\, Mysore (1992)\, Central Electronics Engineering Resear
 ch Institute\, Pilani\, India (1992) and Indian Institute of Science\, Ban
 galore\, India (1990). &lt;/span&gt;&lt;span style=&quot;font-size: 12.0pt\; line-height
 : 115%\;&quot;&gt;&lt;span style=&quot;mso-spacerun: yes\;&quot;&gt;&amp;nbsp\;&lt;/span&gt;He has &lt;/span&gt;&lt;s
 pan style=&quot;font-size: 12.0pt\; line-height: 115%\; mso-fareast-font-family
 : &#39;Times New Roman&#39;\;&quot;&gt;published over 250 peer-reviewed articles in intern
 ational transactions/conferences\, six multimedia books on signal integrit
 y and five chapters in different books and has received numerous prestigio
 us awards recognizing his research contributions. His research interests i
 nclude signal/power integrity analysis\, high-speed interconnects\, circui
 t simulation\, parallel and numerical algorithms and microwave/RF/EMC/EMI 
 mixed-domain analysis.&lt;/span&gt;&lt;span style=&quot;font-size: 12.0pt\; line-height:
  115%\;&quot;&gt; &lt;/span&gt;&lt;span style=&quot;font-size: 12.0pt\; line-height: 115%\; mso-
 fareast-font-family: &#39;Times New Roman&#39;\;&quot;&gt;Prof. Achar currently serves as 
 a Distinguished Lecturer of the IEEE Electronic Devices Society and IEEE E
 lectronic Packaging Society\, Chair of the Distinguished Lecturer of progr
 am of IEEE EMC Society. He also serves in several executive/steering/advis
 ory/technical-program committees of several leading IEEE international con
 ferences\, such as EPEPS\, EDAPS and SPI etc. &lt;span style=&quot;mso-spacerun: y
 es\;&quot;&gt;&amp;nbsp\;&lt;/span&gt;Dr. Achar is a practicing professional engineer of Ont
 ario\, a Fellow of Engineers Institute of Canada and IEEE. &lt;/span&gt;&lt;/p&gt;
END:VEVENT
END:VCALENDAR

