BEGIN:VCALENDAR
VERSION:2.0
PRODID:IEEE vTools.Events//EN
CALSCALE:GREGORIAN
BEGIN:VTIMEZONE
TZID:America/Los_Angeles
BEGIN:DAYLIGHT
DTSTART:20250309T030000
TZOFFSETFROM:-0800
TZOFFSETTO:-0700
RRULE:FREQ=YEARLY;BYDAY=2SU;BYMONTH=3
TZNAME:PDT
END:DAYLIGHT
BEGIN:STANDARD
DTSTART:20251102T010000
TZOFFSETFROM:-0700
TZOFFSETTO:-0800
RRULE:FREQ=YEARLY;BYDAY=1SU;BYMONTH=11
TZNAME:PST
END:STANDARD
END:VTIMEZONE
BEGIN:VEVENT
DTSTAMP:20251011T225420Z
UID:6BBB0251-9EB6-44D0-9042-D884A81BE754
DTSTART;TZID=America/Los_Angeles:20251008T170000
DTEND;TZID=America/Los_Angeles:20251008T190000
DESCRIPTION:Professor John Hennessy\, past President of Stanford University
  (2000-2016) and Chairman of Alphabet Inc. will be in conversation with Al
 an J Weissberger of the IEEE Technology blog. This talk will be about the 
 history of technologies and companies in Silicon Valley since the late 197
 0s.\n\nLater in the program they will be joined on stage by IEEE past Pres
 ident [Tom Coughlin](https://iwrc.ieeeusa.org/blog/portfolio-items/thomas-
 coughlin/) to discuss recent IEEE accomplishments\, current focus areas an
 d suggestions on how to strengthen the world’s largest technology non-pr
 ofit organization.\n\nOur conversation will cover the evolution of RISC (R
 educed Instruction Set Computing) and its applications in smart phones\, t
 ablets and other devices. We will discuss the evolution of GPUs\, the comp
 utational demands of machine learning\, and the emergence of domain-specif
 ic architectures (DSAs).\n\nWe will also discuss the founding of Atheros C
 ommunications (acquired by Qualcomm in 2011) and its development of chip s
 ets for WiFi\, Bluetooth and other OFDM (Orthogonal Frequency-Division Mul
 tiplexing) technologies. That will lead us into a brief discussion of WiFi
  – one of the most successful IEEE standards (802.11) – and Bluetooth\
 , along with the associated semiconductor and equipment companies that dev
 eloped those ubiquitous technologies.\n\nFinally\, we will turn to Google
 ’s history\, particularly its research activities. As a Google Board mem
 ber for more than two decades\, Prof. Hennessy has played a role in helpin
 g develop Google&#39;s strategic direction. With the current pervasiveness of 
 AI\, what does that hold for the future of science\, technology and higher
  education?\n\nThis will be both an in person event at SCU and also an onl
 ine virtual event with zoom. Pre registration is required for the in-perso
 n event.\n\nParking at SCU Note: Parking is free for only 2 hours\n\nLink:
  [SCU Parking Info](https://www.scu.edu/parking-and-transportation-service
 s/parking-services/visitor-parking/)\n\nSpeaker(s): John\, Alan\, Tom\n\nA
 genda: \n5:00 - 5:25 pm	Registration and Networking\n5:30 - 6:15 pm	Conver
 sation with Prof Hennessy about RISC applications\, evolution of DSAs/GPUs
 \, WiFi\, BlueTooth\, Google&#39;s Moon Shot projects\, current status &amp; futur
 e of AI.\n6:15 - 6:25 pm	Conversation with 2024 IEEE President Tom Coughli
 n to discuss how to revitalize and strengthen IEEE.\n6:25 - 6:55 pm	Audien
 ce Q &amp; A\n6:55 - 7:00 pm	Closing Remarks\n\nBldg: Locatelli Student Activi
 ty Center\, 500 El Camino Real\, Santa Clara\, California\, United States\
 , 95053\, Virtual: https://events.vtools.ieee.org/m/496561
LOCATION:Bldg: Locatelli Student Activity Center\, 500 El Camino Real\, San
 ta Clara\, California\, United States\, 95053\, Virtual: https://events.vt
 ools.ieee.org/m/496561
ORGANIZER:pawlan@ieee.org
SEQUENCE:306
SUMMARY:A Recent History of Silicon Valley Technologies and Companies
URL;VALUE=URI:https://events.vtools.ieee.org/m/496561
X-ALT-DESC:Description: &lt;br /&gt;&lt;p class=&quot;MsoNormal&quot; style=&quot;line-height: norm
 al\; background: white\; margin: 0in 0in 0in .5in\;&quot;&gt;&lt;span style=&quot;font-siz
 e: 12pt\; font-family: arial\, helvetica\, sans-serif\;&quot;&gt;&lt;strong&gt;Professor
  John Hennessy\, past President of Stanford University (2000-2016) and Cha
 irman of Alphabet Inc.&lt;/strong&gt; will be in conversation with &lt;strong&gt;Alan 
 J Weissberger of the IEEE Technology blog&lt;/strong&gt;. This talk will be abou
 t the history of technologies and companies in Silicon Valley since the la
 te 1970s.&amp;nbsp\;&lt;/span&gt;&lt;/p&gt;\n&lt;p class=&quot;MsoNormal&quot; style=&quot;line-height: norm
 al\; background: white\; margin: 0in 0in 0in .5in\;&quot;&gt;&lt;span lang=&quot;EN&quot; style
 =&quot;font-size: 12.0pt\; font-family: &#39;Arial&#39;\,sans-serif\; mso-fareast-font-
 family: Arial\; color: #222222\;&quot;&gt;&amp;nbsp\;&lt;/span&gt;&lt;/p&gt;\n&lt;p class=&quot;MsoNormal&quot;
  style=&quot;line-height: normal\; background: white\; margin: 0in 0in 0in .5in
 \;&quot;&gt;&lt;span lang=&quot;EN&quot; style=&quot;font-size: 12.0pt\; font-family: &#39;Arial&#39;\,sans-
 serif\; mso-fareast-font-family: Arial\; color: #222222\;&quot;&gt;Later in the pr
 ogram they will be joined on stage by &lt;strong style=&quot;mso-bidi-font-weight:
  normal\;&quot;&gt;IEEE past President &lt;/strong&gt;&lt;/span&gt;&lt;span lang=&quot;EN&quot; style=&quot;colo
 r: black\; mso-color-alt: windowtext\;&quot;&gt;&lt;a href=&quot;https://iwrc.ieeeusa.org/
 blog/portfolio-items/thomas-coughlin/&quot;&gt;&lt;strong style=&quot;mso-bidi-font-weight
 : normal\;&quot;&gt;&lt;span style=&quot;font-size: 12.0pt\; font-family: &#39;Arial&#39;\,sans-se
 rif\; mso-fareast-font-family: Arial\; color: #0563c1\;&quot;&gt;Tom Coughlin&lt;/spa
 n&gt;&lt;/strong&gt;&lt;/a&gt;&lt;/span&gt;&lt;strong style=&quot;mso-bidi-font-weight: normal\;&quot;&gt;&lt;span
  lang=&quot;EN&quot; style=&quot;font-size: 12.0pt\; font-family: &#39;Arial&#39;\,sans-serif\; m
 so-fareast-font-family: Arial\; color: #222222\;&quot;&gt; &lt;/span&gt;&lt;/strong&gt;&lt;span l
 ang=&quot;EN&quot; style=&quot;font-size: 12.0pt\; font-family: &#39;Arial&#39;\,sans-serif\; mso
 -fareast-font-family: Arial\; color: #222222\;&quot;&gt;to discuss recent IEEE acc
 omplishments\, current focus areas and suggestions on how to strengthen th
 e world&amp;rsquo\;s largest technology non-profit organization.&lt;/span&gt;&lt;/p&gt;\n&lt;
 p class=&quot;MsoNormal&quot; style=&quot;line-height: normal\; background: white\; margi
 n: 0in 0in 0in .5in\;&quot;&gt;&lt;span lang=&quot;EN&quot; style=&quot;font-size: 12.0pt\; font-fam
 ily: &#39;Arial&#39;\,sans-serif\; mso-fareast-font-family: Arial\; color: #222222
 \;&quot;&gt;&amp;nbsp\;&lt;/span&gt;&lt;/p&gt;\n&lt;p class=&quot;MsoNormal&quot; style=&quot;line-height: normal\; 
 background: white\; margin: 0in 0in 0in .5in\;&quot;&gt;&lt;span lang=&quot;EN&quot; style=&quot;fon
 t-size: 12.0pt\; font-family: &#39;Arial&#39;\,sans-serif\; mso-fareast-font-famil
 y: Arial\; color: #222222\;&quot;&gt;Our conversation will cover the evolution of 
 &lt;strong style=&quot;mso-bidi-font-weight: normal\;&quot;&gt;RISC &lt;/strong&gt;(Reduced Inst
 ruction Set Computing) and its applications in smart phones\, tablets and 
 other devices. We will discuss the evolution of GPUs\, the computational d
 emands of machine learning\, and the emergence of domain-specific architec
 tures (DSAs). &lt;/span&gt;&lt;/p&gt;\n&lt;p class=&quot;MsoNormal&quot; style=&quot;line-height: normal
 \; background: white\; margin: 0in 0in 0in .5in\;&quot;&gt;&amp;nbsp\;&lt;/p&gt;\n&lt;p class=&quot;
 MsoNormal&quot; style=&quot;line-height: normal\; background: white\; margin: 0in 0i
 n 0in .5in\;&quot;&gt;&lt;span lang=&quot;EN&quot; style=&quot;font-size: 12.0pt\; font-family: &#39;Ari
 al&#39;\,sans-serif\; mso-fareast-font-family: Arial\; color: #222222\;&quot;&gt;We wi
 ll also discuss the founding of&lt;strong&gt; Atheros Communications&lt;/strong&gt; (a
 cquired by Qualcomm in 2011) and its development of chip sets for WiFi\, B
 luetooth and other OFDM (Orthogonal Frequency-Division Multiplexing) techn
 ologies. That will lead us into a brief discussion of&lt;strong&gt; WiFi&lt;/strong
 &gt; &amp;ndash\; one of the most successful IEEE standards (802.11) &amp;ndash\; and
  &lt;strong&gt;Bluetooth&lt;/strong&gt;\, along with the associated semiconductor and 
 equipment companies that developed those ubiquitous technologies.&lt;/span&gt;&lt;/
 p&gt;\n&lt;p class=&quot;MsoNormal&quot; style=&quot;line-height: normal\; background: white\; 
 margin: 0in 0in 0in .5in\;&quot;&gt;&lt;span lang=&quot;EN&quot; style=&quot;font-size: 12.0pt\; fon
 t-family: &#39;Arial&#39;\,sans-serif\; mso-fareast-font-family: Arial\; color: #2
 22222\;&quot;&gt;&amp;nbsp\;&lt;/span&gt;&lt;/p&gt;\n&lt;p class=&quot;MsoNormal&quot; style=&quot;line-height: norm
 al\; background: white\; margin: 0in 0in 0in .5in\;&quot;&gt;&lt;span lang=&quot;EN&quot; style
 =&quot;font-size: 12.0pt\; font-family: &#39;Arial&#39;\,sans-serif\; mso-fareast-font-
 family: Arial\; color: #222222\;&quot;&gt;Finally\, we will turn to&amp;nbsp\;&lt;strong 
 style=&quot;mso-bidi-font-weight: normal\;&quot;&gt;Google&amp;rsquo\;s history&lt;/strong&gt;\, 
 particularly its research activities. As a &lt;strong style=&quot;mso-bidi-font-we
 ight: normal\;&quot;&gt;Google Board &lt;/strong&gt;member for more than two decades\, P
 rof. Hennessy has played a role in helping develop Google&#39;s strategic dire
 ction.&lt;span style=&quot;mso-spacerun: yes\;&quot;&gt;&amp;nbsp\; &lt;/span&gt;With the current pe
 rvasiveness of AI\, what does that hold for the future of science\, techno
 logy and higher education?&lt;/span&gt;&lt;/p&gt;\n&lt;p class=&quot;MsoNormal&quot; style=&quot;line-he
 ight: normal\; background: white\; margin: 0in 0in 0in .5in\;&quot;&gt;&amp;nbsp\;&lt;/p&gt;
 \n&lt;p class=&quot;MsoNormal&quot; style=&quot;line-height: normal\; background: white\; ma
 rgin: 0in 0in 0in .5in\;&quot;&gt;&lt;span style=&quot;font-family: arial\, helvetica\, sa
 ns-serif\; font-size: 14pt\;&quot;&gt;&lt;strong&gt;This will be both an in person event
  at SCU and also an online virtual event with zoom.&amp;nbsp\; Pre registratio
 n is required for the in-person event.&lt;/strong&gt;&lt;/span&gt;&lt;/p&gt;\n&lt;p class=&quot;MsoN
 ormal&quot; style=&quot;line-height: normal\; background: white\; margin: 0in 0in 0i
 n .5in\;&quot;&gt;&amp;nbsp\;&lt;/p&gt;\n&lt;p class=&quot;MsoNormal&quot; style=&quot;line-height: normal\; b
 ackground: white\; margin: 0in 0in 0in .5in\;&quot;&gt;&lt;span style=&quot;font-size: 14p
 t\;&quot;&gt;&lt;strong&gt;&lt;span lang=&quot;EN&quot; style=&quot;font-family: &#39;Arial&#39;\, sans-serif\; co
 lor: rgb(34\, 34\, 34)\;&quot;&gt;Parking at SCU&amp;nbsp\; &amp;nbsp\; &amp;nbsp\; &amp;nbsp\;&lt;/s
 pan&gt;&lt;/strong&gt;&lt;/span&gt;&lt;span style=&quot;font-family: arial\, helvetica\, sans-ser
 if\; font-size: 14pt\;&quot;&gt;&lt;strong&gt;&lt;span style=&quot;color: rgb(0\, 0\, 0)\;&quot;&gt;Note
 : Parking is free for only 2 hours&lt;/span&gt;&lt;/strong&gt;&lt;/span&gt;&lt;/p&gt;\n&lt;p class=&quot;M
 soNormal&quot; style=&quot;line-height: normal\; background: white\; margin: 0in 0in
  0in .5in\;&quot;&gt;&lt;span lang=&quot;EN&quot; style=&quot;font-size: 14pt\; font-family: &#39;Arial&#39;
 \, sans-serif\; color: rgb(34\, 34\, 34)\;&quot;&gt;Link: &lt;/span&gt;&lt;span lang=&quot;EN&quot; s
 tyle=&quot;font-size: 14pt\; font-family: &#39;Arial&#39;\, sans-serif\; color: rgb(34\
 , 34\, 34)\;&quot;&gt;&lt;a href=&quot;https://www.scu.edu/parking-and-transportation-serv
 ices/parking-services/visitor-parking/&quot;&gt;SCU Parking Info&lt;/a&gt;&lt;/span&gt;&lt;/p&gt;&lt;br
  /&gt;&lt;br /&gt;Agenda: &lt;br /&gt;&lt;table style=&quot;border-collapse: collapse\; width: 70
 .3019%\; height: 123.953px\;&quot; border=&quot;1&quot;&gt;&lt;colgroup&gt;&lt;col style=&quot;width: 19.9
 671%\;&quot;&gt;&lt;col style=&quot;width: 80.0329%\;&quot;&gt;&lt;/colgroup&gt;\n&lt;tbody&gt;\n&lt;tr style=&quot;he
 ight: 22.3906px\;&quot;&gt;\n&lt;td style=&quot;height: 22.3906px\;&quot;&gt;5:00 - 5:25 pm&lt;/td&gt;\n
 &lt;td style=&quot;height: 22.3906px\;&quot;&gt;Registration and Networking&lt;/td&gt;\n&lt;/tr&gt;\n&lt;
 tr style=&quot;height: 22.3906px\;&quot;&gt;\n&lt;td style=&quot;height: 22.3906px\;&quot;&gt;5:30 - 6:
 15 pm&lt;/td&gt;\n&lt;td style=&quot;height: 22.3906px\;&quot;&gt;Conversation with Prof Henness
 y about RISC applications\, evolution of DSAs/GPUs\, WiFi\, BlueTooth\, Go
 ogle&#39;s Moon Shot projects\, current status &amp;amp\; future of AI.&lt;/td&gt;\n&lt;/tr
 &gt;\n&lt;tr style=&quot;height: 22.3906px\;&quot;&gt;\n&lt;td style=&quot;height: 22.3906px\;&quot;&gt;6:15 
 - 6:25 pm&lt;/td&gt;\n&lt;td style=&quot;height: 22.3906px\;&quot;&gt;Conversation with 2024 IEE
 E President Tom Coughlin to discuss how to revitalize and strengthen IEEE.
 &lt;/td&gt;\n&lt;/tr&gt;\n&lt;tr style=&quot;height: 22.3906px\;&quot;&gt;\n&lt;td style=&quot;height: 22.3906
 px\;&quot;&gt;6:25 - 6:55 pm&lt;/td&gt;\n&lt;td style=&quot;height: 22.3906px\;&quot;&gt;Audience Q &amp;amp
 \; A&lt;/td&gt;\n&lt;/tr&gt;\n&lt;tr&gt;\n&lt;td&gt;6:55 - 7:00 pm&lt;/td&gt;\n&lt;td&gt;Closing Remarks&lt;/td&gt;\
 n&lt;/tr&gt;\n&lt;/tbody&gt;\n&lt;/table&gt;\n&lt;p class=&quot;MsoNormal&quot; style=&quot;mso-margin-top-alt
 : auto\; mso-margin-bottom-alt: auto\;&quot;&gt;&amp;nbsp\;&lt;/p&gt;\n&lt;p class=&quot;MsoNormal&quot; 
 style=&quot;mso-margin-top-alt: auto\; mso-margin-bottom-alt: auto\;&quot;&gt;&amp;nbsp\;&lt;/
 p&gt;\n&lt;p class=&quot;MsoNormal&quot; style=&quot;mso-margin-top-alt: auto\; mso-margin-bott
 om-alt: auto\;&quot;&gt;&amp;nbsp\;&lt;/p&gt;\n&lt;p class=&quot;MsoNormal&quot; style=&quot;mso-margin-top-al
 t: auto\; mso-margin-bottom-alt: auto\;&quot;&gt;&amp;nbsp\;&lt;/p&gt;\n&lt;p class=&quot;MsoNormal&quot;
  style=&quot;mso-margin-top-alt: auto\; mso-margin-bottom-alt: auto\;&quot;&gt;&amp;nbsp\;&lt;
 /p&gt;\n&lt;p class=&quot;MsoNormal&quot; style=&quot;mso-margin-top-alt: auto\; mso-margin-bot
 tom-alt: auto\;&quot;&gt;&amp;nbsp\;&lt;/p&gt;
END:VEVENT
END:VCALENDAR

