BEGIN:VCALENDAR
VERSION:2.0
PRODID:IEEE vTools.Events//EN
CALSCALE:GREGORIAN
BEGIN:VTIMEZONE
TZID:Africa/Algiers
BEGIN:STANDARD
DTSTART:19810501T010000
TZOFFSETFROM:+0000
TZOFFSETTO:+0100
TZNAME:CET
END:STANDARD
END:VTIMEZONE
BEGIN:VEVENT
DTSTAMP:20250813T132044Z
UID:D0347157-7D13-4870-805A-D594564FC5F9
DTSTART;TZID=Africa/Algiers:20250726T100000
DTEND;TZID=Africa/Algiers:20250726T120000
DESCRIPTION:ElectroRural: Sparking STEM Interest through Basic Electronics 
 in Rural Nigerian Schools\nThis outreach program will take place at Bishop
  Crowther Seminary School\, Awka\, Anambra State\, Nigeria\, and will intr
 oduce students to the fundamentals of electronics through interactive\, ha
 nds-on workshops. Participants will learn to identify basic electronic com
 ponents\, build simple circuits\, and understand how electronics power eve
 ryday devices. The initiative will aim to ignite curiosity\, promote probl
 em-solving skills\, and inspire students to consider future careers in STE
 M fields. By providing practical exposure and mentorship\, ElectroRural wi
 ll bridge the gap between classroom theory and real-world applications\, f
 ostering innovation and self-confidence among rural youth.\n\nCo-sponsored
  by: IEEE Region 8 Acceleration program\n\nSpeaker(s): Gabriel\, Engr. San
 dra\n\nAgenda: \n-\nArrival and registration of participants\n\n-\nWelcome
  address and program overview\n\n-\nIntroduction to electronics: Basic con
 cepts\, importance\, and applications\n\n-\nIdentifying electronic compone
 nts: Resistors\, capacitors\, LEDs\, batteries\, sensors\, etc.\n\n-\nTea 
 break\n\n-\nHands-on session 1: Building a simple LED circuit\n\n-\nHands-
 on session 2: Understanding and creating series and parallel circuits\n\n-
 \nHands-on session 3: Building a simple water detector using a sensor\n\n-
 \nSTEM careers talk: Opportunities in electronics and engineering\n\n-\nCl
 osing remarks\, group photo\, and departure\n\nBldg: ICT room\, Bishop Cro
 wther Seminary School\, Awka\, Anambra State\, Nigeria\, Awka\, Anambra\, 
 Nigeria
LOCATION:Bldg: ICT room\, Bishop Crowther Seminary School\, Awka\, Anambra 
 State\, Nigeria\, Awka\, Anambra\, Nigeria
ORGANIZER:td.ekwunife@unizik.edu.ng
SEQUENCE:49
SUMMARY:ElectroRural: Sparking STEM Interest through Basic Electronics in R
 ural Nigerian Schools
URL;VALUE=URI:https://events.vtools.ieee.org/m/496768
X-ALT-DESC:Description: &lt;br /&gt;&lt;p&gt;&lt;strong data-start=&quot;68&quot; data-end=&quot;160&quot;&gt;Ele
 ctroRural: Sparking STEM Interest through Basic Electronics in Rural Niger
 ian Schools&lt;/strong&gt;&lt;br data-start=&quot;160&quot; data-end=&quot;163&quot;&gt;This outreach prog
 ram will take place at &lt;strong data-start=&quot;204&quot; data-end=&quot;269&quot;&gt;Bishop Crow
 ther Seminary School\, Awka\, Anambra State\, Nigeria&lt;/strong&gt;\, and will 
 introduce students to the fundamentals of electronics through interactive\
 , hands-on workshops. Participants will learn to identify basic electronic
  components\, build simple circuits\, and understand how electronics power
  everyday devices. The initiative will aim to ignite curiosity\, promote p
 roblem-solving skills\, and inspire students to consider future careers in
  STEM fields. By providing practical exposure and mentorship\, ElectroRura
 l will bridge the gap between classroom theory and real-world applications
 \, fostering innovation and self-confidence among rural youth.&lt;/p&gt;&lt;br /&gt;&lt;b
 r /&gt;Agenda: &lt;br /&gt;&lt;ul&gt;\n&lt;li data-start=&quot;176&quot; data-end=&quot;220&quot;&gt;\n&lt;p data-star
 t=&quot;178&quot; data-end=&quot;220&quot;&gt;Arrival and registration of participants&lt;/p&gt;\n&lt;/li&gt;
 \n&lt;li data-start=&quot;221&quot; data-end=&quot;261&quot;&gt;\n&lt;p data-start=&quot;223&quot; data-end=&quot;261&quot;
 &gt;Welcome address and program overview&lt;/p&gt;\n&lt;/li&gt;\n&lt;li data-start=&quot;262&quot; dat
 a-end=&quot;339&quot;&gt;\n&lt;p data-start=&quot;264&quot; data-end=&quot;339&quot;&gt;Introduction to electroni
 cs: Basic concepts\, importance\, and applications&lt;/p&gt;\n&lt;/li&gt;\n&lt;li data-st
 art=&quot;340&quot; data-end=&quot;432&quot;&gt;\n&lt;p data-start=&quot;342&quot; data-end=&quot;432&quot;&gt;Identifying 
 electronic components: Resistors\, capacitors\, LEDs\, batteries\, sensors
 \, etc.&lt;/p&gt;\n&lt;/li&gt;\n&lt;li data-start=&quot;433&quot; data-end=&quot;446&quot;&gt;\n&lt;p data-start=&quot;4
 35&quot; data-end=&quot;446&quot;&gt;Tea break&lt;/p&gt;\n&lt;/li&gt;\n&lt;li data-start=&quot;447&quot; data-end=&quot;50
 0&quot;&gt;\n&lt;p data-start=&quot;449&quot; data-end=&quot;500&quot;&gt;Hands-on session 1: Building a sim
 ple LED circuit&lt;/p&gt;\n&lt;/li&gt;\n&lt;li data-start=&quot;501&quot; data-end=&quot;580&quot;&gt;\n&lt;p data-
 start=&quot;503&quot; data-end=&quot;580&quot;&gt;Hands-on session 2: Understanding and creating 
 series and parallel circuits&lt;/p&gt;\n&lt;/li&gt;\n&lt;li data-start=&quot;581&quot; data-end=&quot;65
 2&quot;&gt;\n&lt;p data-start=&quot;583&quot; data-end=&quot;652&quot;&gt;Hands-on session 3: Building a sim
 ple water detector using a sensor&lt;/p&gt;\n&lt;/li&gt;\n&lt;li data-start=&quot;653&quot; data-en
 d=&quot;720&quot;&gt;\n&lt;p data-start=&quot;655&quot; data-end=&quot;720&quot;&gt;STEM careers talk: Opportunit
 ies in electronics and engineering&lt;/p&gt;\n&lt;/li&gt;\n&lt;li data-start=&quot;721&quot; data-e
 nd=&quot;768&quot; data-is-last-node=&quot;&quot;&gt;\n&lt;p data-start=&quot;723&quot; data-end=&quot;768&quot; data-is
 -last-node=&quot;&quot;&gt;Closing remarks\, group photo\, and departure&lt;/p&gt;\n&lt;/li&gt;\n&lt;/
 ul&gt;
END:VEVENT
END:VCALENDAR

