BEGIN:VCALENDAR
VERSION:2.0
PRODID:IEEE vTools.Events//EN
CALSCALE:GREGORIAN
BEGIN:VTIMEZONE
TZID:America/New_York
BEGIN:DAYLIGHT
DTSTART:20250309T030000
TZOFFSETFROM:-0500
TZOFFSETTO:-0400
RRULE:FREQ=YEARLY;BYDAY=2SU;BYMONTH=3
TZNAME:EDT
END:DAYLIGHT
BEGIN:STANDARD
DTSTART:20251102T010000
TZOFFSETFROM:-0400
TZOFFSETTO:-0500
RRULE:FREQ=YEARLY;BYDAY=1SU;BYMONTH=11
TZNAME:EST
END:STANDARD
END:VTIMEZONE
BEGIN:VEVENT
DTSTAMP:20250822T125810Z
UID:C0976554-2908-463E-9EA1-1262A727265C
DTSTART;TZID=America/New_York:20250821T110000
DTEND;TZID=America/New_York:20250821T120000
DESCRIPTION:REGION-3 &amp; AREA-3 LIFE MEMBERS AWARD PRESENTATION\n\nPLANNING M
 EETING\n\nCo-sponsored by: Vince Socci    socci@ieee.org    607-768-2647\n
 \nAgenda: \n11:00 AM  SIGN IN\n\n11:05 AM WELCOME &amp; iNFORMATION\n\n11:10 A
 M AWARDS EVENT Q &amp; A\n\n12:00 AM CONCLUSION\n\nVirtual: https://events.vto
 ols.ieee.org/m/496787
LOCATION:Virtual: https://events.vtools.ieee.org/m/496787
ORGANIZER:rortega@nuvosource.com
SEQUENCE:36
SUMMARY:IEEE R3/Area3 LIFE MEMBER REGIONAL AWARD PLANNING MEETING
URL;VALUE=URI:https://events.vtools.ieee.org/m/496787
X-ALT-DESC:Description: &lt;br /&gt;&lt;p style=&quot;text-align: center\;&quot;&gt;&lt;span style=&quot;
 color: #e03e2d\;&quot;&gt;&lt;span style=&quot;font-size: 18.6667px\;&quot;&gt;&lt;strong&gt;REGION-3 &amp;a
 mp\; AREA-3 LIFE MEMBERS AWARD PRESENTATION&lt;/strong&gt;&lt;/span&gt;&lt;/span&gt;&lt;/p&gt;\n&lt;p
  style=&quot;text-align: center\;&quot;&gt;&lt;span style=&quot;color: #e03e2d\;&quot;&gt;&lt;span style=&quot;
 font-size: 18.6667px\;&quot;&gt;&lt;strong&gt;PLANNING MEETING&lt;/strong&gt;&lt;/span&gt;&lt;/span&gt;&lt;/p
 &gt;&lt;br /&gt;&lt;br /&gt;Agenda: &lt;br /&gt;&lt;p class=&quot;MsoNormal&quot; style=&quot;text-indent: 35.45p
 t\;&quot;&gt;&lt;span style=&quot;color: rgb(35\, 111\, 161)\; font-size: 12pt\; font-fami
 ly: &#39;times new roman&#39;\, times\, serif\;&quot;&gt;&lt;strong&gt;&lt;span style=&quot;color: rgb(2
 24\, 62\, 45)\;&quot;&gt;&lt;span style=&quot;color: rgb(35\, 111\, 161)\;&quot;&gt;11:00 AM&lt;/span
 &gt;&amp;nbsp\; &amp;nbsp\; &amp;nbsp\;&lt;/span&gt;&amp;nbsp\; &amp;nbsp\; &amp;nbsp\; SIGN IN&lt;/strong&gt;&lt;/s
 pan&gt;&lt;/p&gt;\n&lt;p class=&quot;MsoNormal&quot; style=&quot;text-indent: 35.45pt\;&quot;&gt;&lt;span style=
 &quot;color: rgb(35\, 111\, 161)\; font-size: 12pt\; font-family: &#39;times new ro
 man&#39;\, times\, serif\;&quot;&gt;&lt;strong&gt;11:05 AM&amp;nbsp\; &amp;nbsp\; &amp;nbsp\; &amp;nbsp\; &amp;n
 bsp\; &amp;nbsp\;WELCOME &amp;amp\; iNFORMATION&lt;/strong&gt;&lt;/span&gt;&lt;/p&gt;\n&lt;p class=&quot;Mso
 Normal&quot; style=&quot;text-indent: 35.45pt\;&quot;&gt;&lt;span style=&quot;color: rgb(35\, 111\, 
 161)\; font-size: 12pt\; font-family: &#39;times new roman&#39;\, times\, serif\;&quot;
 &gt;&lt;strong&gt;11:10 AM&amp;nbsp\; &amp;nbsp\; &amp;nbsp\; &amp;nbsp\; &amp;nbsp\; &amp;nbsp\;AWARDS EVE
 NT Q &amp;amp\; A&lt;/strong&gt;&lt;/span&gt;&lt;/p&gt;\n&lt;p class=&quot;MsoNormal&quot; style=&quot;text-indent
 : 35.45pt\;&quot;&gt;&lt;span style=&quot;color: rgb(35\, 111\, 161)\; font-size: 12pt\; f
 ont-family: &#39;times new roman&#39;\, times\, serif\;&quot;&gt;&lt;strong&gt;12:00 AM&amp;nbsp\; &amp;
 nbsp\; &amp;nbsp\; &amp;nbsp\; &amp;nbsp\; &amp;nbsp\;CONCLUSION&lt;/strong&gt;&lt;/span&gt;&lt;/p&gt;\n&lt;p c
 lass=&quot;MsoNormal&quot; style=&quot;text-indent: .5in\;&quot;&gt;&amp;nbsp\;&lt;/p&gt;
END:VEVENT
END:VCALENDAR

