BEGIN:VCALENDAR
VERSION:2.0
PRODID:IEEE vTools.Events//EN
CALSCALE:GREGORIAN
BEGIN:VTIMEZONE
TZID:America/Los_Angeles
BEGIN:DAYLIGHT
DTSTART:20250309T030000
TZOFFSETFROM:-0800
TZOFFSETTO:-0700
RRULE:FREQ=YEARLY;BYDAY=2SU;BYMONTH=3
TZNAME:PDT
END:DAYLIGHT
BEGIN:STANDARD
DTSTART:20251102T010000
TZOFFSETFROM:-0700
TZOFFSETTO:-0800
RRULE:FREQ=YEARLY;BYDAY=1SU;BYMONTH=11
TZNAME:PST
END:STANDARD
END:VTIMEZONE
BEGIN:VEVENT
DTSTAMP:20250823T171057Z
UID:4970C7CE-D6E9-4FA5-BED2-6AA2F81E5F53
DTSTART;TZID=America/Los_Angeles:20250821T180000
DTEND;TZID=America/Los_Angeles:20250821T200000
DESCRIPTION:Less Stress? Less Turnover? Better Team Performance?\n\nHigher 
 Morale? Sense of Fulfillment?\n\nHow about All of the Above?\n\nEngineers 
 and software developers tell me that they would like to have less stressfu
 l workplaces. Leaders tell me that they would like to have higher performi
 ng teams. Executives and HR professionals tell me that the costs related t
 o high turnover are astronomical. Colleagues and friends tell me that they
  are burned out and have little sense of fulfillment at work\, maybe at ho
 me too.\n\nThat’s the bad news.\n\nBut the good news is that it is possi
 ble to turn that around\, yes\, all of it\, with one single cultural shift
 . One magic bullet. I know. I’ve watched it happen.\n\nWhat is that cult
 ural shift\, that magic bullet\, and how can you get it? Kind of like aski
 ng\, “Where is that ice cream\, and how can I get it?”\n\nJoin us for 
 an entertaining and insight-provoking experience\, maybe one that will cha
 nge your life!\n\n[]\n\nLeslie Martinich\, a computer science pioneer\, wr
 ote a natural language interface (in 1985) to her company&#39;s financial plan
 ning system\, designed algorithms for distributed and parallel processing 
 in order to enable AI (in 1988)\, wrote operating systems\, APIs\, and adv
 anced communication software\, and led her team to deliver the first comme
 rcial version of Remote Procedure Calls (RPC). Her early work in Artificia
 l Intelligence laid the groundwork for today&#39;s breakthroughs and provided 
 her with a deep understanding of how to create successful innovations.\n\n
 In the middle of her career\, she made a pivotal realization: project fail
 ures weren&#39;t due to technical hurdles\, but rather rooted in managerial an
 d leadership challenges. Determined to rectify this deficiency\, she built
  leadership programs which she has presented across 6 continents (sorry\, 
 Antarctica!)\, focused on innovation and preparing effective leaders. 70% 
 of participants in her year-long leadership development program have advan
 ced their careers to the VP or C-Suite level.\n\nLeslie peppers her talks 
 with stories from her career\, real stories\, hilarious stories\, that dev
 elopers relate to. She engages the audience with activities that they&#39;ll r
 emember.\n\nShe cares deeply about the careers of her colleagues and frien
 ds\; that’s why she helps leaders learn how to improve their skills in e
 ngagement\, communication\, and trust\, so that her colleagues and friends
  can have more fulfilling\, more productive\, and less stressful careers. 
 Engaged\, trusted leaders inspire teams\, reduce turnover\, deliver\, and 
 drive towards excellence in quality.\n\nShe has been a leader within IEEE\
 , serving as the Central Texas Section Chair\, selected as the 2012 IEEE-U
 SA Congressional Fellow for Science and Technology Policy\, serving on the
  IEEE Awards Board\, serving as the VP of Publications for the Technology 
 and Engineering Management Society (TEMS)\, and being a Distinguished Lect
 urer\, as well as many more volunteer roles.\n\nVirtual: https://events.vt
 ools.ieee.org/m/496846
LOCATION:Virtual: https://events.vtools.ieee.org/m/496846
ORGANIZER:amritesh557@ieee.org
SEQUENCE:30
SUMMARY:The Care and Feeding of High-Performance Teams
URL;VALUE=URI:https://events.vtools.ieee.org/m/496846
X-ALT-DESC:Description: &lt;br /&gt;&lt;p class=&quot;MsoNormal&quot; style=&quot;text-align: left\
 ;&quot; align=&quot;center&quot;&gt;&lt;strong&gt;&lt;span style=&quot;font-size: 14.0pt\;&quot;&gt;Less Stress? L
 ess Turnover? Better Team Performance?&lt;/span&gt;&lt;/strong&gt;&lt;/p&gt;\n&lt;p class=&quot;MsoN
 ormal&quot; style=&quot;text-align: left\;&quot; align=&quot;center&quot;&gt;&lt;strong&gt;&lt;span style=&quot;font
 -size: 14.0pt\;&quot;&gt;Higher Morale? Sense of Fulfillment?&lt;/span&gt;&lt;/strong&gt;&lt;/p&gt;\
 n&lt;p class=&quot;MsoNormal&quot; style=&quot;text-align: left\;&quot; align=&quot;center&quot;&gt;&lt;strong&gt;&lt;s
 pan style=&quot;font-size: 14.0pt\;&quot;&gt;How about All of the Above?&lt;/span&gt;&lt;/strong
 &gt;&lt;/p&gt;\n&lt;p&gt;Engineers and software developers tell me that they would like t
 o have less stressful workplaces.&amp;nbsp\; Leaders tell me that they would l
 ike to have higher performing teams.&amp;nbsp\; Executives and HR professional
 s tell me that the costs related to high turnover are astronomical.&amp;nbsp\;
  Colleagues and friends tell me that they are burned out and have little s
 ense of fulfillment at work\, maybe at home too.&lt;/p&gt;\n&lt;p&gt;That&amp;rsquo\;s the
  bad news.&amp;nbsp\;&lt;/p&gt;\n&lt;p&gt;But the good news is that it is possible to turn
  that around\, yes\, all of it\, with one single cultural shift.&amp;nbsp\; On
 e magic bullet. I know. I&amp;rsquo\;ve watched it happen.&lt;/p&gt;\n&lt;p&gt;What is tha
 t cultural shift\, that magic bullet\, and how can you get it?&amp;nbsp\; Kind
  of like asking\, &amp;ldquo\;Where is that ice cream\, and how can I get it?&amp;
 rdquo\;&lt;/p&gt;\n&lt;p&gt;Join us for an entertaining and insight-provoking experien
 ce\, maybe one that will change your life!&lt;/p&gt;\n&lt;p class=&quot;MsoNormal&quot;&gt;&lt;img 
 src=&quot;https://events.vtools.ieee.org/vtools_ui/media/display/42c81339-8dff-
 4d8d-b939-d95ed259bb9f&quot; alt=&quot;&quot; width=&quot;1080&quot; height=&quot;1080&quot;&gt;&lt;/p&gt;\n&lt;p class=&quot;
 MsoNormal&quot;&gt;&amp;nbsp\;&lt;/p&gt;\n&lt;p&gt;&lt;em&gt;Leslie Martinich\, a computer science pione
 er\,&amp;nbsp\; wrote a natural language interface (in 1985) to her company&#39;s 
 financial planning system\, designed algorithms for distributed and parall
 el processing in order to enable AI (in 1988)\,&amp;nbsp\; wrote operating sys
 tems\, APIs\, and advanced communication software\, and led her team to de
 liver the first commercial version of Remote Procedure Calls (RPC). Her ea
 rly work in Artificial Intelligence laid the groundwork for today&#39;s breakt
 hroughs and provided her with a deep understanding of how to create succes
 sful innovations.&lt;/em&gt;&lt;/p&gt;\n&lt;p&gt;&lt;em&gt;In the middle of her career\, she made 
 a pivotal realization: project failures weren&#39;t due to technical hurdles\,
  but rather rooted in managerial and leadership challenges. Determined to 
 rectify this deficiency\, she built leadership programs which she has pres
 ented across 6 continents (sorry\, Antarctica!)\, focused on innovation an
 d preparing effective leaders.&amp;nbsp\; 70% of participants in her year-long
  leadership development program have advanced their careers to the VP or C
 -Suite level.&lt;/em&gt;&lt;/p&gt;\n&lt;p&gt;&lt;em&gt;Leslie peppers her talks with stories from 
 her career\, real stories\, hilarious stories\, that developers relate to.
 &amp;nbsp\; She engages the audience with activities that they&#39;ll remember.&amp;nb
 sp\;&lt;/em&gt;&lt;/p&gt;\n&lt;p&gt;&lt;em&gt;She cares deeply about the careers of her colleagues
  and friends\; that&amp;rsquo\;s why she helps leaders learn how to improve th
 eir skills in engagement\, communication\, and trust\, so that her colleag
 ues and friends can have more fulfilling\, more productive\, and less stre
 ssful careers. Engaged\, trusted leaders inspire teams\, reduce turnover\,
  deliver\, and drive towards excellence in quality.&amp;nbsp\;&lt;/em&gt;&lt;/p&gt;\n&lt;p&gt;&lt;e
 m&gt;She has been a leader within IEEE\, serving as the Central Texas Section
  Chair\, selected as the 2012 IEEE-USA Congressional Fellow for Science an
 d Technology Policy\, serving on the IEEE Awards Board\, serving as the VP
  of Publications for the Technology and Engineering Management Society (TE
 MS)\, and being a Distinguished Lecturer\, as well as many more volunteer 
 roles.&lt;/em&gt;&lt;/p&gt;
END:VEVENT
END:VCALENDAR

