BEGIN:VCALENDAR
VERSION:2.0
PRODID:IEEE vTools.Events//EN
CALSCALE:GREGORIAN
BEGIN:VTIMEZONE
TZID:America/New_York
BEGIN:DAYLIGHT
DTSTART:20260308T030000
TZOFFSETFROM:-0500
TZOFFSETTO:-0400
RRULE:FREQ=YEARLY;BYDAY=2SU;BYMONTH=3
TZNAME:EDT
END:DAYLIGHT
BEGIN:STANDARD
DTSTART:20251102T010000
TZOFFSETFROM:-0400
TZOFFSETTO:-0500
RRULE:FREQ=YEARLY;BYDAY=1SU;BYMONTH=11
TZNAME:EST
END:STANDARD
END:VTIMEZONE
BEGIN:VEVENT
DTSTAMP:20250928T140304Z
UID:76C08141-75D9-4B18-8C2B-DA13DF47E59A
DTSTART;TZID=America/New_York:20251106T183000
DTEND;TZID=America/New_York:20251106T193000
DESCRIPTION:Monthly Team Meeting for FWCCS\n\nVirtual: https://events.vtool
 s.ieee.org/m/496919
LOCATION:Virtual: https://events.vtools.ieee.org/m/496919
ORGANIZER:antra.malhotra@ieee.org
SEQUENCE:2
SUMMARY:Monthly FWCCS Meeting
URL;VALUE=URI:https://events.vtools.ieee.org/m/496919
X-ALT-DESC:Description: &lt;br /&gt;&lt;p&gt;Monthly Team Meeting for FWCCS&lt;/p&gt;
END:VEVENT
END:VCALENDAR

