BEGIN:VCALENDAR
VERSION:2.0
PRODID:IEEE vTools.Events//EN
CALSCALE:GREGORIAN
BEGIN:VTIMEZONE
TZID:America/Chicago
BEGIN:DAYLIGHT
DTSTART:20250309T030000
TZOFFSETFROM:-0600
TZOFFSETTO:-0500
RRULE:FREQ=YEARLY;BYDAY=2SU;BYMONTH=3
TZNAME:CDT
END:DAYLIGHT
BEGIN:STANDARD
DTSTART:20251102T010000
TZOFFSETFROM:-0500
TZOFFSETTO:-0600
RRULE:FREQ=YEARLY;BYDAY=1SU;BYMONTH=11
TZNAME:CST
END:STANDARD
END:VTIMEZONE
BEGIN:VEVENT
DTSTAMP:20250920T150301Z
UID:87931AC0-12F1-4D05-8792-8BDB06E72CF9
DTSTART;TZID=America/Chicago:20250918T183000
DTEND;TZID=America/Chicago:20250918T200000
DESCRIPTION:[Joint Event IEEE CN with AOC]\n\nIndependent Minds. Collective
  Momentum.\n\nJoin us for an evening of high-impact networking with indepe
 ndent consultants in electronics\, embedded systems\, RF\, industrial auto
 mation\, software\, and power engineering. Whether you&#39;re a seasoned exper
 t or just exploring the consulting path\, this is your chance to connect\,
  collaborate\, and spark new opportunities.\n\nWhat to Expect:\n\n- Meanin
 gful conversations with peers across technical disciplines\n- Opportunitie
 s to exchange client referrals and project leads\n- A welcoming space for 
 those seeking consultants to meet trusted experts\n- Insights into local c
 onsulting trends and challenges\n\nWho Should Attend:\n\n- Independent Tec
 hnology Consultants\, Engineers\, and Technical Freelancers\n- Those consi
 dering a future in Consulting\n- Professionals or Organizations looking to
  hire Consultants in the technology space\n- Students &amp; Young Professional
 s looking to expand their networks\n\nLet’s turn shared expertise into s
 hared success — and build a stronger\, more connected consulting communi
 ty.\n\nAgenda: \n6:30pm - Introductions &amp; Open Networking\n\n8:00pm - Meet
 ing Adjourns\n\nRoom: The Bar\, Finn McCool&#39;s Irish Sports Pub\, 1941 E. A
 lgonquin Rd\, Schaumburg\, Illinois\, United States\, 60173
LOCATION:Room: The Bar\, Finn McCool&#39;s Irish Sports Pub\, 1941 E. Algonquin
  Rd\, Schaumburg\, Illinois\, United States\, 60173
ORGANIZER:rob.klein@ieee.org
SEQUENCE:439
SUMMARY:IEEE CN - Monthly Consultants&#39; Networking: Joint Meeting w/ Associa
 tion of Old Crows
URL;VALUE=URI:https://events.vtools.ieee.org/m/497107
X-ALT-DESC:Description: &lt;br /&gt;&lt;p&gt;&lt;img src=&quot;https://events.vtools.ieee.org/v
 tools_ui/media/display/70dc39f4-03be-4381-a191-c6c61e0c9331&quot; alt=&quot;Joint Ev
 ent IEEE CN with AOC&quot; width=&quot;1058&quot; height=&quot;595&quot;&gt;&lt;/p&gt;\n&lt;div class=&quot;gmail_de
 fault&quot;&gt;\n&lt;p&gt;&lt;span style=&quot;font-size: 18pt\;&quot;&gt;&lt;strong&gt;Independent Minds. Col
 lective Momentum.&lt;/strong&gt;&lt;/span&gt;&lt;/p&gt;\n&lt;p&gt;Join us for an evening of high-i
 mpact networking with independent consultants in electronics\, embedded sy
 stems\, RF\, industrial automation\, software\, and power engineering. Whe
 ther you&#39;re a seasoned expert or just exploring the consulting path\, this
  is your chance to connect\, collaborate\, and spark new opportunities.&lt;/p
 &gt;\n&lt;p&gt;What to Expect:&lt;/p&gt;\n&lt;ul&gt;\n&lt;li&gt;Meaningful conversations with peers a
 cross technical disciplines&lt;/li&gt;\n&lt;li&gt;Opportunities to exchange client ref
 errals and project leads&lt;/li&gt;\n&lt;li&gt;A welcoming space for those seeking con
 sultants to meet trusted experts&lt;/li&gt;\n&lt;li&gt;Insights into local consulting 
 trends and challenges&lt;/li&gt;\n&lt;/ul&gt;\n&lt;p&gt;Who Should Attend:&lt;/p&gt;\n&lt;ul&gt;\n&lt;li&gt;In
 dependent Technology Consultants\, Engineers\, and Technical Freelancers&lt;/
 li&gt;\n&lt;li&gt;Those considering a future in Consulting&lt;/li&gt;\n&lt;li&gt;Professionals 
 or Organizations looking to hire Consultants in the technology space&lt;/li&gt;\
 n&lt;li&gt;Students &amp;amp\; Young Professionals looking to expand their networks&lt;
 /li&gt;\n&lt;/ul&gt;\n&lt;p&gt;Let&amp;rsquo\;s turn shared expertise into shared success &amp;md
 ash\; and build a stronger\, more connected consulting community.&lt;/p&gt;\n&lt;/d
 iv&gt;&lt;br /&gt;&lt;br /&gt;Agenda: &lt;br /&gt;&lt;p&gt;6:30pm - Introductions &amp;amp\;&amp;nbsp\;Open N
 etworking&lt;/p&gt;\n&lt;p&gt;8:00pm - Meeting Adjourns&lt;/p&gt;
END:VEVENT
END:VCALENDAR

