BEGIN:VCALENDAR
VERSION:2.0
PRODID:IEEE vTools.Events//EN
CALSCALE:GREGORIAN
BEGIN:VTIMEZONE
TZID:Asia/Kolkata
BEGIN:STANDARD
DTSTART:19451014T230000
TZOFFSETFROM:+0630
TZOFFSETTO:+0530
TZNAME:IST
END:STANDARD
END:VTIMEZONE
BEGIN:VEVENT
DTSTAMP:20250824T153702Z
UID:26A1F356-1F7B-48F5-B2EA-F1362476A632
DTSTART;TZID=Asia/Kolkata:20250821T090000
DTEND;TZID=Asia/Kolkata:20250821T160000
DESCRIPTION:The session “Inside the Cyber Shadows” focused on Digital F
 orensics\, Cyber Laws\, and Online Anonymity. Experts shared insights on h
 ow Digital Forensics and OSINT techniques assist in cybercrime investigati
 ons\, highlighted the importance of cyber laws for data protection and pri
 vacy\, and provided practical guidance on safeguarding personal informatio
 n and maintaining anonymity while navigating the internet and the dark web
 .\n\nAgenda: \n-\nIntroduction to Digital Forensics &amp; OSINT in cyber inves
 tigations\n\n-\nOverview of key Cyber Laws for data protection and privacy
 \n\n-\nPractical tips for online privacy and anonymity\n\n-\nQ&amp;A and inter
 active discussion\n\nBldg: AV Room\, EC Department\, Sarvajanik College of
  Engineering &amp; Technology\, R K Desai Marg\, Opp. Mission Hospital\,\, Ath
 walines\, Athwa\, Surat\, Gujarat 395001\, Surat\, Gujarat\, India\, 39500
 1
LOCATION:Bldg: AV Room\, EC Department\, Sarvajanik College of Engineering 
 &amp; Technology\, R K Desai Marg\, Opp. Mission Hospital\,\, Athwalines\, Ath
 wa\, Surat\, Gujarat 395001\, Surat\, Gujarat\, India\, 395001
ORGANIZER:vandana.joshi@scet.ac.in
SEQUENCE:29
SUMMARY:Inside the Cyber Shadows
URL;VALUE=URI:https://events.vtools.ieee.org/m/497422
X-ALT-DESC:Description: &lt;br /&gt;&lt;p&gt;The session &lt;em data-start=&quot;98&quot; data-end=&quot;
 126&quot; data-is-only-node=&quot;&quot;&gt;&amp;ldquo\;Inside the Cyber Shadows&amp;rdquo\;&lt;/em&gt; fo
 cused on Digital Forensics\, Cyber Laws\, and Online Anonymity. Experts sh
 ared insights on how Digital Forensics and OSINT techniques assist in cybe
 rcrime investigations\, highlighted the importance of cyber laws for data 
 protection and privacy\, and provided practical guidance on safeguarding p
 ersonal information and maintaining anonymity while navigating the interne
 t and the dark web.&lt;/p&gt;&lt;br /&gt;&lt;br /&gt;Agenda: &lt;br /&gt;&lt;ul&gt;\n&lt;li data-start=&quot;64&quot;
  data-end=&quot;133&quot;&gt;\n&lt;p data-start=&quot;66&quot; data-end=&quot;133&quot;&gt;Introduction to Digita
 l Forensics &amp;amp\; OSINT in cyber investigations&lt;/p&gt;\n&lt;/li&gt;\n&lt;li data-star
 t=&quot;134&quot; data-end=&quot;196&quot;&gt;\n&lt;p data-start=&quot;136&quot; data-end=&quot;196&quot;&gt;Overview of ke
 y Cyber Laws for data protection and privacy&lt;/p&gt;\n&lt;/li&gt;\n&lt;li data-start=&quot;1
 97&quot; data-end=&quot;248&quot;&gt;\n&lt;p data-start=&quot;199&quot; data-end=&quot;248&quot;&gt;Practical tips for
  online privacy and anonymity&lt;/p&gt;\n&lt;/li&gt;\n&lt;li data-start=&quot;249&quot; data-end=&quot;2
 83&quot;&gt;\n&lt;p data-start=&quot;251&quot; data-end=&quot;283&quot;&gt;Q&amp;amp\;A and interactive discussi
 on&lt;/p&gt;\n&lt;/li&gt;\n&lt;/ul&gt;
END:VEVENT
END:VCALENDAR

