BEGIN:VCALENDAR
VERSION:2.0
PRODID:IEEE vTools.Events//EN
CALSCALE:GREGORIAN
BEGIN:VTIMEZONE
TZID:America/New_York
BEGIN:DAYLIGHT
DTSTART:20250309T030000
TZOFFSETFROM:-0500
TZOFFSETTO:-0400
RRULE:FREQ=YEARLY;BYDAY=2SU;BYMONTH=3
TZNAME:EDT
END:DAYLIGHT
BEGIN:STANDARD
DTSTART:20251102T010000
TZOFFSETFROM:-0400
TZOFFSETTO:-0500
RRULE:FREQ=YEARLY;BYDAY=1SU;BYMONTH=11
TZNAME:EST
END:STANDARD
END:VTIMEZONE
BEGIN:VEVENT
DTSTAMP:20250826T230556Z
UID:A80C0155-3E01-45AE-B2AA-13ECD96F7B13
DTSTART;TZID=America/New_York:20250826T180000
DTEND;TZID=America/New_York:20250826T190000
DESCRIPTION:IEEE Reliability Society- Joint Boston/New Hampshire/Providence
  Chapter Adcom meeting.\n\n[Meeting Minutes 7/15/25](https://docs.google.c
 om/document/d/1-nzrsOcmoT125UJD_66EZLz-3OreeZC_HvQYKg5BX7Y/edit?usp=sharin
 g)\n\n[Zoom Link](https://mitll.zoomgov.com/j/1610369348?pwd=BIXcETradawqK
 t3ezp57kOCQHXp407.1&amp;from=addon)\n\nSpeaker(s): \, \, \, \n\nAgenda: \nAgen
 da\n\n-\nCall to Order at 6pm\n\n-\nOpening Remarks by the Chair\n\n-\nOff
 icer Reports\n\n-\nSecretary\n\n-\nADCOM Meeting Minutes: approval from pr
 evious meeting\n\n-\nTreasurer\n\n-\nFinancials\n\n-\nVice Chair\n\n-\nTec
 hnical Meeting Schedule\n\n-\nNext Tech Mtg: Sept 17 - Prof. Ahmed Busnain
 a of Nano OPS\, Inc\n\n-\nIs this a joint meeting with SMTA/iMAPS?\n\n-\nP
 otential Tech Meeting Presentations\n\n-\nNewsletter Updates\n\n-\nFeedbac
 k on brochure at RAMS\n\n-\nWebmaster &amp; Social Media\n\n-\nWebsite Status\
 n\n-\nFurther discussion of moving forward with social media presence\, co
 ntent creation\n\n-\nChair Report\n\n-\nUpcoming Technical Meeting Registr
 ation\n\n-\nOld Business\n\n-\nNew Business\n\n-\nElection Planning\n\n-\n
 Create a slate of candidates by Aug/Sept\n\nSuggested 2026 stays the same 
 as 2025\; may need approval from society/section/region\n\n-\nSchedule Nex
 t ADCOM Meeting\n\n-\nClosing Remarks\n\n-\nAdjournment\n\nVirtual: https:
 //events.vtools.ieee.org/m/497575
LOCATION:Virtual: https://events.vtools.ieee.org/m/497575
ORGANIZER:secretary.ieee.bostonreliability@gmail.com
SEQUENCE:89
SUMMARY:Tuesday Aug 26\, 2025 - IEEE Boston/New Hampshire/Providence Reliab
 ility Chapter ADCOM Meeting
URL;VALUE=URI:https://events.vtools.ieee.org/m/497575
X-ALT-DESC:Description: &lt;br /&gt;&lt;p&gt;IEEE Reliability Society- Joint Boston/New
  Hampshire/Providence Chapter Adcom meeting.&lt;/p&gt;\n&lt;p&gt;&lt;a href=&quot;https://docs
 .google.com/document/d/1-nzrsOcmoT125UJD_66EZLz-3OreeZC_HvQYKg5BX7Y/edit?u
 sp=sharing&quot; target=&quot;_blank&quot; rel=&quot;noopener&quot;&gt;Meeting Minutes 7/15/25&lt;/a&gt;&lt;/p&gt;
 \n&lt;p&gt;&lt;strong&gt;&lt;a href=&quot;https://mitll.zoomgov.com/j/1610369348?pwd=BIXcETrad
 awqKt3ezp57kOCQHXp407.1&amp;amp\;from=addon&quot;&gt;Zoom Link&lt;/a&gt;&lt;/strong&gt;&lt;/p&gt;&lt;br /&gt;&lt;
 br /&gt;Agenda: &lt;br /&gt;&lt;p dir=&quot;ltr&quot;&gt;Agenda&lt;/p&gt;\n&lt;ol&gt;\n&lt;li dir=&quot;ltr&quot; aria-level
 =&quot;1&quot;&gt;\n&lt;p dir=&quot;ltr&quot; role=&quot;presentation&quot;&gt;Call to Order at 6pm&lt;/p&gt;\n&lt;/li&gt;\n&lt;
 li dir=&quot;ltr&quot; aria-level=&quot;1&quot;&gt;\n&lt;p dir=&quot;ltr&quot; role=&quot;presentation&quot;&gt;Opening Rem
 arks by the Chair&lt;/p&gt;\n&lt;/li&gt;\n&lt;li dir=&quot;ltr&quot; aria-level=&quot;1&quot;&gt;\n&lt;p dir=&quot;ltr&quot; 
 role=&quot;presentation&quot;&gt;Officer Reports&lt;/p&gt;\n&lt;/li&gt;\n&lt;ol&gt;\n&lt;li dir=&quot;ltr&quot; aria-l
 evel=&quot;2&quot;&gt;\n&lt;p dir=&quot;ltr&quot; role=&quot;presentation&quot;&gt;Secretary&lt;/p&gt;\n&lt;/li&gt;\n&lt;ol&gt;\n&lt;l
 i dir=&quot;ltr&quot; aria-level=&quot;3&quot;&gt;\n&lt;p dir=&quot;ltr&quot; role=&quot;presentation&quot;&gt;ADCOM Meetin
 g Minutes: approval from previous meeting&lt;/p&gt;\n&lt;/li&gt;\n&lt;/ol&gt;\n&lt;li dir=&quot;ltr&quot;
  aria-level=&quot;2&quot;&gt;\n&lt;p dir=&quot;ltr&quot; role=&quot;presentation&quot;&gt;Treasurer&lt;/p&gt;\n&lt;/li&gt;\n&lt;
 ol&gt;\n&lt;li dir=&quot;ltr&quot; aria-level=&quot;3&quot;&gt;\n&lt;p dir=&quot;ltr&quot; role=&quot;presentation&quot;&gt;Finan
 cials&lt;/p&gt;\n&lt;/li&gt;\n&lt;/ol&gt;\n&lt;li dir=&quot;ltr&quot; aria-level=&quot;2&quot;&gt;\n&lt;p dir=&quot;ltr&quot; role=
 &quot;presentation&quot;&gt;Vice Chair&lt;/p&gt;\n&lt;/li&gt;\n&lt;ol&gt;\n&lt;li dir=&quot;ltr&quot; aria-level=&quot;3&quot;&gt;\
 n&lt;p dir=&quot;ltr&quot; role=&quot;presentation&quot;&gt;Technical Meeting Schedule&lt;/p&gt;\n&lt;/li&gt;\n&lt;
 ol&gt;\n&lt;li dir=&quot;ltr&quot; aria-level=&quot;4&quot;&gt;\n&lt;p dir=&quot;ltr&quot; role=&quot;presentation&quot;&gt;Next 
 Tech Mtg:&amp;nbsp\; Sept 17 - Prof. Ahmed Busnaina of Nano OPS\, Inc&lt;/p&gt;\n&lt;/l
 i&gt;\n&lt;ol&gt;\n&lt;li dir=&quot;ltr&quot; aria-level=&quot;5&quot;&gt;\n&lt;p dir=&quot;ltr&quot; role=&quot;presentation&quot;&gt;
 Is this a joint meeting with SMTA/iMAPS?&lt;/p&gt;\n&lt;/li&gt;\n&lt;/ol&gt;\n&lt;/ol&gt;\n&lt;li dir
 =&quot;ltr&quot; aria-level=&quot;3&quot;&gt;\n&lt;p dir=&quot;ltr&quot; role=&quot;presentation&quot;&gt;Potential Tech Me
 eting Presentations&lt;/p&gt;\n&lt;/li&gt;\n&lt;li dir=&quot;ltr&quot; aria-level=&quot;3&quot;&gt;\n&lt;p dir=&quot;ltr
 &quot; role=&quot;presentation&quot;&gt;Newsletter Updates&lt;/p&gt;\n&lt;/li&gt;\n&lt;li dir=&quot;ltr&quot; aria-le
 vel=&quot;3&quot;&gt;\n&lt;p dir=&quot;ltr&quot; role=&quot;presentation&quot;&gt;Feedback on brochure at RAMS&lt;/p
 &gt;\n&lt;/li&gt;\n&lt;/ol&gt;\n&lt;li dir=&quot;ltr&quot; aria-level=&quot;2&quot;&gt;\n&lt;p dir=&quot;ltr&quot; role=&quot;present
 ation&quot;&gt;Webmaster &amp;amp\; Social Media&lt;/p&gt;\n&lt;/li&gt;\n&lt;ol&gt;\n&lt;li dir=&quot;ltr&quot; aria-
 level=&quot;3&quot;&gt;\n&lt;p dir=&quot;ltr&quot; role=&quot;presentation&quot;&gt;Website Status&lt;/p&gt;\n&lt;/li&gt;\n&lt;l
 i dir=&quot;ltr&quot; aria-level=&quot;3&quot;&gt;\n&lt;p dir=&quot;ltr&quot; role=&quot;presentation&quot;&gt;Further disc
 ussion of moving forward with social media presence\, content creation&lt;/p&gt;
 \n&lt;/li&gt;\n&lt;/ol&gt;\n&lt;li dir=&quot;ltr&quot; aria-level=&quot;2&quot;&gt;\n&lt;p dir=&quot;ltr&quot; role=&quot;presenta
 tion&quot;&gt;Chair Report&lt;/p&gt;\n&lt;/li&gt;\n&lt;ol&gt;\n&lt;li dir=&quot;ltr&quot; aria-level=&quot;3&quot;&gt;\n&lt;p dir
 =&quot;ltr&quot; role=&quot;presentation&quot;&gt;Upcoming Technical Meeting Registration&amp;nbsp\;&lt;
 /p&gt;\n&lt;/li&gt;\n&lt;/ol&gt;\n&lt;/ol&gt;\n&lt;li dir=&quot;ltr&quot; aria-level=&quot;1&quot;&gt;\n&lt;p dir=&quot;ltr&quot; role
 =&quot;presentation&quot;&gt;Old Business&lt;/p&gt;\n&lt;/li&gt;\n&lt;li dir=&quot;ltr&quot; aria-level=&quot;1&quot;&gt;\n&lt;p
  dir=&quot;ltr&quot; role=&quot;presentation&quot;&gt;New Business&lt;/p&gt;\n&lt;/li&gt;\n&lt;ol&gt;\n&lt;li dir=&quot;ltr
 &quot; aria-level=&quot;2&quot;&gt;\n&lt;p dir=&quot;ltr&quot; role=&quot;presentation&quot;&gt;Election Planning&lt;/p&gt;\
 n&lt;/li&gt;\n&lt;ol&gt;\n&lt;li dir=&quot;ltr&quot; aria-level=&quot;3&quot;&gt;\n&lt;p dir=&quot;ltr&quot; role=&quot;presentati
 on&quot;&gt;Create a slate of candidates by Aug/Sept&lt;/p&gt;\n&lt;/li&gt;\n&lt;/ol&gt;\n&lt;/ol&gt;\n&lt;/o
 l&gt;\n&lt;p dir=&quot;ltr&quot;&gt;Suggested 2026 stays the same as 2025\; may need approval
  from society/section/region&lt;/p&gt;\n&lt;ol start=&quot;2&quot;&gt;\n&lt;li dir=&quot;ltr&quot; aria-level
 =&quot;2&quot;&gt;\n&lt;p dir=&quot;ltr&quot; role=&quot;presentation&quot;&gt;Schedule Next ADCOM Meeting&lt;/p&gt;\n&lt;
 /li&gt;\n&lt;/ol&gt;\n&lt;ol start=&quot;6&quot;&gt;\n&lt;li dir=&quot;ltr&quot; aria-level=&quot;1&quot;&gt;\n&lt;p dir=&quot;ltr&quot; r
 ole=&quot;presentation&quot;&gt;Closing Remarks&lt;/p&gt;\n&lt;/li&gt;\n&lt;li dir=&quot;ltr&quot; aria-level=&quot;1
 &quot;&gt;\n&lt;p dir=&quot;ltr&quot; role=&quot;presentation&quot;&gt;Adjournment&lt;/p&gt;\n&lt;/li&gt;\n&lt;/ol&gt;\n&lt;p&gt;&lt;st
 rong id=&quot;docs-internal-guid-e6fd992c-7fff-10f1-597a-4208ea6ceeff&quot;&gt;&lt;br&gt;&lt;br&gt;
 &lt;/strong&gt;&lt;/p&gt;
END:VEVENT
END:VCALENDAR

