BEGIN:VCALENDAR
VERSION:2.0
PRODID:IEEE vTools.Events//EN
CALSCALE:GREGORIAN
BEGIN:VTIMEZONE
TZID:Asia/Kolkata
BEGIN:STANDARD
DTSTART:19451014T230000
TZOFFSETFROM:+0630
TZOFFSETTO:+0530
TZNAME:IST
END:STANDARD
END:VTIMEZONE
BEGIN:VEVENT
DTSTAMP:20250821T153631Z
UID:0EACC4BB-2A98-413A-8202-C5F99095EBCF
DTSTART;TZID=Asia/Kolkata:20250821T140000
DTEND;TZID=Asia/Kolkata:20250821T170000
DESCRIPTION:The IEEE Student Branch of QIS College of Engineering &amp; Technol
 ogy\, in collaboration with the IEEE Education Society\, successfully orga
 nized the first chapter of the IELTS Roadmap Series. This orientation sess
 ion provided students with a comprehensive overview of the IELTS exam\, pr
 eparation strategies\, and global opportunities available through strong p
 erformance.\n\nThe session highlighted exam structure\, effective test-tak
 ing techniques\, study resources\, and scholarships for higher education a
 broad. Students actively participated in discussions and gained clarity on
  how to approach IELTS systematically\, making the session highly impactfu
 l.\n\nSpeaker(s): \, Shri Gosala Alexander\n\nAgenda: \n-\nWelcome &amp; Intr
 oduction\n\n-\nImportance of IELTS for global opportunities\n\n-\nStructur
 e &amp; components of IELTS exam\n\n-\nPreparation roadmap and strategies\n\n-
 \nQ&amp;A and student interaction\n\nRoom: Mokshagunda Visheswaraya semina hal
 l\, Bldg: IT Block\, QIS COLLEGE OF ENGINEERING AND TECHNOLOGY\, Ongole\, 
 Andhra Pradesh\, India\, 523002
LOCATION:Room: Mokshagunda Visheswaraya semina hall\, Bldg: IT Block\, QIS 
 COLLEGE OF ENGINEERING AND TECHNOLOGY\, Ongole\, Andhra Pradesh\, India\, 
 523002
ORGANIZER:parvathireddypeetla@gmail.com`
SEQUENCE:49
SUMMARY:IELTS Roadmap Series – Orientation Chapter 1
URL;VALUE=URI:https://events.vtools.ieee.org/m/497629
X-ALT-DESC:Description: &lt;br /&gt;&lt;p data-start=&quot;388&quot; data-end=&quot;801&quot;&gt;The IEEE S
 tudent Branch of QIS College of Engineering &amp;amp\; Technology\, in collabo
 ration with the IEEE Education Society\, successfully organized the first 
 chapter of the &lt;em data-start=&quot;597&quot; data-end=&quot;619&quot;&gt;IELTS Roadmap Series&lt;/e
 m&gt;. This orientation session provided students with a comprehensive overvi
 ew of the IELTS exam\, preparation strategies\, and global opportunities a
 vailable through strong performance.&lt;/p&gt;\n&lt;p data-start=&quot;803&quot; data-end=&quot;10
 84&quot;&gt;The session highlighted exam structure\, effective test-taking techniq
 ues\, study resources\, and scholarships for higher education abroad. Stud
 ents actively participated in discussions and gained clarity on how to app
 roach IELTS systematically\, making the session highly impactful.&lt;/p&gt;&lt;br /
 &gt;&lt;br /&gt;Agenda: &lt;br /&gt;&lt;ul&gt;\n&lt;li data-start=&quot;1218&quot; data-end=&quot;1244&quot;&gt;\n&lt;p data
 -start=&quot;1220&quot; data-end=&quot;1244&quot;&gt;Welcome &amp;amp\; Introduction&lt;/p&gt;\n&lt;/li&gt;\n&lt;li 
 data-start=&quot;1245&quot; data-end=&quot;1293&quot;&gt;\n&lt;p data-start=&quot;1247&quot; data-end=&quot;1293&quot;&gt;I
 mportance of IELTS for global opportunities&lt;/p&gt;\n&lt;/li&gt;\n&lt;li data-start=&quot;12
 94&quot; data-end=&quot;1334&quot;&gt;\n&lt;p data-start=&quot;1296&quot; data-end=&quot;1334&quot;&gt;Structure &amp;amp\
 ; components of IELTS exam&lt;/p&gt;\n&lt;/li&gt;\n&lt;li data-start=&quot;1335&quot; data-end=&quot;137
 3&quot;&gt;\n&lt;p data-start=&quot;1337&quot; data-end=&quot;1373&quot;&gt;Preparation roadmap and strategi
 es&lt;/p&gt;\n&lt;/li&gt;\n&lt;li data-start=&quot;1374&quot; data-end=&quot;1405&quot;&gt;\n&lt;p data-start=&quot;1376
 &quot; data-end=&quot;1405&quot;&gt;Q&amp;amp\;A and student interaction&lt;/p&gt;\n&lt;/li&gt;\n&lt;/ul&gt;
END:VEVENT
END:VCALENDAR

