BEGIN:VCALENDAR
VERSION:2.0
PRODID:IEEE vTools.Events//EN
CALSCALE:GREGORIAN
BEGIN:VTIMEZONE
TZID:America/New_York
BEGIN:DAYLIGHT
DTSTART:20260308T030000
TZOFFSETFROM:-0500
TZOFFSETTO:-0400
RRULE:FREQ=YEARLY;BYDAY=2SU;BYMONTH=3
TZNAME:EDT
END:DAYLIGHT
BEGIN:STANDARD
DTSTART:20251102T010000
TZOFFSETFROM:-0400
TZOFFSETTO:-0500
RRULE:FREQ=YEARLY;BYDAY=1SU;BYMONTH=11
TZNAME:EST
END:STANDARD
END:VTIMEZONE
BEGIN:VEVENT
DTSTAMP:20251110T204033Z
UID:881BD89F-B60B-48DF-975D-DC498FD923A5
DTSTART;TZID=America/New_York:20251107T110000
DTEND;TZID=America/New_York:20251107T180000
DESCRIPTION:Marist Computing Conference (MCC) 2025\nNovember 7\, 2025 at Ma
 rist University\, Poughkeepsie\, NY\nNo charge to conference attendees. Ab
 stracts due October 17\, 2025.\n\nInterested authors should submit a 50-wo
 rd abstracts for a 15-20 minute presentation. Abstracts will be peer revie
 wed. Topics include the following: Enterprise Computing and ITS\, Quantum 
 Computing\, Machine Learning and Artificial Intelligence\, Cybersecurity\,
  Data Analytics and Mathematics\, Education and STEM for Computer Science 
 and Mathematics\n\nFor more information: MaristComputingConf@marist.edu\n\
 nPlease submit your abstract as described previously. Authors of accepted 
 papers who request remote presentation will be notified with presentation 
 information. https://forms.office.com/r/Bw0yh7Qg4S\n\nCo-sponsored by: non
 e\n\nAgenda: \nThe program for this 1 day event will include the following
 .\n\n11 AM - 11:30 AM arrival and registration\n\n11:30 - 1 PM complimenta
 ry luncheon and keynote speaker presentation\n\n1-3 PM parallel breakout t
 echnical sessions based on the topics listed above with coffee/snack break
 s\n\n3 PM student poster session arrival/registration\n\n3:30 - 5:30 PM Te
 chMeet student poster session exhibit and judging\n\n5:30 - 6 PM conferenc
 e paper and student poster paper awards presentation\n\nLimited seating wi
 th advance registration for Luncheon and Industry Keynote\n\nScott Tumner\
 , Principal Consultant\, New Era Technology\n\nBldg: Student Center - Cabe
 ret and River Rooms\, 3399 North Rd\, Poughkeepsie\, New York\, United Sta
 tes\, 12601-1350\, Virtual: https://events.vtools.ieee.org/m/497792
LOCATION:Bldg: Student Center - Caberet and River Rooms\, 3399 North Rd\, P
 oughkeepsie\, New York\, United States\, 12601-1350\, Virtual: https://eve
 nts.vtools.ieee.org/m/497792
ORGANIZER:casimer.decusatis@marist.edu
SEQUENCE:14
SUMMARY:Marist Computing Conference 2025
URL;VALUE=URI:https://events.vtools.ieee.org/m/497792
X-ALT-DESC:Description: &lt;br /&gt;&lt;p&gt;Marist Computing Conference (MCC) 2025&amp;nbs
 p\;&lt;br&gt;November 7\, 2025 at Marist University\, Poughkeepsie\, NY&lt;br&gt;No ch
 arge to conference attendees. &amp;nbsp\;Abstracts due October 17\, 2025.&amp;nbsp
 \;&lt;/p&gt;\n&lt;p&gt;Interested authors should submit a 50-word abstracts for a 15-2
 0 minute presentation. &amp;nbsp\;Abstracts will be peer reviewed. Topics incl
 ude the following: Enterprise Computing and ITS\, Quantum Computing\, Mach
 ine Learning and Artificial Intelligence\, Cybersecurity\, Data Analytics 
 and Mathematics\, Education and STEM for Computer Science and Mathematics&lt;
 /p&gt;\n&lt;p&gt;For more information: &lt;a href=&quot;mailto:MaristComputingConf@marist.e
 du&quot;&gt;MaristComputingConf@marist.edu&lt;/a&gt;&amp;nbsp\;&lt;/p&gt;\n&lt;p&gt;Please submit your a
 bstract as described previously. &amp;nbsp\;Authors of accepted papers who req
 uest remote presentation will be notified with presentation information. &lt;
 a href=&quot;https://forms.office.com/r/Bw0yh7Qg4S&quot;&gt;https://forms.office.com/r/
 Bw0yh7Qg4S&lt;/a&gt;&amp;nbsp\;&amp;nbsp\;&lt;/p&gt;&lt;br /&gt;&lt;br /&gt;Agenda: &lt;br /&gt;&lt;div style=&quot;lang
 uage: en-US\; margin-top: 0pt\; margin-bottom: 0pt\; margin-left: .31in\; 
 text-indent: -.31in\; text-align: left\; direction: ltr\; unicode-bidi: em
 bed\; mso-line-break-override: none\; word-break: normal\; punctuation-wra
 p: hanging\;&quot;&gt;\n&lt;p&gt;The program for this 1 day event will include the follo
 wing.&lt;/p&gt;\n&lt;p&gt;11 AM - 11:30 AM &amp;nbsp\;arrival and registration&lt;/p&gt;\n&lt;p&gt;11:
 30 - 1 PM complimentary luncheon and keynote speaker presentation&lt;/p&gt;\n&lt;p&gt;
 1-3 PM parallel breakout technical sessions based on the topics listed abo
 ve with coffee/snack breaks&lt;/p&gt;\n&lt;p&gt;3 PM student poster session arrival/re
 gistration&lt;/p&gt;\n&lt;p&gt;3:30 - 5:30 PM TechMeet student poster session exhibit 
 and judging&lt;/p&gt;\n&lt;p&gt;5:30 - 6 PM conference paper and student poster paper 
 awards presentation&amp;nbsp\;&lt;/p&gt;\n&lt;p&gt;Limited seating with advance registrati
 on for Luncheon and Industry Keynote&lt;/p&gt;\n&lt;p&gt;Scott Tumner\, Principal Cons
 ultant\, New Era Technology&lt;/p&gt;\n&lt;/div&gt;
END:VEVENT
END:VCALENDAR

