BEGIN:VCALENDAR
VERSION:2.0
PRODID:IEEE vTools.Events//EN
CALSCALE:GREGORIAN
BEGIN:VTIMEZONE
TZID:America/Chicago
BEGIN:DAYLIGHT
DTSTART:20250309T030000
TZOFFSETFROM:-0600
TZOFFSETTO:-0500
RRULE:FREQ=YEARLY;BYDAY=2SU;BYMONTH=3
TZNAME:CDT
END:DAYLIGHT
BEGIN:STANDARD
DTSTART:20251102T010000
TZOFFSETFROM:-0500
TZOFFSETTO:-0600
RRULE:FREQ=YEARLY;BYDAY=1SU;BYMONTH=11
TZNAME:CST
END:STANDARD
END:VTIMEZONE
BEGIN:VEVENT
DTSTAMP:20250929T172023Z
UID:B1925D40-24C4-4EA3-85BD-80BA5B76189D
DTSTART;TZID=America/Chicago:20250928T130000
DTEND;TZID=America/Chicago:20250928T160000
DESCRIPTION:Join us for a free BBQ near University of Manitoba! Network wit
 h other students and IEEE members. This event is hosted by Winnipeg YP in 
 Kings Park\, (picnic site #1 - see red circle in image below). Registratio
 n is required.\n\n[]\n\nKings Park Picnic Site #1\, 198 Kings Dr\, Winnipe
 g\, Manitoba\, Canada\, R3T 3G1
LOCATION:Kings Park Picnic Site #1\, 198 Kings Dr\, Winnipeg\, Manitoba\, C
 anada\, R3T 3G1
ORGANIZER:iqbal.shabab@gmail.com
SEQUENCE:28
SUMMARY:Winnipeg IEEE BBQ
URL;VALUE=URI:https://events.vtools.ieee.org/m/498695
X-ALT-DESC:Description: &lt;br /&gt;&lt;p&gt;Join us for a free BBQ near University of 
 Manitoba! Network with other students and IEEE members. This event is host
 ed by Winnipeg YP in Kings Park\, (picnic site #1 - see red circle in imag
 e below).&amp;nbsp\;&lt;span style=&quot;color: rgb(224\, 62\, 45)\;&quot;&gt;&lt;strong&gt;Registra
 tion is required.&lt;/strong&gt;&lt;/span&gt;&lt;/p&gt;\n&lt;p&gt;&amp;nbsp\;&lt;/p&gt;\n&lt;p&gt;&lt;span style=&quot;col
 or: rgb(224\, 62\, 45)\;&quot;&gt;&lt;strong&gt;&lt;img src=&quot;https://events.vtools.ieee.org
 /vtools_ui/media/display/3c4d2743-e65c-4487-80e1-317944f1f53d&quot; width=&quot;1014
 &quot; height=&quot;710&quot;&gt;&lt;/strong&gt;&lt;/span&gt;&lt;/p&gt;\n&lt;p&gt;&lt;img src=&quot;https://events.vtools.ie
 ee.org/vtools_ui/media/display/6f9e9093-97c3-4def-9949-eeeb821732f3&quot; alt=&quot;
 &quot; width=&quot;1024&quot; height=&quot;1024&quot;&gt;&lt;/p&gt;
END:VEVENT
END:VCALENDAR

