BEGIN:VCALENDAR
VERSION:2.0
PRODID:IEEE vTools.Events//EN
CALSCALE:GREGORIAN
BEGIN:VTIMEZONE
TZID:Africa/Nairobi
BEGIN:STANDARD
DTSTART:19420801T001500
TZOFFSETFROM:+0245
TZOFFSETTO:+0300
TZNAME:EAT
END:STANDARD
END:VTIMEZONE
BEGIN:VEVENT
DTSTAMP:20251206T072329Z
UID:2885D17C-5A0C-46DF-8F93-406E99AFD392
DTSTART;TZID=Africa/Nairobi:20251128T080000
DTEND;TZID=Africa/Nairobi:20251128T080200
DESCRIPTION:The Startup Summit 2nd Edition. The theme is Beyond Survival: T
 hriving Startups for a Changing World. It will focus on helping entreprene
 urs grow and sustain their ventures beyond the early stages. Building on l
 ast year’s themes of ideation\, pitching\, and funding\, this edition wi
 ll cover scaling strategies\, advanced financing\, technology adoption\, a
 nd market expansion. It will also highlight sustainable business models\, 
 founder wellness\, and leadership development. The summit will feature sta
 rtup showcases and networking with investors\, positioning it as a bridge 
 between launching a startup and achieving long-term impact.\n\nNyeri\, Cen
 tral\, Kenya
LOCATION:Nyeri\, Central\, Kenya
ORGANIZER:dekutieeewie@gmail.com
SEQUENCE:14
SUMMARY:The Startup Summit 2nd Edition
URL;VALUE=URI:https://events.vtools.ieee.org/m/498980
X-ALT-DESC:Description: &lt;br /&gt;&lt;p&gt;The Startup Summit 2nd Edition. The theme 
 is Beyond Survival: Thriving Startups for a Changing World. It will focus 
 on helping entrepreneurs grow and sustain their ventures beyond the early 
 stages. Building on last year&amp;rsquo\;s themes of ideation\, pitching\, and
  funding\, this edition will cover scaling strategies\, advanced financing
 \, technology adoption\, and market expansion. It will also highlight sust
 ainable business models\, founder wellness\, and leadership development. T
 he summit will feature startup showcases and networking with investors\, p
 ositioning it as a bridge between launching a startup and achieving long-t
 erm impact.&lt;/p&gt;
END:VEVENT
END:VCALENDAR

