BEGIN:VCALENDAR
VERSION:2.0
PRODID:IEEE vTools.Events//EN
CALSCALE:GREGORIAN
BEGIN:VTIMEZONE
TZID:Europe/Copenhagen
BEGIN:DAYLIGHT
DTSTART:20250330T030000
TZOFFSETFROM:+0100
TZOFFSETTO:+0200
RRULE:FREQ=YEARLY;BYDAY=-1SU;BYMONTH=3
TZNAME:CEST
END:DAYLIGHT
BEGIN:STANDARD
DTSTART:20251026T020000
TZOFFSETFROM:+0200
TZOFFSETTO:+0100
RRULE:FREQ=YEARLY;BYDAY=-1SU;BYMONTH=10
TZNAME:CET
END:STANDARD
END:VTIMEZONE
BEGIN:VEVENT
DTSTAMP:20251006T134813Z
UID:D7FD4126-A42C-4D84-BD54-232CBC074E4B
DTSTART;TZID=Europe/Copenhagen:20251003T110000
DTEND;TZID=Europe/Copenhagen:20251003T160000
DESCRIPTION:We are pleased to invite you to Nexafem: Women Powering the Fut
 ure\, a joint IEEE–CIGRE event hosted at AAU Innovate\, Aalborg Universi
 ty\, on Friday\, 3rd October 2025\, 11:00 – 16:30 CET.\n\nThe event is o
 pen to all\, professionals\, researchers\, and students\, regardless of ge
 nder. It will be a day of inspiring talks\, knowledge sharing\, and networ
 king opportunities that connect academia and industry.\n\n✨ Agenda highl
 ights:\n\n- Keynote talks from leading organizations in the energy sector\
 n- Panel discussion on diversity &amp; innovation in energy\n- Networking lunc
 h\n- Lab tours at AAU Energy\n- Interactive afternoon workshops\n\n📌 Se
 ats are limited\, and registration closes on 18th September 2025\, 17:00 C
 ET.\n\n👉 Click here to register [https://forms.office.com/e/c4kcQn31pk]
 (https://eur01.safelinks.protection.outlook.com/?url=https%3A%2F%2Fforms.o
 ffice.com%2Fe%2Fc4kcQn31pk&amp;data=05%7C02%7Ctweck%40dtu.dk%7C05313dfa110e4a5
 ff0ad08dde9f3d7fe%7Cf251f123c9ce448e927734bb285911d9%7C0%7C0%7C63892395574
 3966553%7CUnknown%7CTWFpbGZsb3d8eyJFbXB0eU1hcGkiOnRydWUsIlYiOiIwLjAuMDAwMC
 IsIlAiOiJXaW4zMiIsIkFOIjoiTWFpbCIsIldUIjoyfQ%3D%3D%7C0%7C%7C%7C&amp;sdata=%2Be
 YdJevTMqAZ%2B1tdxbZ%2BEeXz6ftBtIU0Ud%2BklZ4gek8%3D&amp;reserved=0)\n\n⚠️ P
 lease note: Submitting the registration form does not guarantee final enro
 llment. Due to limited seating\, participants will receive a confirmation 
 of approval by 20th September 2025.\n\nThe full agenda with detailed timin
 gs and practical information will be shared directly with confirmed partic
 ipants closer to the event.\n\nPlease feel free to share this invitation w
 ith colleagues\, peers\, and friends who may be interested in joining.\n\n
 We look forward to welcoming you to Aalborg University for an engaging and
  forward-looking program.\n\nCo-sponsored by: CIGRE\n\nSpeaker(s): Mahnaz 
 Mirzabagherian\, Monika Sandelic\, Ann-Sofie Bonde Mortensen\, Yajuan Guan
 \n\nAgenda: \nAgenda highlights:\n\n- Keynote talks from leading organizat
 ions in the energy sector\n- Panel discussion on diversity &amp; innovation in
  energy\n- Networking lunch\n- Lab tours at AAU Energy\n- Interactive afte
 rnoon workshops\n\nAAU Innovate\, Aalborg University\, Aalborg\, Nordjylla
 nds Amt\, Denmark
LOCATION:AAU Innovate\, Aalborg University\, Aalborg\, Nordjyllands Amt\, D
 enmark
ORGANIZER:mja@energy.aau.dk
SEQUENCE:19
SUMMARY:Nexafem: Women Powering the Future\, a joint IEEE–CIGRE event
URL;VALUE=URI:https://events.vtools.ieee.org/m/499245
X-ALT-DESC:Description: &lt;br /&gt;&lt;p class=&quot;x_MsoNormal&quot;&gt;&lt;span lang=&quot;EN-US&quot; dat
 a-olk-copy-source=&quot;MessageBody&quot;&gt;&lt;img src=&quot;https://events.vtools.ieee.org/v
 tools_ui/media/display/1b25213e-5dc0-485b-9707-605ac4c9cf59&quot; width=&quot;1000&quot; 
 height=&quot;753&quot;&gt;&lt;/span&gt;&lt;/p&gt;\n&lt;p class=&quot;x_MsoNormal&quot;&gt;&lt;span lang=&quot;EN-US&quot; data-o
 lk-copy-source=&quot;MessageBody&quot;&gt;We are pleased to invite you to &lt;strong&gt;Nexaf
 em: Women Powering the Future\, a joint IEEE&amp;ndash\;CIGRE event&lt;/strong&gt;&amp;n
 bsp\;hosted at&amp;nbsp\;&lt;u&gt;AAU Innovate\, Aalborg University\,&lt;/u&gt;&amp;nbsp\;on F
 riday\,&amp;nbsp\;&lt;strong&gt;3rd October 2025\, 11:00 &amp;ndash\; 16:30 CET&lt;/strong&gt;
 .&lt;/span&gt;&lt;/p&gt;\n&lt;p class=&quot;x_MsoNormal&quot;&gt;&lt;span lang=&quot;EN-US&quot;&gt;The event is&amp;nbsp\
 ;&lt;u&gt;open to all\, professionals\, researchers\, and students\, regardless 
 of gender&lt;/u&gt;. It will be a day of inspiring talks\, knowledge sharing\, a
 nd networking opportunities that connect academia and industry.&lt;/span&gt;&lt;/p&gt;
 \n&lt;p class=&quot;x_MsoNormal&quot;&gt;&lt;span lang=&quot;EN-US&quot;&gt;✨&lt;/span&gt;&lt;span lang=&quot;EN-US&quot;&gt; 
 Agenda highlights:&lt;/span&gt;&lt;/p&gt;\n&lt;ul type=&quot;disc&quot;&gt;\n&lt;li class=&quot;x_MsoListParag
 raph&quot;&gt;&lt;span lang=&quot;EN-US&quot;&gt;Keynote talks from leading organizations in the e
 nergy sector&lt;/span&gt;&lt;/li&gt;\n&lt;li class=&quot;x_MsoListParagraph&quot;&gt;&lt;span lang=&quot;EN-US
 &quot;&gt;Panel discussion on diversity &amp;amp\; innovation in energy&lt;/span&gt;&lt;/li&gt;\n&lt;
 li class=&quot;x_MsoListParagraph&quot;&gt;&lt;span lang=&quot;EN-US&quot;&gt;Networking lunch&lt;/span&gt;&lt;/
 li&gt;\n&lt;li class=&quot;x_MsoListParagraph&quot;&gt;&lt;span lang=&quot;EN-US&quot;&gt;Lab tours at AAU En
 ergy&lt;/span&gt;&lt;/li&gt;\n&lt;li class=&quot;x_MsoListParagraph&quot;&gt;&lt;span lang=&quot;EN-US&quot;&gt;Intera
 ctive afternoon workshops&lt;/span&gt;&lt;/li&gt;\n&lt;/ul&gt;\n&lt;p class=&quot;x_MsoNormal&quot;&gt;📌&amp;
 nbsp\;&lt;strong&gt;&lt;span lang=&quot;EN-US&quot;&gt;Seats are limited\, and registration clos
 es on 18th September 2025\, 17:00 CET&lt;/span&gt;&lt;/strong&gt;&lt;span lang=&quot;EN-US&quot;&gt;.&lt;
 /span&gt;&lt;/p&gt;\n&lt;p class=&quot;x_MsoNormal&quot;&gt;👉&amp;nbsp\;&lt;span lang=&quot;EN-US&quot;&gt;Click her
 e to register&amp;nbsp\;&lt;a id=&quot;anchor-87cbc94b-afca-6b85-5dc2-45f95788463d&quot; ti
 tle=&quot;Oprindelig URL-adresse: https://forms.office.com/e/c4kcQn31pk. Klik e
 ller tryk\, hvis du har tillid til dette link.&quot; href=&quot;https://eur01.safeli
 nks.protection.outlook.com/?url=https%3A%2F%2Fforms.office.com%2Fe%2Fc4kcQ
 n31pk&amp;amp\;data=05%7C02%7Ctweck%40dtu.dk%7C05313dfa110e4a5ff0ad08dde9f3d7f
 e%7Cf251f123c9ce448e927734bb285911d9%7C0%7C0%7C638923955743966553%7CUnknow
 n%7CTWFpbGZsb3d8eyJFbXB0eU1hcGkiOnRydWUsIlYiOiIwLjAuMDAwMCIsIlAiOiJXaW4zMi
 IsIkFOIjoiTWFpbCIsIldUIjoyfQ%3D%3D%7C0%7C%7C%7C&amp;amp\;sdata=%2BeYdJevTMqAZ%
 2B1tdxbZ%2BEeXz6ftBtIU0Ud%2BklZ4gek8%3D&amp;amp\;reserved=0&quot; data-auth=&quot;NotApp
 licable&quot; data-linkindex=&quot;0&quot;&gt;https://forms.office.com/e/c4kcQn31pk&lt;/a&gt;&lt;/spa
 n&gt;&lt;/p&gt;\n&lt;p class=&quot;x_MsoNormal&quot;&gt;&lt;span lang=&quot;EN-US&quot;&gt;⚠️&lt;/span&gt;&lt;strong&gt;&lt;sp
 an lang=&quot;EN-US&quot;&gt;&amp;nbsp\;Please note: Submitting the registration form does 
 not guarantee final enrollment. Due to limited seating\, participants will
  receive&lt;/span&gt;&lt;/strong&gt;&lt;span lang=&quot;EN-US&quot;&gt;&amp;nbsp\;&lt;strong&gt;a confirmation o
 f approval by&amp;nbsp\;&lt;u&gt;20th September 2025&lt;/u&gt;&lt;/strong&gt;.&lt;/span&gt;&lt;/p&gt;\n&lt;p cl
 ass=&quot;x_MsoNormal&quot;&gt;&lt;span lang=&quot;EN-US&quot;&gt;&amp;nbsp\;&lt;/span&gt;&lt;span lang=&quot;EN-US&quot;&gt;The 
 full agenda with detailed timings and practical information will be shared
  directly with confirmed participants closer to the event.&lt;/span&gt;&lt;/p&gt;\n&lt;p 
 class=&quot;x_MsoNormal&quot;&gt;&lt;span lang=&quot;EN-US&quot;&gt;&amp;nbsp\;&lt;/span&gt;&lt;strong&gt;&lt;em&gt;&lt;span lan
 g=&quot;EN-US&quot;&gt;Please feel free to share this invitation with colleagues\, peer
 s\, and friends who may be interested in joining.&lt;/span&gt;&lt;/em&gt;&lt;/strong&gt;&lt;/p&gt;
 \n&lt;p class=&quot;x_MsoNormal&quot;&gt;&lt;span lang=&quot;EN-US&quot;&gt;&amp;nbsp\;&lt;/span&gt;&lt;span lang=&quot;EN-U
 S&quot;&gt;We look forward to welcoming you to Aalborg University for an engaging 
 and forward-looking program.&lt;/span&gt;&lt;/p&gt;&lt;br /&gt;&lt;br /&gt;Agenda: &lt;br /&gt;&lt;p class=
 &quot;x_MsoNormal&quot;&gt;&lt;span lang=&quot;EN-US&quot;&gt;Agenda highlights:&lt;/span&gt;&lt;/p&gt;\n&lt;ul type=&quot;
 disc&quot;&gt;\n&lt;li class=&quot;x_MsoListParagraph&quot;&gt;&lt;span lang=&quot;EN-US&quot;&gt;Keynote talks fr
 om leading organizations in the energy sector&lt;/span&gt;&lt;/li&gt;\n&lt;li class=&quot;x_Ms
 oListParagraph&quot;&gt;&lt;span lang=&quot;EN-US&quot;&gt;Panel discussion on diversity &amp;amp\; in
 novation in energy&lt;/span&gt;&lt;/li&gt;\n&lt;li class=&quot;x_MsoListParagraph&quot;&gt;&lt;span lang=
 &quot;EN-US&quot;&gt;Networking lunch&lt;/span&gt;&lt;/li&gt;\n&lt;li class=&quot;x_MsoListParagraph&quot;&gt;&lt;span
  lang=&quot;EN-US&quot;&gt;Lab tours at AAU Energy&lt;/span&gt;&lt;/li&gt;\n&lt;li class=&quot;x_MsoListPar
 agraph&quot;&gt;&lt;span lang=&quot;EN-US&quot;&gt;Interactive afternoon workshops&lt;/span&gt;&lt;/li&gt;\n&lt;/
 ul&gt;
END:VEVENT
END:VCALENDAR

