BEGIN:VCALENDAR
VERSION:2.0
PRODID:IEEE vTools.Events//EN
CALSCALE:GREGORIAN
BEGIN:VTIMEZONE
TZID:Japan
BEGIN:STANDARD
DTSTART:19510909T000000
TZOFFSETFROM:+1000
TZOFFSETTO:+0900
TZNAME:JST
END:STANDARD
END:VTIMEZONE
BEGIN:VEVENT
DTSTAMP:20260227T082323Z
UID:7DDF264A-A40E-4622-A556-CD6C32576405
DTSTART;TZID=Japan:20250908T140000
DTEND;TZID=Japan:20250908T174500
DESCRIPTION:An invited talk by Shanjun Zhang\, Professor\, Kanagawa Univers
 ity\, Japan\, will be held on September 8\, 2025\, in Room Y103\, Educatio
 n &amp; Research Building No. 8\, Muroran Institute of Technology\, 27-1 Mizum
 oto-cho\, Muroran\, Hokkaido\, 0508585 Japan. Professor Shanjun Zhang will
  share some interesting ideas about Medical Image Processing: Structure Aw
 are Neural Modeling of Circle of Willis Vessels from Non Contrast MRA Data
 .\n\nCO-ORGANIZED BY:\n\nIEEE Muroran Institute of Technology Student Bran
 ch (SB)\n\nIEEE Sapporo Section Young Professionals (YP)\n\nCenter for Com
 puter Science (CCS)\, Muroran Institute of Technology\n\nSpeaker(s): Prof.
  Shanjun Zhang\n\nBldg: Y103\, 27-1 Mizumoto-cho\, Muroran\, Hokkaido\, Mu
 roran\, Hokkaido\, Japan\, 0508585
LOCATION:Bldg: Y103\, 27-1 Mizumoto-cho\, Muroran\, Hokkaido\, Muroran\, Ho
 kkaido\, Japan\, 0508585
ORGANIZER:23096002@muroran-it.ac.jp
SEQUENCE:24
SUMMARY:Invited Talk at Muroran Institute of Technology (Co-organized)
URL;VALUE=URI:https://events.vtools.ieee.org/m/499569
X-ALT-DESC:Description: &lt;br /&gt;&lt;p&gt;An invited talk by Shanjun Zhang\, Profess
 or\, Kanagawa University\, Japan\, will be held on September 8\, 2025\, in
  Room Y103\, Education &amp;amp\; Research Building No. 8\, Muroran Institute 
 of Technology\, 27-1 Mizumoto-cho\, Muroran\, Hokkaido\, 0508585 Japan. &amp;n
 bsp\; Professor Shanjun Zhang will share some interesting ideas about Medi
 cal Image Processing: Structure Aware Neural Modeling of Circle of Willis 
 Vessels from Non Contrast MRA Data.&lt;/p&gt;\n&lt;p&gt;CO-ORGANIZED BY:&lt;/p&gt;\n&lt;p&gt;IEEE 
 Muroran Institute of Technology Student Branch (SB)&lt;/p&gt;\n&lt;p&gt;IEEE Sapporo S
 ection Young Professionals (YP)&lt;/p&gt;\n&lt;p&gt;Center for Computer Science (CCS)\
 , Muroran Institute of Technology&lt;/p&gt;
END:VEVENT
END:VCALENDAR

