BEGIN:VCALENDAR
VERSION:2.0
PRODID:IEEE vTools.Events//EN
CALSCALE:GREGORIAN
BEGIN:VTIMEZONE
TZID:America/New_York
BEGIN:DAYLIGHT
DTSTART:20250309T030000
TZOFFSETFROM:-0500
TZOFFSETTO:-0400
RRULE:FREQ=YEARLY;BYDAY=2SU;BYMONTH=3
TZNAME:EDT
END:DAYLIGHT
BEGIN:STANDARD
DTSTART:20251102T010000
TZOFFSETFROM:-0400
TZOFFSETTO:-0500
RRULE:FREQ=YEARLY;BYDAY=1SU;BYMONTH=11
TZNAME:EST
END:STANDARD
END:VTIMEZONE
BEGIN:VEVENT
DTSTAMP:20250912T004949Z
UID:D21BD1F9-0B95-4194-ABC3-A60FA757E767
DTSTART;TZID=America/New_York:20250910T151000
DTEND;TZID=America/New_York:20250910T161000
DESCRIPTION:[]\n\nIt is well-recognized that non-thermal (non-equilibrium) 
 plasmas have played a critical\, if unsung\, role in every day technologie
 s\, and really\, our modern way of life. The microchips and processors tha
 t make up our phones\, computers\, and the entire information technology e
 cosystem all utilized plasma processing at some point in the manufacturing
  chain.\n\nWhile microfabrication technologies such as etching and sputter
 ing are well developed and commercially deployed\, the next evolution of p
 lasma processing will expand the types and kinds of goods beyond electroni
 cs to include fertilizers\, high-value chemicals\, metals\, and more\, hel
 ping create a more energy resilient and security robust manufacturing sect
 or.\n\nThis talk will overview two areas that are primed for great impact 
 based on processing at a plasma-liquid interface.\n\nSpeaker(s): David\, \
 n\nAgenda: \n\n\nVirtual: https://events.vtools.ieee.org/m/499757
LOCATION:Virtual: https://events.vtools.ieee.org/m/499757
ORGANIZER:k.williams@ieee.org
SEQUENCE:26
SUMMARY:Non-Thermal Plasmas for Revolutionizing Goods Production
URL;VALUE=URI:https://events.vtools.ieee.org/m/499757
X-ALT-DESC:Description: &lt;br /&gt;&lt;p&gt;&lt;img src=&quot;https://events.vtools.ieee.org/v
 tools_ui/media/display/7256762f-a0d3-4e5f-a258-0ce0e7061035&quot; alt=&quot;&quot; width=
 &quot;221&quot; height=&quot;148&quot;&gt;&lt;/p&gt;\n&lt;p&gt;It is well-recognized that non-thermal (non-eq
 uilibrium) plasmas have played a critical\, if unsung\, role in every day 
 technologies\, and really\, our modern way of life. The microchips and pro
 cessors that make up our phones\, computers\, and the entire information t
 echnology ecosystem all utilized plasma processing at some point in the ma
 nufacturing chain.&lt;/p&gt;\n&lt;p&gt;While microfabrication technologies such as etc
 hing and sputtering are well developed and commercially deployed\, the nex
 t evolution of plasma processing will expand the types and kinds of goods 
 beyond electronics to include fertilizers\, high-value chemicals\, metals\
 , and more\, helping create a more energy resilient and security robust ma
 nufacturing sector.&amp;nbsp\;&lt;/p&gt;\n&lt;p&gt;This talk will overview two areas that 
 are primed for great impact based on processing at a plasma-liquid interfa
 ce.&amp;nbsp\;&lt;/p&gt;\n&lt;p&gt;&amp;nbsp\;&lt;/p&gt;&lt;br /&gt;&lt;br /&gt;Agenda: &lt;br /&gt;&lt;p&gt;&lt;img src=&quot;https
 ://events.vtools.ieee.org/vtools_ui/media/display/ceafe65e-108e-4a42-b06f-
 d2cfa76531e4&quot; width=&quot;553&quot; height=&quot;687&quot;&gt;&lt;/p&gt;
END:VEVENT
END:VCALENDAR

