BEGIN:VCALENDAR
VERSION:2.0
PRODID:IEEE vTools.Events//EN
CALSCALE:GREGORIAN
BEGIN:VTIMEZONE
TZID:America/Denver
BEGIN:DAYLIGHT
DTSTART:20250309T030000
TZOFFSETFROM:-0700
TZOFFSETTO:-0600
RRULE:FREQ=YEARLY;BYDAY=2SU;BYMONTH=3
TZNAME:MDT
END:DAYLIGHT
BEGIN:STANDARD
DTSTART:20251102T010000
TZOFFSETFROM:-0600
TZOFFSETTO:-0700
RRULE:FREQ=YEARLY;BYDAY=1SU;BYMONTH=11
TZNAME:MST
END:STANDARD
END:VTIMEZONE
BEGIN:VEVENT
DTSTAMP:20250921T200458Z
UID:6936107D-B6E7-4FC1-97FC-D38D2D554821
DTSTART;TZID=America/Denver:20250920T090000
DTEND;TZID=America/Denver:20250920T123000
DESCRIPTION:YP On the Air\n\nLearn Ham Radio\, Tune In\, and Feast with Fri
 ends!\n\n📅 Date: Saturday\, September 20\, 2025\n⏰ Time: 9:00 AM – 
 12:30 PM\n📍 Location: MCMR at BSU – Room 106 &amp; Outdoor Front Patio - 
 University Drive (for Ham Radio Call Demo)\n\nFree Parking Map: Look at th
 e end of this message\, look the streets sign before parking.\n-----------
 ----------------------------------------------------\n\n☕ Start Your Day
  Right\n\nCroissants &amp; Coffee to kick things off\n\n🎙️ Learn &amp; Explor
 e Ham Radio\n\n-\nPurpose of Amateur Radio for Communications\n\n-\nIntern
 ational Telecommunications Union (ITU) Phonetic Alphabet\n\n-\nBasic Radio
  Operations (BRO)\n\n-\nVHF/UHF Radio Operations\n\n-\nHF Radio Operations
 \n\n-\nHands-On Operations (Make Your First Contact!)\n\n📜 Recognition\
 n\nEarn a Certificate of Completion\n\n🍴 Wrap-Up\n\nEnjoy Lunch* with F
 ellow Ham Experts\n-------------------------------------------------------
 --------\n\n✨Open to all Adults\, Free to Attend\, No prior experience n
 eeded — just bring your curiosity!\n\nHosted by:\n\n- IEEE Boise Young P
 rofessionals\n- IEEE Boise Section\n- IEEE WIE Boise Section\n- IEEE BSU S
 tudent Branch\n\n*Please fill in your dietary preferences\, restrictions\,
  and any accommodations required.\n\n[]\n\n[]\n\nRoom: TBD\, Bldg: Micron 
 Center for Materials Research\, 1435 W University Dr\, Boise\, Idaho\, Uni
 ted States\, 83706
LOCATION:Room: TBD\, Bldg: Micron Center for Materials Research\, 1435 W Un
 iversity Dr\, Boise\, Idaho\, United States\, 83706
ORGANIZER:nidish@ieee.org
SEQUENCE:50
SUMMARY:YP On the Air: Tune In\, Learn Ham Radio\, and Feast with Friends!
URL;VALUE=URI:https://events.vtools.ieee.org/m/499833
X-ALT-DESC:Description: &lt;br /&gt;&lt;h1 data-start=&quot;243&quot; data-end=&quot;264&quot;&gt;&lt;strong d
 ata-start=&quot;245&quot; data-end=&quot;262&quot;&gt;YP On the Air&lt;/strong&gt;&lt;/h1&gt;\n&lt;h3 data-start
 =&quot;265&quot; data-end=&quot;322&quot;&gt;&lt;em data-start=&quot;269&quot; data-end=&quot;320&quot;&gt;Learn Ham Radio\
 ,&amp;nbsp\;&lt;/em&gt;&lt;em data-start=&quot;269&quot; data-end=&quot;320&quot;&gt;Tune In\,&amp;nbsp\;&lt;/em&gt;&lt;em 
 data-start=&quot;269&quot; data-end=&quot;320&quot;&gt;and Feast with Friends!&lt;/em&gt;&lt;/h3&gt;\n&lt;p data
 -start=&quot;324&quot; data-end=&quot;477&quot;&gt;📅 &lt;strong data-start=&quot;327&quot; data-end=&quot;336&quot;&gt;D
 ate:&lt;/strong&gt; Saturday\, September 20\, 2025&lt;br data-start=&quot;365&quot; data-end=
 &quot;368&quot;&gt;⏰ &lt;strong data-start=&quot;370&quot; data-end=&quot;379&quot;&gt;Time:&lt;/strong&gt; 9:00 AM &amp;
 ndash\; 12:30 PM&lt;br data-start=&quot;398&quot; data-end=&quot;401&quot;&gt;📍 &lt;strong data-star
 t=&quot;404&quot; data-end=&quot;417&quot;&gt;Location:&lt;/strong&gt; MCMR at BSU &amp;ndash\; Room 106 &amp;a
 mp\; Outdoor Front Patio - University Drive (for Ham Radio Call Demo)&lt;/p&gt;\
 n&lt;p data-start=&quot;324&quot; data-end=&quot;477&quot;&gt;Free Parking Map: Look at the end of t
 his message\, look the streets sign before parking.&lt;/p&gt;\n&lt;hr data-start=&quot;4
 79&quot; data-end=&quot;482&quot;&gt;\n&lt;h3 data-start=&quot;484&quot; data-end=&quot;516&quot;&gt;☕ &lt;strong data-
 start=&quot;490&quot; data-end=&quot;514&quot;&gt;Start Your Day Right&lt;/strong&gt;&lt;/h3&gt;\n&lt;p data-sta
 rt=&quot;517&quot; data-end=&quot;557&quot;&gt;Croissants &amp;amp\; Coffee to kick things off&lt;/p&gt;\n&lt;
 h3 data-start=&quot;559&quot; data-end=&quot;598&quot;&gt;🎙️ &lt;strong data-start=&quot;567&quot; data-e
 nd=&quot;596&quot;&gt;Learn &amp;amp\; Explore Ham Radio&lt;/strong&gt;&lt;/h3&gt;\n&lt;ul data-start=&quot;599
 &quot; data-end=&quot;854&quot;&gt;\n&lt;li data-start=&quot;599&quot; data-end=&quot;646&quot;&gt;\n&lt;p data-start=&quot;60
 1&quot; data-end=&quot;646&quot;&gt;Purpose of Amateur Radio for Communications&lt;/p&gt;\n&lt;/li&gt;\n
 &lt;li data-start=&quot;647&quot; data-end=&quot;713&quot;&gt;\n&lt;p data-start=&quot;649&quot; data-end=&quot;713&quot;&gt;I
 nternational Telecommunications Union (ITU) Phonetic Alphabet&lt;/p&gt;\n&lt;/li&gt;\n
 &lt;li data-start=&quot;714&quot; data-end=&quot;746&quot;&gt;\n&lt;p data-start=&quot;716&quot; data-end=&quot;746&quot;&gt;B
 asic Radio Operations (BRO)&lt;/p&gt;\n&lt;/li&gt;\n&lt;li data-start=&quot;747&quot; data-end=&quot;775
 &quot;&gt;\n&lt;p data-start=&quot;749&quot; data-end=&quot;775&quot;&gt;VHF/UHF Radio Operations&lt;/p&gt;\n&lt;/li&gt;
 \n&lt;li data-start=&quot;776&quot; data-end=&quot;799&quot;&gt;\n&lt;p data-start=&quot;778&quot; data-end=&quot;799&quot;
 &gt;HF Radio Operations&lt;/p&gt;\n&lt;/li&gt;\n&lt;li data-start=&quot;800&quot; data-end=&quot;854&quot;&gt;\n&lt;p 
 data-start=&quot;802&quot; data-end=&quot;854&quot;&gt;Hands-On Operations (&lt;strong data-start=&quot;8
 23&quot; data-end=&quot;851&quot;&gt;Make Your First Contact!&lt;/strong&gt;)&lt;/p&gt;\n&lt;/li&gt;\n&lt;/ul&gt;\n&lt;
 h3 data-start=&quot;856&quot; data-end=&quot;880&quot;&gt;📜 &lt;strong data-start=&quot;863&quot; data-end=
 &quot;878&quot;&gt;Recognition&lt;/strong&gt;&lt;/h3&gt;\n&lt;p data-start=&quot;881&quot; data-end=&quot;919&quot;&gt;Earn a
  &lt;strong data-start=&quot;888&quot; data-end=&quot;917&quot;&gt;Certificate of Completion&lt;/strong
 &gt;&lt;/p&gt;\n&lt;h3 data-start=&quot;921&quot; data-end=&quot;941&quot;&gt;🍴 &lt;strong data-start=&quot;928&quot; d
 ata-end=&quot;939&quot;&gt;Wrap-Up&lt;/strong&gt;&lt;/h3&gt;\n&lt;p data-start=&quot;942&quot; data-end=&quot;987&quot;&gt;En
 joy Lunch* with Fellow Ham Experts&lt;/p&gt;\n&lt;hr data-start=&quot;989&quot; data-end=&quot;992
 &quot;&gt;\n&lt;p data-start=&quot;994&quot; data-end=&quot;1104&quot;&gt;✨&lt;strong data-start=&quot;996&quot; data-e
 nd=&quot;1055&quot;&gt;Open to all Adults\, Free to Attend\, No prior experience needed
  &amp;mdash\; just bring your curiosity!&lt;/strong&gt;&lt;br data-start=&quot;1055&quot; data-en
 d=&quot;1058&quot;&gt;&lt;br&gt;Hosted by:&lt;/p&gt;\n&lt;ul&gt;\n&lt;li data-start=&quot;994&quot; data-end=&quot;1104&quot;&gt;&lt;s
 trong data-start=&quot;1068&quot; data-end=&quot;1102&quot;&gt;IEEE Boise Young Professionals&lt;/st
 rong&gt;&lt;/li&gt;\n&lt;li data-start=&quot;994&quot; data-end=&quot;1104&quot;&gt;&lt;strong data-start=&quot;1068&quot;
  data-end=&quot;1102&quot;&gt;IEEE Boise Section&lt;/strong&gt;&lt;/li&gt;\n&lt;li data-start=&quot;994&quot; da
 ta-end=&quot;1104&quot;&gt;&lt;strong data-start=&quot;1068&quot; data-end=&quot;1102&quot;&gt;IEEE WIE Boise Sec
 tion&lt;/strong&gt;&lt;/li&gt;\n&lt;li data-start=&quot;994&quot; data-end=&quot;1104&quot;&gt;&lt;strong data-star
 t=&quot;1068&quot; data-end=&quot;1102&quot;&gt;IEEE BSU Student Branch&lt;/strong&gt;&lt;/li&gt;\n&lt;/ul&gt;\n&lt;ar
 ticle class=&quot;text-token-text-primary w-full focus:outline-none scroll-mt-[
 calc(var(--header-height)+min(200px\,max(70px\,20svh)))]&quot; dir=&quot;auto&quot; tabin
 dex=&quot;-1&quot; data-turn-id=&quot;request-68240831-a2e8-8009-ae23-ff69eae88f0c-2&quot; dat
 a-testid=&quot;conversation-turn-18&quot; data-scroll-anchor=&quot;true&quot; data-turn=&quot;assis
 tant&quot;&gt;\n&lt;div class=&quot;text-base my-auto mx-auto pb-10 [--thread-content-marg
 in:--spacing(4)] thread-sm:[--thread-content-margin:--spacing(6)] thread-l
 g:[--thread-content-margin:--spacing(16)] px-(--thread-content-margin)&quot;&gt;\n
 &lt;div class=&quot;[--thread-content-max-width:40rem] thread-sm:[--thread-content
 -max-width:40rem] thread-lg:[--thread-content-max-width:48rem] mx-auto max
 -w-(--thread-content-max-width) flex-1 group/turn-messages focus-visible:o
 utline-hidden relative flex w-full min-w-0 flex-col agent-turn&quot; tabindex=&quot;
 -1&quot;&gt;\n&lt;div class=&quot;flex max-w-full flex-col grow&quot;&gt;\n&lt;div class=&quot;min-h-8 tex
 t-message relative flex w-full flex-col items-end gap-2 text-start break-w
 ords whitespace-normal [.text-message+&amp;amp\;]:mt-5&quot; dir=&quot;auto&quot; data-messag
 e-author-role=&quot;assistant&quot; data-message-id=&quot;72ecb2f8-7f3c-4f07-b0a9-f5adb82
 cdf23&quot; data-message-model-slug=&quot;gpt-5&quot;&gt;\n&lt;div class=&quot;flex w-full flex-col 
 gap-1 empty:hidden first:pt-[3px]&quot;&gt;\n&lt;div class=&quot;markdown prose dark:prose
 -invert w-full break-words dark markdown-new-styling&quot;&gt;\n&lt;p data-start=&quot;50&quot;
  data-end=&quot;141&quot; data-is-last-node=&quot;&quot; data-is-only-node=&quot;&quot;&gt;&lt;strong data-sta
 rt=&quot;50&quot; data-end=&quot;141&quot; data-is-last-node=&quot;&quot;&gt;*&lt;/strong&gt;Please fill in your 
 dietary preferences\, restrictions\, and any accommodations required.&lt;/p&gt;\
 n&lt;p data-start=&quot;50&quot; data-end=&quot;141&quot; data-is-last-node=&quot;&quot; data-is-only-node=
 &quot;&quot;&gt;&lt;img src=&quot;https://events.vtools.ieee.org/vtools_ui/media/display/db21f2
 67-9752-4d33-b9ca-ce5b2d1aa98c&quot; alt=&quot;&quot; width=&quot;886&quot; height=&quot;1147&quot;&gt;&lt;/p&gt;\n&lt;/d
 iv&gt;\n&lt;/div&gt;\n&lt;/div&gt;\n&lt;/div&gt;\n&lt;div class=&quot;mt-3 w-full empty:hidden&quot;&gt;&lt;img sr
 c=&quot;https://events.vtools.ieee.org/vtools_ui/media/display/ffc2d497-b80d-45
 4b-b058-c9c4b97e9152&quot; alt=&quot;&quot; width=&quot;689&quot; height=&quot;380&quot;&gt;&lt;/div&gt;\n&lt;/div&gt;\n&lt;/di
 v&gt;\n&lt;/article&gt;
END:VEVENT
END:VCALENDAR

