BEGIN:VCALENDAR
VERSION:2.0
PRODID:IEEE vTools.Events//EN
CALSCALE:GREGORIAN
BEGIN:VTIMEZONE
TZID:America/Los_Angeles
BEGIN:DAYLIGHT
DTSTART:20250309T030000
TZOFFSETFROM:-0800
TZOFFSETTO:-0700
RRULE:FREQ=YEARLY;BYDAY=2SU;BYMONTH=3
TZNAME:PDT
END:DAYLIGHT
BEGIN:STANDARD
DTSTART:20251102T010000
TZOFFSETFROM:-0700
TZOFFSETTO:-0800
RRULE:FREQ=YEARLY;BYDAY=1SU;BYMONTH=11
TZNAME:PST
END:STANDARD
END:VTIMEZONE
BEGIN:VEVENT
DTSTAMP:20250915T025400Z
UID:3699EADF-45E8-4203-B754-1C8D11044967
DTSTART;TZID=America/Los_Angeles:20250909T180000
DTEND;TZID=America/Los_Angeles:20250909T203000
DESCRIPTION:Please join the IEEE Seattle section Life Member meeting EXCOM 
 Meeting on September 9th 7pm - 8:30pm 2025\n\nAgenda\n\n6-7 pm IEEE Seattl
 e section Life Member Kick off meeting\n\n7-8:30pm IEEE Seattle Section EX
 COM meeting\n\nPlease use the following for\n\nParking link\n\nhttps://www
 .offstreet.io/events/2ZI2CZWK and enter your vehicle license plate.\n\nCo-
 sponsored by: Joe   Decuir\n\nAgenda: \nIEEE Seattle section EXCOM meeting
 \n\n7PM meeting start\n\n- August EXCOM meeting minutes\n- Seattle section
  Financial 2024 Financial Resuts upgrade from &quot; Partial Sateisfactory&quot; to 
 &quot; Satisfactory&quot;\n- Election\n- Chapters an branch report\n- Items\n- Adjou
 rn\n\nRoom: Bannan 629\, Bldg: BANN\, Seattle University  901 12th Avenue 
   \, Seattle\, Washington\, United States\,  98122\, Virtual: https://even
 ts.vtools.ieee.org/m/499848
LOCATION:Room: Bannan 629\, Bldg: BANN\, Seattle University  901 12th Avenu
 e   \, Seattle\, Washington\, United States\,  98122\, Virtual: https://ev
 ents.vtools.ieee.org/m/499848
ORGANIZER:swen@IEEE.org
SEQUENCE:101
SUMMARY:PLease Join the IEEE Seattle Section EXCOM\, and LIfe member kickof
 f meeting September 9th 6pm -8 :30pm 
URL;VALUE=URI:https://events.vtools.ieee.org/m/499848
X-ALT-DESC:Description: &lt;br /&gt;&lt;p&gt;Please join the IEEE Seattle section&amp;nbsp\
 ; Life Member meeting EXCOM Meeting on September 9th 7pm - 8:30pm 2025&amp;nbs
 p\;&lt;/p&gt;\n&lt;p&gt;Agenda&amp;nbsp\;&lt;/p&gt;\n&lt;p&gt;6-7 pm&amp;nbsp\; IEEE Seattle section Life 
 Member&amp;nbsp\; Kick off meeting&amp;nbsp\;&lt;/p&gt;\n&lt;p&gt;7-8:30pm IEEE Seattle Sectio
 n EXCOM meeting&amp;nbsp\;&lt;/p&gt;\n&lt;p&gt;Please use the following for&amp;nbsp\;&lt;/p&gt;\n&lt;p
 &gt;Parking&amp;nbsp\; link&amp;nbsp\;&lt;/p&gt;\n&lt;p&gt;&lt;a href=&quot;https://www.offstreet.io/even
 ts/2ZI2CZWK&quot; target=&quot;_blank&quot; rel=&quot;noopener&quot; data-saferedirecturl=&quot;https://
 www.google.com/url?q=https://www.offstreet.io/events/2ZI2CZWK&amp;amp\;source=
 gmail&amp;amp\;ust=1757231101585000&amp;amp\;usg=AOvVaw1TfsWSQyoSHxMeCkKpWNxc&quot;&gt;htt
 ps://www.offstreet.io/&lt;wbr&gt;events/2ZI2CZWK&lt;/a&gt; and enter your vehicle lice
 nse plate.&lt;/p&gt;&lt;br /&gt;&lt;br /&gt;Agenda: &lt;br /&gt;&lt;p&gt;IEEE Seattle section EXCOM meet
 ing&amp;nbsp\;&lt;/p&gt;\n&lt;p&gt;7PM&amp;nbsp\; meeting start&amp;nbsp\;&lt;/p&gt;\n&lt;ul&gt;\n&lt;li&gt;August E
 XCOM meeting minutes&lt;/li&gt;\n&lt;li&gt;Seattle section Financial&amp;nbsp\; 2024 Finan
 cial Resuts upgrade&amp;nbsp\; from &quot; Partial Sateisfactory&quot;&amp;nbsp\; to &quot; Satis
 factory&quot;&amp;nbsp\;&lt;/li&gt;\n&lt;li&gt;Election&lt;/li&gt;\n&lt;li&gt;Chapters an branch report&amp;nbs
 p\;&lt;/li&gt;\n&lt;li&gt;Items&lt;/li&gt;\n&lt;li&gt;Adjourn&lt;/li&gt;\n&lt;/ul&gt;
END:VEVENT
END:VCALENDAR

