BEGIN:VCALENDAR
VERSION:2.0
PRODID:IEEE vTools.Events//EN
CALSCALE:GREGORIAN
BEGIN:VTIMEZONE
TZID:America/Chicago
BEGIN:DAYLIGHT
DTSTART:20250309T030000
TZOFFSETFROM:-0600
TZOFFSETTO:-0500
RRULE:FREQ=YEARLY;BYDAY=2SU;BYMONTH=3
TZNAME:CDT
END:DAYLIGHT
BEGIN:STANDARD
DTSTART:20251102T010000
TZOFFSETFROM:-0500
TZOFFSETTO:-0600
RRULE:FREQ=YEARLY;BYDAY=1SU;BYMONTH=11
TZNAME:CST
END:STANDARD
END:VTIMEZONE
BEGIN:VEVENT
DTSTAMP:20250908T192107Z
UID:6A4BA97C-20F5-408B-AA03-B6C0804FCE64
DTSTART;TZID=America/Chicago:20250727T080000
DTEND;TZID=America/Chicago:20250731T173000
DESCRIPTION:The 2025 IEEE Power &amp; Energy Society General Meeting was held o
 n 27–31 July 2025 in Austin\, Texas. This premier power engineering conf
 erence brought together practicing power engineers and academics from all 
 over the world. The conference provided an international forum for experts
  to promote\, share\, and discuss various issues and developments in the f
 ield of electrical power engineering.\n\nThe session on chapter chair trai
 ning provided a comprehensive overview of vTools for monitoring regional a
 ctivities\, as well as the use of Collabratec to connect with IEEE profess
 ionals worldwide. This was followed by presentations on MGA and MDI fundin
 g opportunities\, highlighting how student branches can effectively levera
 ge these resources. The program concluded with a segment on mentorship\, e
 mphasizing the role of professionals at various levels in guiding and supp
 orting students across the globe.\n\nBldg: JW Marriott\, East 2nd Street\,
  Austin\, Texas\, United States
LOCATION:Bldg: JW Marriott\, East 2nd Street\, Austin\, Texas\, United Stat
 es
ORGANIZER:Dheeraj.Jain@we-online.com
SEQUENCE:25
SUMMARY:2025 IEEE Power &amp; Energy Society General Meeting
URL;VALUE=URI:https://events.vtools.ieee.org/m/500157
X-ALT-DESC:Description: &lt;br /&gt;&lt;p&gt;The 2025 IEEE Power &amp;amp\; Energy Society 
 General Meeting was held on &lt;strong&gt;27&amp;ndash\;31 July 2025 in Austin\, Tex
 as&lt;/strong&gt;. This premier power engineering conference brought together pr
 acticing power engineers and academics from all over the world. The confer
 ence provided an international forum for experts to promote\, share\, and 
 discuss various issues and developments in the field of electrical power e
 ngineering.&lt;/p&gt;\n&lt;p&gt;The session on chapter chair training provided a compr
 ehensive overview of vTools for monitoring regional activities\, as well a
 s the use of Collabratec to connect with IEEE professionals worldwide. Thi
 s was followed by presentations on MGA and MDI funding opportunities\, hig
 hlighting how student branches can effectively leverage these resources. T
 he program concluded with a segment on mentorship\, emphasizing the role o
 f professionals at various levels in guiding and supporting students acros
 s the globe.&lt;/p&gt;\n&lt;p&gt;&amp;nbsp\;&lt;/p&gt;
END:VEVENT
END:VCALENDAR

