BEGIN:VCALENDAR
VERSION:2.0
PRODID:IEEE vTools.Events//EN
CALSCALE:GREGORIAN
BEGIN:VTIMEZONE
TZID:America/New_York
BEGIN:DAYLIGHT
DTSTART:20250309T030000
TZOFFSETFROM:-0500
TZOFFSETTO:-0400
RRULE:FREQ=YEARLY;BYDAY=2SU;BYMONTH=3
TZNAME:EDT
END:DAYLIGHT
BEGIN:STANDARD
DTSTART:20251102T010000
TZOFFSETFROM:-0400
TZOFFSETTO:-0500
RRULE:FREQ=YEARLY;BYDAY=1SU;BYMONTH=11
TZNAME:EST
END:STANDARD
END:VTIMEZONE
BEGIN:VEVENT
DTSTAMP:20250919T173621Z
UID:D0C42D50-29A9-4ADA-AAB6-DE7F3E8E24E4
DTSTART;TZID=America/New_York:20250919T113000
DTEND;TZID=America/New_York:20250919T123000
DESCRIPTION:The Trident Chapter is pleased to host MTT Distinguished Microw
 ave Lecturer Prof. Joseph Bardin from the University of Massachusetts Amhe
 rst. Prof. Bardin will give a seminar\, &quot;[Quantum Computing: What is it\, 
 how does it work\, and what are the opportunities for microwave engineers?
 ](https://mtt.org/profile/joseph-bardin/)&quot; at 11:30 am ET on Friday\, Sept
 ember 19.\n\nThe seminar will be in a hybrid format\, with the in-person t
 alk in room EECS 1500 on the University of Michigan North Campus in Ann Ar
 bor\, MI\, and a simulcast via Zoom.\n\nProf. Bardin will be available bef
 ore and after the talk for questions and 1-on-1 meetings. To arrange a mee
 ting\, please contact the hosts.\n\nSEM Trident Chapter (AP03/ED15/MTT17/P
 HO36) [website](https://r4.ieee.org/sem/chapter-iv-trident/)\n\nSpeaker(s)
 : Prof. Joe Bardin\n\nAgenda: \nWelcome: 11:30 am\n\nPresentation\n\nQ&amp;A\n
 \nClosing\n\nIEEE MTT Distinguished Microwave Lecture\n\nQuantum Computing
 : What is it\, how does it work\, and what are the opportunities for micro
 wave engineers?\n\n[Joseph Bardin]\n\nProf. Joseph Bardin\, Ph.D.\n\nProfe
 ssor\, Department of Electrical and Computer Engineering\nUniversity of Ma
 ssachusetts Amherst\nAmherst\, MA 01003 USA\n\nURL: https://mtt.org/profil
 e/joseph-bardin/\nAbstract: Quantum computing offers the potential for an 
 exponential speed-up of certain classes of computational problems\, and\, 
 as such\, the development of a practical quantum computer has been a field
  of intense research over the past two decades. Yet\, it is still early in
  the development of these systems\, as we have just reached the point at w
 hich laboratory experiments have shown that quantum computers can outperfo
 rm classical computers at certain computational tasks. As such\, it is an 
 exciting time in the field\, analogous to the early days of classical comp
 uter development. As microwave engineers there is a tremendous opportunity
  to contribute to quantum computing\, as the control and measurement of mo
 st quantum processors is carried-out using microwave techniques. In this t
 alk\, I will describe the use of microwaves in quantum computing\, with a 
 focus on the superconducting qubit technology which was used to show that 
 a quantum computer is capable of post-classical computation. The talk will
  be geared toward microwave engineers with no background in quantum comput
 ing and will provide a glimpse into the fundamentals\, contemporary system
  architectures\, recent experiments\, and\, finally\, major microwave chal
 lenges that must be overcome if fault tolerant quantum computing is to bec
 ome a reality. While the “quantum” aspects of quantum computing will b
 e described\, the deeper technical discussion will focus on the specificat
 ion and design of the microwave control and measurement systems required t
 o operate these systems\, using Google’s state-of-the-art Sycamore quant
 um computer as an example. Ongoing research in scalable control and measur
 ement electronics will also be described.\n\nBio: received the PhD degree 
 in electrical engineering from the California Institute of Technology in 2
 009. In 2010\, he joined the department of Electrical and Computer Enginee
 ring at the University of Massachusetts Amherst\, where he is currently a 
 Full Professor. His research group currently focuses on low temperature in
 tegrated circuits with applications in radio astronomy and the quantum inf
 ormation sciences. In 2017\, he joined the Google AI Quantum team as a vis
 iting faculty researcher and\, in addition to his university appointment\,
  he currently leads Google’s efforts to develop electronics for their cu
 rrent and future quantum computers. Professor Bardin was a recipient of a 
 2011 DARPA Young Faculty Award\, a 2014 NSF CAREER Award\, a 2015 Office o
 f Naval Research YIP Award\, a 2016 UMass Amherst College of Engineering B
 arbara H. and Joseph I. Goldstein Outstanding Junior Faculty Award\, a 201
 6 UMass Amherst Award for Outstanding Accomplishments in Research and Crea
 tive Activity\, a 2020 IEEE MTT-S Outstanding Young Engineer Award\, and t
 he 2022 IEEE MTT-S Microwave Magazine Best Paper Award.\n\nRoom: 1500 EECS
 \, Bldg: EECS Building\, 1301 Beal Ave\, University of Michigan North Camp
 us\, Ann Arbor\, Michigan\, United States\, 48109\, Virtual: https://event
 s.vtools.ieee.org/m/500295
LOCATION:Room: 1500 EECS\, Bldg: EECS Building\, 1301 Beal Ave\, University
  of Michigan North Campus\, Ann Arbor\, Michigan\, United States\, 48109\,
  Virtual: https://events.vtools.ieee.org/m/500295
ORGANIZER:yms@umich.edu
SEQUENCE:41
SUMMARY:Quantum Computing: What is it\, how does it work\, and what are the
  opportunities for microwave engineers?
URL;VALUE=URI:https://events.vtools.ieee.org/m/500295
X-ALT-DESC:Description: &lt;br /&gt;&lt;p&gt;The Trident Chapter is pleased to host MTT
  Distinguished Microwave Lecturer Prof. Joseph Bardin from the University 
 of Massachusetts Amherst. Prof. Bardin will give a seminar\, &amp;nbsp\;&quot;&lt;a hr
 ef=&quot;https://mtt.org/profile/joseph-bardin/&quot;&gt;&lt;strong&gt;Quantum Computing: Wha
 t is it\, how does it work\, and what are the opportunities for microwave 
 engineers?&lt;/strong&gt;&lt;/a&gt;&quot; at 11:30 am ET on Friday\, September 19.&lt;/p&gt;\n&lt;p&gt;
 The seminar will be in a hybrid format\, with the in-person talk in room E
 ECS 1500 on the University of Michigan North Campus in Ann Arbor\, MI\, an
 d a simulcast via Zoom.&lt;/p&gt;\n&lt;p&gt;Prof. Bardin will be available before and 
 after the talk for questions and 1-on-1 meetings. To arrange a meeting\, p
 lease contact the hosts.&lt;/p&gt;\n&lt;p&gt;SEM Trident Chapter (AP03/ED15/MTT17/PHO3
 6) &lt;a href=&quot;https://r4.ieee.org/sem/chapter-iv-trident/&quot;&gt;website&lt;/a&gt;&lt;/p&gt;&lt;b
 r /&gt;&lt;br /&gt;Agenda: &lt;br /&gt;&lt;p&gt;Welcome: 11:30 am&lt;/p&gt;\n&lt;p&gt;Presentation&lt;/p&gt;\n&lt;p&gt;
 Q&amp;amp\;A&lt;/p&gt;\n&lt;p&gt;Closing&lt;/p&gt;\n&lt;p class=&quot;MsoNormal&quot; style=&quot;text-align: cent
 er\;&quot; align=&quot;center&quot;&gt;&lt;strong&gt;&lt;em style=&quot;mso-bidi-font-style: normal\;&quot;&gt;&lt;sp
 an lang=&quot;EN-CA&quot; style=&quot;font-size: 16.0pt\; line-height: 115%\; color: blac
 k\; mso-themecolor: text1\; mso-ansi-language: EN-CA\;&quot;&gt;IEEE MTT Distingui
 shed Microwave Lecture&lt;/span&gt;&lt;/em&gt;&lt;/strong&gt;&lt;/p&gt;\n&lt;p&gt;&lt;strong&gt;Quantum Comput
 ing: What is it\, how does it work\, and what are the opportunities for mi
 crowave engineers?&lt;/strong&gt;&lt;/p&gt;\n&lt;table style=&quot;border-collapse: collapse\;
  width: 100%\; border-width: 1px\; border-style: none\;&quot; border=&quot;1&quot;&gt;&lt;colgr
 oup&gt;&lt;col style=&quot;width: 24.9513%\;&quot;&gt;&lt;col style=&quot;width: 75.0487%\;&quot;&gt;&lt;/colgro
 up&gt;\n&lt;tbody&gt;\n&lt;tr&gt;\n&lt;td style=&quot;text-align: left\;&quot;&gt;\n&lt;p style=&quot;margin: 0in
 \; text-align: left\;&quot; align=&quot;center&quot;&gt;&lt;img src=&quot;https://mtt.org/app/upload
 s/2019/02/Bardinphoto_J_MW-250x330.png&quot; alt=&quot;Joseph Bardin&quot;&gt;&lt;/p&gt;\n&lt;/td&gt;\n&lt;
 td&gt;\n&lt;p style=&quot;margin: 0in\; text-align: left\;&quot; align=&quot;center&quot;&gt;&lt;strong&gt;&lt;s
 pan lang=&quot;EN-CA&quot; style=&quot;font-size: 12.0pt\; font-family: &#39;Times New Roman&#39;
 \,serif\; color: windowtext\;&quot;&gt;Prof. Joseph Bardin\,&amp;nbsp\;&lt;/span&gt;&lt;/strong
 &gt;&lt;span lang=&quot;EN-CA&quot; style=&quot;font-size: 12.0pt\; font-family: &#39;Times New Rom
 an&#39;\,serif\;&quot;&gt;Ph.D.&lt;/span&gt;&lt;/p&gt;\n&lt;p class=&quot;MsoNormal&quot; style=&quot;margin-bottom:
  0in\; text-align: left\;&quot; align=&quot;center&quot;&gt;&lt;span style=&quot;font-size: 12.0pt\;
  line-height: 115%\; font-family: &#39;Times New Roman&#39;\,serif\; mso-bidi-them
 e-font: minor-bidi\;&quot;&gt;Professor\, Department of Electrical and Computer En
 gineering&lt;br&gt;&lt;/span&gt;&lt;span style=&quot;font-size: 12.0pt\; line-height: 115%\; f
 ont-family: &#39;Times New Roman&#39;\,serif\; mso-bidi-theme-font: minor-bidi\;&quot;&gt;
 University of Massachusetts Amherst&lt;br&gt;Amherst\, MA 01003 USA&lt;/span&gt;&lt;/p&gt;\n
 &lt;br&gt;&lt;span style=&quot;font-size: 12.0pt\; line-height: 115%\; font-family: &#39;Tim
 es New Roman&#39;\,serif\; mso-fareast-font-family: Calibri\; mso-fareast-them
 e-font: minor-latin\; mso-bidi-theme-font: minor-bidi\; mso-ansi-language:
  EN-US\; mso-fareast-language: EN-US\; mso-bidi-language: AR-SA\;&quot;&gt;URL:&lt;sp
 an style=&quot;mso-tab-count: 1\;&quot;&gt;&amp;nbsp\;&amp;nbsp\; &lt;/span&gt;&lt;/span&gt;&lt;span style=&quot;fo
 nt-size: 11.0pt\; line-height: 115%\; font-family: &#39;Calibri&#39;\,sans-serif\;
  mso-ascii-theme-font: minor-latin\; mso-fareast-font-family: Calibri\; ms
 o-fareast-theme-font: minor-latin\; mso-hansi-theme-font: minor-latin\; ms
 o-bidi-font-family: &#39;Times New Roman&#39;\; mso-bidi-theme-font: minor-bidi\; 
 mso-ansi-language: EN-US\; mso-fareast-language: EN-US\; mso-bidi-language
 : AR-SA\;&quot;&gt;&lt;a href=&quot;https://mtt.org/profile/joseph-bardin/&quot;&gt;https://mtt.or
 g/profile/joseph-bardin/&lt;/a&gt;&lt;/span&gt;&lt;/td&gt;\n&lt;/tr&gt;\n&lt;/tbody&gt;\n&lt;/table&gt;\n&lt;p cl
 ass=&quot;MsoNormal&quot; style=&quot;text-align: justify\;&quot;&gt;&lt;strong style=&quot;mso-bidi-font
 -weight: normal\;&quot;&gt;&lt;span style=&quot;font-size: 12.0pt\; line-height: 115%\;&quot;&gt;A
 bstract:&lt;/span&gt;&lt;/strong&gt;&lt;span style=&quot;font-size: 12.0pt\; line-height: 115%
 \;&quot;&gt; Quantum computing offers the potential for an exponential speed-up of
  certain classes of computational problems\, and\, as such\, the developme
 nt of a practical quantum computer has been a field of intense research ov
 er the past two decades. Yet\, it is still early in the development of the
 se systems\, as we have just reached the point at which laboratory experim
 ents have shown that quantum computers can outperform classical computers 
 at certain computational tasks. As such\, it is an exciting time in the fi
 eld\, analogous to the early days of classical computer development. As mi
 crowave engineers there is a tremendous opportunity to contribute to quant
 um computing\, as the control and measurement of most quantum processors i
 s carried-out using microwave techniques. In this talk\, I will describe t
 he use of microwaves in quantum computing\, with a focus on the supercondu
 cting qubit technology which was used to show that a quantum computer is c
 apable of post-classical computation. The talk will be geared toward micro
 wave engineers with no background in quantum computing and will provide a 
 glimpse into the fundamentals\, contemporary system architectures\, recent
  experiments\, and\, finally\, major microwave challenges that must be ove
 rcome if fault tolerant quantum computing is to become a reality. While th
 e &amp;ldquo\;quantum&amp;rdquo\; aspects of quantum computing will be described\,
  the deeper technical discussion will focus on the specification and desig
 n of the microwave control and measurement systems required to operate the
 se systems\, using Google&amp;rsquo\;s state-of-the-art Sycamore quantum compu
 ter as an example. Ongoing research in scalable control and measurement el
 ectronics will also be described.&lt;/span&gt;&lt;/p&gt;\n&lt;p class=&quot;MsoNormal&quot; style=&quot;
 text-align: justify\;&quot;&gt;&lt;strong style=&quot;mso-bidi-font-weight: normal\;&quot;&gt;&lt;spa
 n style=&quot;font-size: 12.0pt\; line-height: 115%\;&quot;&gt;Bio:&lt;/span&gt;&lt;/strong&gt;&lt;spa
 n style=&quot;font-size: 12.0pt\; line-height: 115%\;&quot;&gt; received the PhD degree
  in electrical engineering from the California Institute of Technology in 
 2009. In 2010\, he joined the department of Electrical and Computer Engine
 ering at the University of Massachusetts Amherst\, where he is currently a
  Full Professor. His research group currently focuses on low temperature i
 ntegrated circuits with applications in radio astronomy and the quantum in
 formation sciences. In 2017\, he joined the Google AI Quantum team as a vi
 siting faculty researcher and\, in addition to his university appointment\
 , he currently leads Google&amp;rsquo\;s efforts to develop electronics for th
 eir current and future quantum computers. Professor Bardin was a recipient
  of a 2011 DARPA Young Faculty Award\, a 2014 NSF CAREER Award\, a 2015 Of
 fice of Naval Research YIP Award\, a 2016 UMass Amherst College of Enginee
 ring Barbara H. and Joseph I. Goldstein Outstanding Junior Faculty Award\,
  a 2016 UMass Amherst Award for Outstanding Accomplishments in Research an
 d Creative Activity\, a 2020 IEEE MTT-S Outstanding Young Engineer Award\,
  and the 2022 IEEE MTT-S Microwave Magazine Best Paper Award.&lt;/span&gt;&lt;/p&gt;
END:VEVENT
END:VCALENDAR

