BEGIN:VCALENDAR
VERSION:2.0
PRODID:IEEE vTools.Events//EN
CALSCALE:GREGORIAN
BEGIN:VTIMEZONE
TZID:America/Denver
BEGIN:DAYLIGHT
DTSTART:20250309T030000
TZOFFSETFROM:-0700
TZOFFSETTO:-0600
RRULE:FREQ=YEARLY;BYDAY=2SU;BYMONTH=3
TZNAME:MDT
END:DAYLIGHT
BEGIN:STANDARD
DTSTART:20251102T010000
TZOFFSETFROM:-0600
TZOFFSETTO:-0700
RRULE:FREQ=YEARLY;BYDAY=1SU;BYMONTH=11
TZNAME:MST
END:STANDARD
END:VTIMEZONE
BEGIN:VEVENT
DTSTAMP:20251001T222331Z
UID:94787BAC-2F61-4A6A-BD02-9A48D2E28C43
DTSTART;TZID=America/Denver:20250930T180000
DTEND;TZID=America/Denver:20250930T193000
DESCRIPTION:Join the Pikes Peak LMAG for a Computer History Presentation\n\
 nUnivac Signal Processing &amp; NEXRAD\n\nDavid Bondurant &amp; Les Nelson\, Forme
 r Univac Signal Processing Engineers\n\nWe have become accustomed to seein
 g weather maps nightly plotting future violent weather in advance and we r
 eceive severe thunderstorm\, flash flood\, hurricane\, tornado warnings on
  our phones and TV stations. Ever wonder how the NexRAD doppler radar syst
 em was developed?\n\nIn July\, 3 former Sperry Univac engineers had a reun
 ion in Excelsior\, Minnesota to reminisce about the development of signal 
 processing at Univac over 50-years ago and the development of the Next Gen
 eration Radar System (NEXRAD) by a joint program office of the National We
 ather Service\, Federal Aviation Administration\, and US Air Force Weather
  service starting in 1979. This is the story of Univac involvement with FA
 A and Joint Program Office and the development of a Programmable Signal Pr
 ocessor at Unisys/Paramax Systems leading to the NEXRAD Radar Data Acquisi
 tion (RDA) System\, a system which has been in the field at 159 sites in t
 he US and military bases overseas for more than 34-years.\n\nSpeaker(s): D
 avid BONDURANT\, Les Nelson\n\nAgenda: \nIntroductions\n\nPresentation\n\n
 Q&amp;A\n\nVirtual: https://events.vtools.ieee.org/m/500301
LOCATION:Virtual: https://events.vtools.ieee.org/m/500301
ORGANIZER:dbondurant@ieee.org
SEQUENCE:28
SUMMARY:Pikes Peak LMAG September Meeting
URL;VALUE=URI:https://events.vtools.ieee.org/m/500301
X-ALT-DESC:Description: &lt;br /&gt;&lt;p&gt;&lt;span style=&quot;font-size: 18pt\;&quot;&gt;&lt;strong&gt;Jo
 in the Pikes Peak LMAG for a Computer History Presentation&lt;/strong&gt;&lt;/span&gt;
 &lt;/p&gt;\n&lt;p&gt;&lt;span style=&quot;font-size: 18pt\;&quot;&gt;&lt;strong&gt;Univac Signal Processing 
 &amp;amp\; NEXRAD&lt;/strong&gt;&lt;/span&gt;&lt;/p&gt;\n&lt;p&gt;&lt;em&gt;&lt;span style=&quot;font-size: 18pt\;&quot;&gt;
 David Bondurant &amp;amp\; Les Nelson\, Former Univac Signal Processing Engine
 ers&lt;span class=&quot;Apple-converted-space&quot;&gt;&amp;nbsp\;&lt;/span&gt;&lt;/span&gt;&lt;/em&gt;&lt;/p&gt;\n&lt;p&gt;
 &lt;span style=&quot;font-size: 18pt\;&quot;&gt;We have become accustomed to seeing weathe
 r maps nightly plotting future violent weather in advance and we receive s
 evere thunderstorm\, flash flood\, hurricane\, tornado warnings on our pho
 nes and TV stations.&lt;span class=&quot;Apple-converted-space&quot;&gt;&amp;nbsp\; &lt;/span&gt;Eve
 r wonder how the NexRAD doppler radar system was developed?&lt;/span&gt;&lt;/p&gt;\n&lt;p
 &gt;&lt;img src=&quot;https://events.vtools.ieee.org/vtools_ui/media/display/61ae9521
 -6f32-437b-be7d-47ae7ded3cb7&quot;&gt;&lt;/p&gt;\n&lt;p&gt;&lt;span style=&quot;font-size: 18pt\;&quot;&gt;In 
 July\, 3 former Sperry Univac engineers had a reunion in Excelsior\, Minne
 sota to reminisce about the development of signal processing at Univac ove
 r 50-years ago and the development of the Next Generation Radar System (NE
 XRAD) by a joint program office of the National Weather Service\, Federal 
 Aviation Administration\, and US Air Force Weather service starting in 197
 9.&lt;span class=&quot;Apple-converted-space&quot;&gt;&amp;nbsp\; &lt;/span&gt;This is the story of 
 Univac involvement with FAA and Joint Program Office and the development o
 f a Programmable Signal Processor at Unisys/Paramax Systems leading to the
  NEXRAD Radar Data Acquisition (RDA) System\, a system which has been in t
 he field at 159 sites in the US and military bases overseas for more than 
 34-years.&lt;/span&gt;&lt;/p&gt;&lt;br /&gt;&lt;br /&gt;Agenda: &lt;br /&gt;&lt;p&gt;Introductions&lt;/p&gt;\n&lt;p&gt;Pre
 sentation&lt;/p&gt;\n&lt;p&gt;Q&amp;amp\;A&lt;/p&gt;
END:VEVENT
END:VCALENDAR

