BEGIN:VCALENDAR
VERSION:2.0
PRODID:IEEE vTools.Events//EN
CALSCALE:GREGORIAN
BEGIN:VTIMEZONE
TZID:America/Chicago
BEGIN:DAYLIGHT
DTSTART:20260308T030000
TZOFFSETFROM:-0600
TZOFFSETTO:-0500
RRULE:FREQ=YEARLY;BYDAY=2SU;BYMONTH=3
TZNAME:CDT
END:DAYLIGHT
BEGIN:STANDARD
DTSTART:20251102T010000
TZOFFSETFROM:-0500
TZOFFSETTO:-0600
RRULE:FREQ=YEARLY;BYDAY=1SU;BYMONTH=11
TZNAME:CST
END:STANDARD
END:VTIMEZONE
BEGIN:VEVENT
DTSTAMP:20251120T061903Z
UID:A4B2B730-57D7-40D9-B535-8237949B6C05
DTSTART;TZID=America/Chicago:20251111T200000
DTEND;TZID=America/Chicago:20251111T210000
DESCRIPTION:Join the Central Texas Section IEEE Young Professionals for our
  monthly planning and strategy meeting!\n\nWe’ll discuss upcoming events
 \, new ideas for professional development and networking\, and ways to get
  involved in the Austin tech community.\n\nWhether you&#39;re a long-time memb
 er or just curious about what we do\, all are welcome to attend and contri
 bute.\n\nVirtual: https://events.vtools.ieee.org/m/500325
LOCATION:Virtual: https://events.vtools.ieee.org/m/500325
ORGANIZER:t.nukala@ieee.org
SEQUENCE:9
SUMMARY:IEEE Young Professionals Central Texas Section - Monthly Meeting
URL;VALUE=URI:https://events.vtools.ieee.org/m/500325
X-ALT-DESC:Description: &lt;br /&gt;&lt;p data-start=&quot;626&quot; data-end=&quot;869&quot;&gt;Join the C
 entral Texas Section IEEE Young Professionals for our monthly planning and
  strategy meeting!&lt;/p&gt;\n&lt;p data-start=&quot;626&quot; data-end=&quot;869&quot;&gt;We&amp;rsquo\;ll di
 scuss upcoming events\, new ideas for professional development and network
 ing\, and ways to get involved in the Austin tech community.&lt;/p&gt;\n&lt;p data-
 start=&quot;871&quot; data-end=&quot;980&quot;&gt;Whether you&#39;re a long-time member or just curio
 us about what we do\, all are welcome to attend and contribute.&lt;/p&gt;
END:VEVENT
END:VCALENDAR

