BEGIN:VCALENDAR
VERSION:2.0
PRODID:IEEE vTools.Events//EN
CALSCALE:GREGORIAN
BEGIN:VTIMEZONE
TZID:America/St_Johns
BEGIN:DAYLIGHT
DTSTART:20250309T030000
TZOFFSETFROM:-0430
TZOFFSETTO:-0330
RRULE:FREQ=YEARLY;BYDAY=2SU;BYMONTH=3
TZNAME:NDT
END:DAYLIGHT
BEGIN:STANDARD
DTSTART:20251102T010000
TZOFFSETFROM:-0330
TZOFFSETTO:-0430
RRULE:FREQ=YEARLY;BYDAY=1SU;BYMONTH=11
TZNAME:NST
END:STANDARD
END:VTIMEZONE
BEGIN:VEVENT
DTSTAMP:20251021T170543Z
UID:160459A7-7E4F-4453-906D-B38D798CCF56
DTSTART;TZID=America/St_Johns:20251002T120000
DTEND;TZID=America/St_Johns:20251002T130000
DESCRIPTION:The IEEE NL Section Women in Engineering (WIE) is pleased to ho
 st a special talk titled “Engineering with Purpose: Tech Stewardship in 
 Turbulent Times” by Dr. Janna Rosales.\n\nWhat does it mean to be a resp
 onsible engineer in a world that feels increasingly volatile\, uncertain\,
  complex\, and ambiguous? In this interactive talk\, Dr. Janna Rosales inv
 ites students\, faculty\, and professionals in STEM to explore the concept
  of tech stewardship—a mindset that goes beyond innovation to consider t
 he broader impacts of our work.\n\nWe’ll dive into real-world “wicked 
 problems”—those messy\, interconnected challenges with no easy solutio
 ns. Think climate change\, AI ethics\, clean water access\, misinformation
 \, and the future of work in an automated world. These are the kinds of is
 sues where engineering meets ethics\, and where your choices can shape the
  future. Using the lens of tech stewardship\, we’ll unpack how engineers
  can help shape a more just\, sustainable\, and humane future.\n\nWhether 
 you&#39;re just starting out or deep into your career\, this session will chal
 lenge you to think differently about your role in a rapidly changing world
 .\n\n[]\n\nSpeaker(s): Dr. Janna Rosales\, \n\nRoom: Faculty Lounge (EN400
 0)\, Memorial University of Newfoundland\, St. John&#39;s\, Newfoundland and L
 abrador\, Canada
LOCATION:Room: Faculty Lounge (EN4000)\, Memorial University of Newfoundlan
 d\, St. John&#39;s\, Newfoundland and Labrador\, Canada
ORGANIZER:vnherath@mun.ca
SEQUENCE:96
SUMMARY:IEEE NL WIE Lunch &amp; Learn - Engineering with Purpose : Tech Steward
 ship in Turbulent times
URL;VALUE=URI:https://events.vtools.ieee.org/m/500402
X-ALT-DESC:Description: &lt;br /&gt;&lt;div style=&quot;text-align: justify\;&quot;&gt;The IEEE N
 L Section Women in Engineering (WIE) is pleased to host a special talk tit
 led &amp;ldquo\;&lt;strong&gt;Engineering with Purpose: Tech Stewardship in Turbulen
 t Times&lt;/strong&gt;&amp;rdquo\; by Dr. Janna Rosales.&lt;/div&gt;\n&lt;div style=&quot;text-ali
 gn: justify\;&quot;&gt;&amp;nbsp\;&lt;/div&gt;\n&lt;div style=&quot;text-align: justify\;&quot;&gt;What does
  it mean to be a responsible engineer in a world that feels increasingly v
 olatile\, uncertain\, complex\, and ambiguous? In this interactive talk\, 
 Dr.&amp;nbsp\;&lt;span class=&quot;il&quot;&gt;Janna&lt;/span&gt;&amp;nbsp\;Rosales invites students\, f
 aculty\, and professionals in STEM to explore the concept of&amp;nbsp\;&lt;em&gt;tec
 h stewardship&lt;/em&gt;&amp;mdash\;a mindset that goes beyond innovation to conside
 r the broader impacts of our work.&lt;/div&gt;\n&lt;div style=&quot;text-align: justify\
 ;&quot;&gt;&amp;nbsp\;&lt;/div&gt;\n&lt;div style=&quot;text-align: justify\;&quot;&gt;We&amp;rsquo\;ll dive int
 o real-world &amp;ldquo\;wicked problems&amp;rdquo\;&amp;mdash\;those messy\, intercon
 nected challenges with no easy solutions. Think climate change\, AI ethics
 \, clean water access\, misinformation\, and the future of work in an auto
 mated world. These are the kinds of issues where engineering meets ethics\
 , and where your choices can shape the future.&amp;nbsp\;Using the lens of tec
 h stewardship\, we&amp;rsquo\;ll unpack how engineers can help shape a more ju
 st\, sustainable\, and humane future.&lt;/div&gt;\n&lt;div style=&quot;text-align: justi
 fy\;&quot;&gt;&amp;nbsp\;&lt;/div&gt;\n&lt;div style=&quot;text-align: justify\;&quot;&gt;Whether you&#39;re jus
 t starting out or deep into your career\, this session will challenge you 
 to think differently about your role in a rapidly changing world.&lt;/div&gt;\n&lt;
 div style=&quot;text-align: justify\;&quot;&gt;&amp;nbsp\;&lt;/div&gt;\n&lt;div&gt;&lt;img style=&quot;display:
  block\; margin-left: auto\; margin-right: auto\;&quot; src=&quot;https://events.vto
 ols.ieee.org/vtools_ui/media/display/7f5d3612-2a20-4823-8287-9b44dabcb4cb&quot;
  alt=&quot;&quot; width=&quot;960&quot; height=&quot;540&quot;&gt;&lt;/div&gt;
END:VEVENT
END:VCALENDAR

