BEGIN:VCALENDAR
VERSION:2.0
PRODID:IEEE vTools.Events//EN
CALSCALE:GREGORIAN
BEGIN:VTIMEZONE
TZID:Australia/Canberra
BEGIN:DAYLIGHT
DTSTART:20251005T030000
TZOFFSETFROM:+1000
TZOFFSETTO:+1100
RRULE:FREQ=YEARLY;BYDAY=1SU;BYMONTH=10
TZNAME:AEDT
END:DAYLIGHT
BEGIN:STANDARD
DTSTART:20250406T020000
TZOFFSETFROM:+1100
TZOFFSETTO:+1000
RRULE:FREQ=YEARLY;BYDAY=1SU;BYMONTH=4
TZNAME:AEST
END:STANDARD
END:VTIMEZONE
BEGIN:VEVENT
DTSTAMP:20250922T000430Z
UID:27ACBBD8-C19D-4F57-ABF4-618ED47514DD
DTSTART;TZID=Australia/Canberra:20250919T120000
DTEND;TZID=Australia/Canberra:20250919T140000
DESCRIPTION:Location: Ian Ross Level 1 Design Studio open kitchen area (mig
 ht move to staff kitchen depending on if it’s busy or not)\n\nDate: 19/9
 /2025\n\nStart Time: 12:00pm\n\nEnd time: 2:00pm\n\nRegistration is Mandat
 ory but new students are welcome to join and participate at this meet and 
 greet\n\nCo-sponsored by: Ambarish Natu\n\nCanberra\, Australian Capital T
 erritory\, Australia
LOCATION:Canberra\, Australian Capital Territory\, Australia
ORGANIZER:Jiarui.Wang@anu.edu.au
SEQUENCE:12
SUMMARY:Spring Meet &amp; Greet Students 
URL;VALUE=URI:https://events.vtools.ieee.org/m/500628
X-ALT-DESC:Description: &lt;br /&gt;&lt;p class=&quot;MsoNormal&quot;&gt;&lt;span data-originalfonts
 ize=&quot;11pt&quot; data-originalcomputedfontsize=&quot;14.666667&quot;&gt;Location: Ian Ross Le
 vel 1 Design Studio open kitchen area (might move to staff kitchen dependi
 ng on if it&amp;rsquo\;s busy or not)&lt;/span&gt;&lt;/p&gt;\n&lt;p class=&quot;MsoNormal&quot;&gt;&lt;span d
 ata-originalfontsize=&quot;11pt&quot; data-originalcomputedfontsize=&quot;14.666667&quot;&gt;Date
 : 19/9/2025&lt;/span&gt;&lt;/p&gt;\n&lt;p class=&quot;MsoNormal&quot;&gt;&lt;span data-originalfontsize=&quot;
 11pt&quot; data-originalcomputedfontsize=&quot;14.666667&quot;&gt;Start Time: 12:00pm&lt;/span&gt;
 &lt;/p&gt;\n&lt;p class=&quot;MsoNormal&quot;&gt;&lt;span data-originalfontsize=&quot;11pt&quot; data-origina
 lcomputedfontsize=&quot;14.666667&quot;&gt;End time: 2:00pm&lt;/span&gt;&lt;/p&gt;\n&lt;p&gt;Registration
  is Mandatory but new students are welcome to join and participate at this
  meet and greet&lt;/p&gt;
END:VEVENT
END:VCALENDAR

