BEGIN:VCALENDAR
VERSION:2.0
PRODID:IEEE vTools.Events//EN
CALSCALE:GREGORIAN
BEGIN:VEVENT
DTSTAMP:20260124T044340Z
UID:B8D9BDD0-EDAF-4B7E-99DF-86E328B20153
DTSTART;TZID=Etc/UTC:20251120T120000
DTEND;TZID=Etc/UTC:20251120T130000
DESCRIPTION:[ALLSTaR: Automated LLM-Driven Scheduler Generation and Testing
  for Intent-Based RAN]\n\nSpecial Presentation by Dr. Alex G. Lee (TechIPm
 \, USA)\n\nHosted by the Future Networks Artificial Intelligence &amp; Machine
  Learning (AIML) Working Group\n\nDate/Time: Thursday\, 20 November 2025 @
  12:00 UTC (12 PM GMT)\n\nPDH Certificate: while basic attendance is free\
 , this course also offers one (1) Professional Development Hour (PDH) for 
 a nominal fee\; please choose the appropriate &quot;Registration Fee&quot; when regi
 stering\; actual\, verified real-time attendance required for PDH\; additi
 onal terms and conditions apply.\n\nTopic:\n\nAI-Native 6G IP Moats: Rethi
 nking Global Policy for SEP/FRAND\n\nAbstract:\n\nAI-native 6G treats inte
 lligence as a built-in network function: models live in the stack (PHY/MAC
 /RAN/Core)\, steer behavior in real time\, and enable semantic communicati
 ons\, digital-twin control\, and federated learning across device\, edge\,
  and cloud. That shift changes how we innovate and how we govern IP. Using
  “IP moats” in the Buffett sense — durable advantage from enforceabl
 e IP (including SEPs)\, data rights\, and standards participation — I as
 k: what global policy makes those moats defensible for true contributors w
 hile keeping consumer devices affordable?\n\nI propose a practical baselin
 e with two pillars. Pillar 1: Mandatory essentiality evaluation at ETSI de
 claration (and at major spec revisions)\, performed by independent evaluat
 ors under a common\, auditable protocol with rebuttal rights — recognizi
 ng that in 6G\, essentiality often requires behavioral evidence (simulatio
 ns/benchmarks)\, not text alone. Pillar 2: Transparent\, method-driven FRA
 ND (fair\, reasonable and non-discriminatory) that reflects multi-layer AI
  value (edge silicon\, radio/PHY\, RAN control\, edge orchestration\, clou
 d inference) while guarding against stacking and protecting consumer prici
 ng.\n\nTo operationalize this\, I introduce two agentic\, provenance-first
  co-pilots:\n\n- Agentic AI-Powered Essentiality Evaluation Framework — 
 aligns claim elements to standards text and versions\, ingests simulation/
 benchmark artifacts\, produces source-pinned evidence packs with confidenc
 e scores\, flags family overlap/over-declaration\, and supports human-in-t
 he-loop review.\n- Agentic AI-Powered FRAND Evaluation Framework — build
 s auditable rate models (top-down\, incremental value\, usage-based\, or h
 ybrid) from shared inputs: portfolio size and essentiality-confidence dist
 ribution\, stack-layer contribution mapping\, device/IoT usage metrics\, A
 SP tiers\, geography mix\, pool comparables\, and anti-stacking constraint
 s. Outputs include rate corridors\, sensitivity bands\, tiered pricing and
  safe-harbor pool options\, plus triggers for de-declaration as specs evol
 ve.\n\nSpeaker:\n\n[]\nAlex G. Lee is a NY State attorney\, USPTO-register
 ed patent attorney\, and Certified Licensing Professional (CLP) with a Ph.
 D. in Physics (Johns Hopkins) and J.D. (Suffolk Law). He bridges 3GPP stan
 dards and IP strategy\, having led hundreds of 3G/4G/5G essentiality evalu
 ations for global programs. As Principal Consultant at TechIPm\, he has su
 pported SEP licensing\, portfolio sales\, and enforcement for global compa
 nies. He has built agentic AI-powered IP intelligence for SEP development\
 , licensing\, and litigation. Earlier\, he held roles at Hsuanyeh Law Grou
 p\, Liquidax Capital\, Korea’s National Radio Research Agency\, and Kore
 a Telecom (ITU-R/early 3GPP representation). His work focuses on agentic A
 I-powered frameworks for 5G/6G innovation and SEP portfolio development an
 d monetization.\n\nBrochure (PDF): [Webinar-AIML-2025-11-20-Lee-AI-6G-IP-M
 oats-Brochure.pdf](https://drive.google.com/file/d/1iKy0C_zNIuI3EhB0qOlGQm
 V82UDxAsXk/view?usp=share_link)\n\nCo-sponsored by: Future Networks Artifi
 cial Intelligence &amp; Machine Learning (AIML) Working Group\n\nVirtual: http
 s://events.vtools.ieee.org/m/500656
LOCATION:Virtual: https://events.vtools.ieee.org/m/500656
ORGANIZER:baw@ieee.org
SEQUENCE:33
SUMMARY:AI-Native 6G IP Moats: Rethinking Global Policy for SEP/FRAND
URL;VALUE=URI:https://events.vtools.ieee.org/m/500656
X-ALT-DESC:Description: &lt;br /&gt;&lt;p class=&quot;MsoNormal&quot; style=&quot;margin-top: .25in
 \;&quot;&gt;&lt;img src=&quot;https://events.vtools.ieee.org/vtools_ui/media/display/62472
 21f-c153-46e1-8ec0-55d69e864d7c&quot; alt=&quot;ALLSTaR: Automated LLM-Driven Schedu
 ler Generation and Testing for Intent-Based RAN&quot; width=&quot;750&quot; height=&quot;197&quot;&gt;
 &lt;/p&gt;\n&lt;p class=&quot;MsoNormal&quot; style=&quot;margin-top: 12.0pt\;&quot;&gt;Special Presentati
 on by&lt;strong&gt; Dr. Alex G. Lee (TechIPm\, USA)&lt;/strong&gt;&lt;/p&gt;\n&lt;p class=&quot;MsoN
 ormal&quot; style=&quot;margin-top: 12.0pt\;&quot;&gt;Hosted by the Future Networks&lt;strong&gt; 
 Artificial Intelligence &amp;amp\; Machine Learning (AIML) Working Group&lt;/stro
 ng&gt;&lt;/p&gt;\n&lt;p class=&quot;MsoNormal&quot; style=&quot;margin-top: 12.0pt\;&quot;&gt;&lt;strong&gt;&lt;span s
 tyle=&quot;font-size: 14.0pt\; font-family: Copperplate\; mso-fareast-font-fami
 ly: PMingLiU\; mso-fareast-theme-font: minor-fareast\; mso-bidi-font-famil
 y: Arial\; mso-bidi-theme-font: minor-bidi\; mso-ansi-language: EN-US\; ms
 o-fareast-language: ZH-TW\; mso-bidi-language: AR-SA\;&quot;&gt;Date/Time&lt;/span&gt;&lt;/
 strong&gt;&lt;span style=&quot;font-size: 12.0pt\; font-family: &#39;Calibri&#39;\,sans-serif
 \; mso-ascii-theme-font: minor-latin\; mso-fareast-font-family: PMingLiU\;
  mso-fareast-theme-font: minor-fareast\; mso-hansi-theme-font: minor-latin
 \; mso-bidi-font-family: Arial\; mso-bidi-theme-font: minor-bidi\; mso-ans
 i-language: EN-US\; mso-fareast-language: ZH-TW\; mso-bidi-language: AR-SA
 \;&quot;&gt;: &lt;strong&gt;Thursday\, 20 November 2025&lt;/strong&gt;&lt;strong&gt; @ 12:00 UTC (12
  PM GMT)&lt;/strong&gt;&lt;/span&gt;&lt;/p&gt;\n&lt;p class=&quot;MsoNormal&quot; style=&quot;margin-top: 12.0
 pt\;&quot;&gt;&lt;span style=&quot;font-size: 12.0pt\; font-family: &#39;Calibri&#39;\,sans-serif\
 ; mso-ascii-theme-font: minor-latin\; mso-fareast-font-family: PMingLiU\; 
 mso-fareast-theme-font: minor-fareast\; mso-hansi-theme-font: minor-latin\
 ; mso-bidi-font-family: Arial\; mso-bidi-theme-font: minor-bidi\; mso-ansi
 -language: EN-US\; mso-fareast-language: ZH-TW\; mso-bidi-language: AR-SA\
 ;&quot;&gt;&lt;strong&gt;&lt;em&gt;&lt;span style=&quot;font-size: 14.0pt\; font-family: Copperplate\;
  mso-fareast-font-family: PMingLiU\; mso-fareast-theme-font: minor-fareast
 \; mso-bidi-font-family: Arial\; mso-bidi-theme-font: minor-bidi\; mso-ans
 i-language: EN-US\; mso-fareast-language: ZH-TW\; mso-bidi-language: AR-SA
 \;&quot;&gt;PDH Certificate&lt;/span&gt;: &lt;/em&gt;&lt;/strong&gt;&lt;em&gt;while basic attendance is fr
 ee\, this course also offers one (1) Professional Development Hour (PDH) f
 or a nominal fee\; please choose the appropriate &quot;Registration Fee&quot; when r
 egistering\; actual\, verified real-time attendance required for PDH\; add
 itional terms and conditions apply.&lt;/em&gt;&lt;/span&gt;&lt;/p&gt;\n&lt;p class=&quot;MsoNormal&quot; 
 style=&quot;margin-top: .25in\;&quot;&gt;&lt;strong&gt;&lt;u&gt;&lt;span style=&quot;font-size: 16.0pt\; fo
 nt-family: Copperplate\;&quot;&gt;Topic&lt;/span&gt;&lt;/u&gt;&lt;/strong&gt;&lt;strong&gt;&lt;span style=&quot;fo
 nt-size: 16.0pt\; font-family: Copperplate\;&quot;&gt;:&lt;/span&gt;&lt;/strong&gt;&lt;/p&gt;\n&lt;p cl
 ass=&quot;MsoNormal&quot;&gt;&lt;strong&gt;&lt;span style=&quot;font-size: 16pt\;&quot;&gt;AI-Native 6G IP Mo
 ats: Rethinking Global Policy for SEP/FRAND&amp;nbsp\;&lt;/span&gt;&lt;/strong&gt;&lt;/p&gt;\n&lt;p
  class=&quot;MsoNormal&quot; style=&quot;margin-top: .25in\;&quot;&gt;&lt;strong&gt;&lt;u&gt;&lt;span style=&quot;fon
 t-size: 16.0pt\; font-family: Copperplate\;&quot;&gt;Abstract&lt;/span&gt;&lt;/u&gt;&lt;/strong&gt;&lt;
 strong&gt;&lt;span style=&quot;font-size: 16.0pt\; font-family: Copperplate\;&quot;&gt;:&lt;/spa
 n&gt;&lt;/strong&gt;&lt;/p&gt;\n&lt;p&gt;AI-native 6G treats intelligence as a built-in network
  function: models live in the stack (PHY/MAC/RAN/Core)\, steer behavior in
  real time\, and enable semantic communications\, digital-twin control\, a
 nd federated learning across device\, edge\, and cloud. That shift changes
  how we innovate and how we govern IP. Using &amp;ldquo\;IP moats&amp;rdquo\; in t
 he Buffett sense &amp;mdash\; durable advantage from enforceable IP (including
  SEPs)\, data rights\, and standards participation &amp;mdash\; I ask: what gl
 obal policy makes those moats defensible for true contributors while keepi
 ng consumer devices affordable?&lt;/p&gt;\n&lt;p&gt;I propose a practical baseline wit
 h two pillars. Pillar 1: Mandatory essentiality evaluation at ETSI declara
 tion (and at major spec revisions)\, performed by independent evaluators u
 nder a common\, auditable protocol with rebuttal rights &amp;mdash\; recognizi
 ng that in 6G\, essentiality often requires behavioral evidence (simulatio
 ns/benchmarks)\, not text alone. Pillar 2: Transparent\, method-driven FRA
 ND (fair\, reasonable and non-discriminatory) that reflects multi-layer AI
  value (edge silicon\, radio/PHY\, RAN control\, edge orchestration\, clou
 d inference) while guarding against stacking and protecting consumer prici
 ng.&lt;/p&gt;\n&lt;p&gt;To operationalize this\, I introduce two agentic\, provenance-
 first co-pilots:&lt;/p&gt;\n&lt;ol style=&quot;list-style-type: lower-alpha\;&quot;&gt;\n&lt;li&gt;Age
 ntic AI-Powered Essentiality Evaluation Framework &amp;mdash\; aligns claim el
 ements to standards text and versions\, ingests simulation/benchmark artif
 acts\, produces source-pinned evidence packs with confidence scores\, flag
 s family overlap/over-declaration\, and supports human-in-the-loop review.
 &lt;/li&gt;\n&lt;li&gt;Agentic AI-Powered FRAND Evaluation Framework &amp;mdash\; builds a
 uditable rate models (top-down\, incremental value\, usage-based\, or hybr
 id) from shared inputs: portfolio size and essentiality-confidence distrib
 ution\, stack-layer contribution mapping\, device/IoT usage metrics\, ASP 
 tiers\, geography mix\, pool comparables\, and anti-stacking constraints. 
 Outputs include rate corridors\, sensitivity bands\, tiered pricing and sa
 fe-harbor pool options\, plus triggers for de-declaration as specs evolve.
 &lt;/li&gt;\n&lt;/ol&gt;\n&lt;p&gt;&lt;strong&gt;&lt;span style=&quot;font-size: 16.0pt\; font-family: Cop
 perplate\;&quot;&gt;&lt;u&gt;Speaker&lt;/u&gt;:&lt;/span&gt;&lt;/strong&gt;&lt;/p&gt;\n&lt;table style=&quot;border-coll
 apse: collapse\; width: 100%\;&quot; border=&quot;1&quot;&gt;&lt;colgroup&gt;&lt;col style=&quot;width: 14
 .779271%\;&quot;&gt;&lt;col style=&quot;width: 85.12476%\;&quot;&gt;&lt;/colgroup&gt;\n&lt;tbody&gt;\n&lt;tr&gt;\n&lt;t
 d&gt;&lt;img src=&quot;https://events.vtools.ieee.org/vtools_ui/media/display/1f94dd9
 f-1756-4d5b-9b81-21088596d894&quot; alt=&quot;&quot; width=&quot;134&quot; height=&quot;150&quot;&gt;&lt;/td&gt;\n&lt;td&gt;
 \n&lt;p class=&quot;MsoNormal&quot; style=&quot;margin-top: 6.0pt\;&quot;&gt;&lt;strong&gt;Alex G. Lee &lt;/s
 trong&gt;is a NY State attorney\, USPTO-registered patent attorney\, and Cert
 ified Licensing Professional (CLP) with a Ph.D. in Physics (Johns Hopkins)
  and J.D. (Suffolk Law). He bridges 3GPP standards and IP strategy\, havin
 g led hundreds of 3G/4G/5G essentiality evaluations for global programs. A
 s Principal Consultant at TechIPm\, he has supported SEP licensing\, portf
 olio sales\, and enforcement for global companies. He has built agentic AI
 -powered IP intelligence for SEP development\, licensing\, and litigation.
  &amp;nbsp\;Earlier\, he held roles at Hsuanyeh Law Group\, Liquidax Capital\,
  Korea&amp;rsquo\;s National Radio Research Agency\, and Korea Telecom (ITU-R/
 early 3GPP representation). His work focuses on agentic AI-powered framewo
 rks for 5G/6G innovation and SEP portfolio development and monetization.&lt;/
 p&gt;\n&lt;/td&gt;\n&lt;/tr&gt;\n&lt;/tbody&gt;\n&lt;/table&gt;\n&lt;p&gt;&amp;nbsp\;&lt;/p&gt;\n&lt;p&gt;&lt;strong&gt;Brochure 
 (PDF)&lt;/strong&gt;: &lt;strong&gt;&lt;a id=&quot;ow261&quot; class=&quot;pastedDriveLink-1&quot; href=&quot;http
 s://drive.google.com/file/d/1iKy0C_zNIuI3EhB0qOlGQmV82UDxAsXk/view?usp=sha
 re_link&quot;&gt;Webinar-AIML-2025-11-20-Lee-AI-6G-IP-Moats-Brochure.pdf&lt;/a&gt;&amp;nbsp\
 ;&lt;/strong&gt;&lt;/p&gt;
END:VEVENT
END:VCALENDAR

