BEGIN:VCALENDAR
VERSION:2.0
PRODID:IEEE vTools.Events//EN
CALSCALE:GREGORIAN
BEGIN:VTIMEZONE
TZID:US/Eastern
BEGIN:DAYLIGHT
DTSTART:20260308T030000
TZOFFSETFROM:-0500
TZOFFSETTO:-0400
RRULE:FREQ=YEARLY;BYDAY=2SU;BYMONTH=3
TZNAME:EDT
END:DAYLIGHT
BEGIN:STANDARD
DTSTART:20251102T010000
TZOFFSETFROM:-0400
TZOFFSETTO:-0500
RRULE:FREQ=YEARLY;BYDAY=1SU;BYMONTH=11
TZNAME:EST
END:STANDARD
END:VTIMEZONE
BEGIN:VEVENT
DTSTAMP:20251221T141940Z
UID:7B958E6F-3C41-4F54-835D-AB517C844D6F
DTSTART;TZID=US/Eastern:20251218T180000
DTEND;TZID=US/Eastern:20251218T210000
DESCRIPTION:PLEASE NOTE THAT THIS EVENT IS RESCHEDULED FOR THURSDAY\, DECEM
 BER 18.\n\nThe Eastern North Carolina Section of IEEE is pleased to announ
 ce this year&#39;s annual Awards Banquet. We will meet at Prestonwood Country 
 Club in Cary for a nice dinner\, for fellowship\, and to recognize outstan
 ding achievements in our section.\n\nWe are honored to have Mary Ellen Ran
 dall\, IEEE Fellow\, 2025 IEEE President-Elect\, deliver our Keynote addre
 ss. Grayson Randall and the MOVE Team will provide an update on the Move p
 roject. Magreth Mushi\, our ENCS Chair\, will close 2025 and open 2026. Sh
 e and Abhinav Aggarwal will present our 2025 awards program.\n\nThere is a
  non-refundable $10 fee for each Dinner attendee. Guests are welcome.\n\nT
 hank you and we are looking forward to seeing you there.\n\n[Mary Ellen Ra
 ndall | IEEE][][][]\n\nCo-sponsored by: Abhinav Aggarwal &lt;abhinavieee@gmai
 l.com&gt; and Magreth Mushi &lt;magreth.mushi@ieee.org&gt;\n\nAgenda: \nBanquet Pro
 gram Listed Below:\n\n6:00 - 6:30 Social Networking (Check-in\, Name Tags)
  -- All\n\n6:30 - 6:45 Group Photo -- All\n\n6:45 - 7:45 Dinner (continues
 ) -- All\n\n7:15 pm\, 10-15 min -- ENCS 2025 year in Review and Focus for 
 2026 – Magreth Mushi (Section Chair)\n\n7:30 pm\, 20-25 min -- ENCS Keyn
 ote: IEEE 2026 - Mary Ellen Randall (IEEE President-elect)\n\n7:55 pm\, 15
 -20 min -- Move Program Update 2025 - Grayson Randall &amp; David Wright (MOVE
  Team)\n\n8:15 pm\, 20-30 min -- Awards Presentations - Abhinav Aggarwal (
 Award Committee Chair)\n\n8:45 - 9:00 Meet more people -- All\n\n[Magreth 
 Mushi\, PhD\, PMP - Program Director | PhD in Computer ...][Amazon.com: Ab
 hinav Aggarwal: books\, biography\, latest update]\n\nBldg: Prestonwood Co
 untry Club\, 300 Prestonwood Pkwy.\, Cary\, North Carolina\, United States
 \, 27513
LOCATION:Bldg: Prestonwood Country Club\, 300 Prestonwood Pkwy.\, Cary\, No
 rth Carolina\, United States\, 27513
ORGANIZER:magreth.mushi@ieee.org
SEQUENCE:535
SUMMARY:RESCHEDULED: IEEE ENCS Awards Banquet 2025 at Prestonwood on Thursd
 ay\, DEC 18\, 2025
URL;VALUE=URI:https://events.vtools.ieee.org/m/500817
X-ALT-DESC:Description: &lt;br /&gt;&lt;p&gt;&lt;span style=&quot;background-color: rgb(251\, 2
 38\, 184)\;&quot;&gt;PLEASE NOTE THAT THIS EVENT IS RESCHEDULED FOR THURSDAY\, DEC
 EMBER 18.&amp;nbsp\; &amp;nbsp\;&lt;/span&gt;&lt;/p&gt;\n&lt;p&gt;The Eastern North Carolina Section
  of IEEE is pleased to announce this year&#39;s annual Awards Banquet. We will
  meet at Prestonwood Country Club in Cary for a nice dinner\, for fellowsh
 ip\, and to recognize outstanding achievements in our section.&lt;/p&gt;\n&lt;p&gt;We 
 are honored to have Mary Ellen Randall\, IEEE Fellow\, 2025 IEEE President
 -Elect\, deliver our Keynote address.&amp;nbsp\; Grayson Randall and the MOVE 
 Team will provide an update on the Move project.&amp;nbsp\; Magreth Mushi\, ou
 r ENCS Chair\, will close 2025 and open 2026.&amp;nbsp\; She and Abhinav Aggar
 wal will present our 2025 awards program.&lt;/p&gt;\n&lt;p&gt;There is a non-refundabl
 e $10 fee for each Dinner attendee. &amp;nbsp\;Guests are welcome. &amp;nbsp\;&lt;/p&gt;
 \n&lt;p&gt;Thank you and we are looking forward to seeing you there.&lt;/p&gt;\n&lt;p&gt;&lt;im
 g src=&quot;https://events.vtools.ieee.org/vtools_ui/media/display/e439ec7d-428
 7-4f11-b903-1f50ab58b808&quot; alt=&quot;Mary Ellen Randall | IEEE&quot; width=&quot;412&quot; heig
 ht=&quot;412&quot;&gt;&lt;img src=&quot;https://events.vtools.ieee.org/vtools_ui/media/display/
 1a4628de-93fe-4c1a-8ee1-201115d719be&quot; alt=&quot;&quot; width=&quot;551&quot; height=&quot;412&quot;&gt;&lt;img
  src=&quot;https://events.vtools.ieee.org/vtools_ui/media/display/cf72cd54-c5bc
 -46a0-b5f2-62d280164786&quot; alt=&quot;&quot; width=&quot;481&quot; height=&quot;361&quot;&gt;&lt;img src=&quot;https:/
 /events.vtools.ieee.org/vtools_ui/media/display/ed196eb4-2bf4-4e5f-ae29-60
 cd626a8d1a&quot; alt=&quot;&quot; width=&quot;478&quot; height=&quot;358&quot;&gt;&lt;/p&gt;&lt;br /&gt;&lt;br /&gt;Agenda: &lt;br /&gt;
 &lt;p&gt;Banquet Program Listed Below:&lt;/p&gt;\n&lt;p dir=&quot;ltr&quot;&gt;6:00 - 6:30 Social Netw
 orking (Check-in\, Name Tags) -- All&lt;/p&gt;\n&lt;p dir=&quot;ltr&quot;&gt;6:30 - 6:45&amp;nbsp\; 
 Group Photo -- All&lt;/p&gt;\n&lt;p dir=&quot;ltr&quot;&gt;6:45 - 7:45&amp;nbsp\; Dinner (continues)
  -- All&lt;/p&gt;\n&lt;p dir=&quot;ltr&quot;&gt;7:15 pm\, 10-15 min -- ENCS 2025 year in Review 
 and Focus for 2026 &amp;ndash\; Magreth Mushi (Section Chair)&lt;/p&gt;\n&lt;p dir=&quot;ltr
 &quot;&gt;7:30 pm\, 20-25 min -- ENCS Keynote: IEEE 2026 - Mary Ellen Randall (IEE
 E President-elect)&amp;nbsp\;&amp;nbsp\;&lt;/p&gt;\n&lt;p dir=&quot;ltr&quot;&gt;7:55 pm\, 15-20 min -- 
 Move Program Update 2025 - Grayson Randall &amp;amp\; David Wright (MOVE Team)
 &lt;/p&gt;\n&lt;p dir=&quot;ltr&quot;&gt;8:15 pm\, 20-30 min -- Awards Presentations - Abhinav A
 ggarwal (Award Committee Chair)&lt;/p&gt;\n&lt;p dir=&quot;ltr&quot;&gt;8:45 - 9:00 Meet more pe
 ople -- All&lt;/p&gt;\n&lt;p&gt;&amp;nbsp\;&lt;/p&gt;\n&lt;p&gt;&lt;img src=&quot;https://events.vtools.ieee.o
 rg/vtools_ui/media/display/a04e0f15-65d6-4145-b9f9-b0498cacbc65&quot; width=&quot;43
 5&quot; height=&quot;290&quot;&gt;&lt;img src=&quot;https://events.vtools.ieee.org/vtools_ui/media/d
 isplay/0a65b73e-efba-4a99-aaf6-388d68579795&quot; width=&quot;433&quot; height=&quot;289&quot;&gt;&lt;img
  src=&quot;https://events.vtools.ieee.org/vtools_ui/media/display/9e32fafa-f81a
 -4f1d-bed8-e53cb2a01add&quot; alt=&quot;Magreth Mushi\, PhD\, PMP - Program Director
  | PhD in Computer ...&quot; width=&quot;315&quot; height=&quot;296&quot;&gt;&lt;img src=&quot;https://m.media
 -amazon.com/images/I/31LkO+eTg1L.jpg&quot; alt=&quot;Amazon.com: Abhinav Aggarwal: b
 ooks\, biography\, latest update&quot; width=&quot;298&quot; height=&quot;298&quot;&gt;&lt;img src=&quot;https
 ://attend.ieee.org/wie-forum-usa-east-2025/wp-content/uploads/sites/707/20
 25/09/TulikaJha.jpg&quot; width=&quot;295&quot; height=&quot;295&quot;&gt;&lt;/p&gt;\n&lt;p&gt;&amp;nbsp\;&lt;/p&gt;
END:VEVENT
END:VCALENDAR

