BEGIN:VCALENDAR
VERSION:2.0
PRODID:IEEE vTools.Events//EN
CALSCALE:GREGORIAN
BEGIN:VTIMEZONE
TZID:America/Bogota
BEGIN:DAYLIGHT
DTSTART:20380118T221407
TZOFFSETFROM:-0500
TZOFFSETTO:-0500
RRULE:FREQ=YEARLY;BYDAY=3MO;BYMONTH=1
TZNAME:-05
END:DAYLIGHT
BEGIN:STANDARD
DTSTART:19930206T230000
TZOFFSETFROM:-0400
TZOFFSETTO:-0500
RRULE:FREQ=YEARLY;BYDAY=1SA;BYMONTH=2
TZNAME:-05
END:STANDARD
END:VTIMEZONE
BEGIN:VEVENT
DTSTAMP:20251113T134901Z
UID:346F5713-16F6-4B3C-A554-795C70B43F25
DTSTART;TZID=America/Bogota:20251021T100000
DTEND;TZID=America/Bogota:20251021T110000
DESCRIPTION:La conferencia &quot;Mobile Security&quot; será impartida por la destaca
 da conferencista Baek-Young Choi\, Distinguished Lecturer de IEEE ComSoc. 
 Este evento se llevará a cabo el 21 de octubre de 2025 a las 10:00 a.m. e
 n la Universidad Tecnológica de Panamá (UTP).\n\nDurante la charla\, se 
 abordarán los principales retos y tendencias en seguridad móvil\, un tem
 a crucial en la actualidad debido al incremento en el uso de dispositivos 
 móviles y la creciente necesidad de proteger la información y las comuni
 caciones. Los asistentes tendrán la oportunidad de conocer estrategias y 
 tecnologías clave para la protección de datos\, redes y sistemas móvile
 s.\n\nEste evento forma parte del COMSOC Distinguished Lecture Tour 2025\,
  con la participación de expertos de Brasil\, Colombia y Panamá\, y es o
 rganizado por el IEEE Communications Society (ComSoc)\, Capítulo Panamá.
 \nUna oportunidad única para actualizarse en temas de ciberseguridad y fo
 rtalecer la resiliencia digital de organizaciones y usuarios.\n\n-\nConfer
 encista: Baek-Young Choi (Distinguished Lecturer)\n\n-\nFecha: 21 de octub
 re de 2025\n\n-\nHora: 10:00 AM\n\n-\nLugar: UTP (Universidad Tecnológica
  de Panamá)\n\n-\nEvento: COMSOC Distinguished Lecture Tour 2025\n\n-\nRe
 giones participantes: Brasil - Colombia - Panamá\n\n-\nOrganiza: IEEE Com
 munications Society (ComSoc)\, Capítulo Panamá\n\nAgenda: \n-\nTema: Mob
 ile Security\n\n-\nConferencista: Baek-Young Choi (Distinguished Lecturer)
 \n\n-\nFecha: 21 de octubre de 2025\n\n-\nHora: 10:00 AM\n\n-\nLugar: UTP 
 (Universidad Tecnológica de Panamá)\n\n-\nEvento: COMSOC Distinguished L
 ecture Tour 2025\n\n-\nRegiones participantes: Brasil - Colombia - Panamá
 \n\n-\nOrganiza: IEEE Communications Society (ComSoc)\, Capítulo Panamá\
 n\nAvenida Ricardo J. Alfaro\, Campus Central Dr. Víctor Levi Sasso\, UTP
  (Universidad Tecnológica de Panamá)\, Panama\, Panama\, Panama
LOCATION:Avenida Ricardo J. Alfaro\, Campus Central Dr. Víctor Levi Sasso\
 , UTP (Universidad Tecnológica de Panamá)\, Panama\, Panama\, Panama
ORGANIZER:aris.castillo@ieee.org
SEQUENCE:14
SUMMARY:Mobile Security
URL;VALUE=URI:https://events.vtools.ieee.org/m/500836
X-ALT-DESC:Description: &lt;br /&gt;&lt;p data-start=&quot;162&quot; data-end=&quot;441&quot;&gt;La confere
 ncia &lt;strong data-start=&quot;177&quot; data-end=&quot;198&quot;&gt;&quot;Mobile Security&quot;&lt;/strong&gt; se
 r&amp;aacute\; impartida por la destacada conferencista &lt;strong data-start=&quot;24
 5&quot; data-end=&quot;264&quot;&gt;Baek-Young Choi&lt;/strong&gt;\, &lt;strong data-start=&quot;266&quot; data
 -end=&quot;292&quot;&gt;Distinguished Lecturer&lt;/strong&gt; de IEEE ComSoc. Este evento se 
 llevar&amp;aacute\; a cabo el &lt;strong data-start=&quot;342&quot; data-end=&quot;367&quot;&gt;21 de oc
 tubre de 2025&lt;/strong&gt; a las &lt;strong data-start=&quot;374&quot; data-end=&quot;388&quot;&gt;10:00
  a.m.&lt;/strong&gt; en la &lt;strong data-start=&quot;395&quot; data-end=&quot;438&quot;&gt;Universidad T
 ecnol&amp;oacute\;gica de Panam&amp;aacute\; (UTP)&lt;/strong&gt;.&lt;/p&gt;\n&lt;p data-start=&quot;4
 43&quot; data-end=&quot;833&quot;&gt;Durante la charla\, se abordar&amp;aacute\;n los principale
 s retos y tendencias en &lt;strong data-start=&quot;513&quot; data-end=&quot;532&quot;&gt;seguridad 
 m&amp;oacute\;vil&lt;/strong&gt;\, un tema crucial en la actualidad debido al increm
 ento en el uso de dispositivos m&amp;oacute\;viles y la creciente necesidad de
  proteger la informaci&amp;oacute\;n y las comunicaciones. Los asistentes tend
 r&amp;aacute\;n la oportunidad de conocer estrategias y tecnolog&amp;iacute\;as cl
 ave para la protecci&amp;oacute\;n de datos\, redes y sistemas m&amp;oacute\;viles
 .&lt;/p&gt;\n&lt;p data-start=&quot;835&quot; data-end=&quot;1190&quot;&gt;Este evento forma parte del &lt;st
 rong data-start=&quot;863&quot; data-end=&quot;905&quot;&gt;COMSOC Distinguished Lecture Tour 202
 5&lt;/strong&gt;\, con la participaci&amp;oacute\;n de expertos de &lt;strong data-star
 t=&quot;943&quot; data-end=&quot;972&quot;&gt;Brasil\, Colombia y Panam&amp;aacute\;&lt;/strong&gt;\, y es 
 organizado por el &lt;strong data-start=&quot;997&quot; data-end=&quot;1054&quot;&gt;IEEE Communicat
 ions Society (ComSoc)\, Cap&amp;iacute\;tulo Panam&amp;aacute\;&lt;/strong&gt;.&lt;br data-
 start=&quot;1055&quot; data-end=&quot;1058&quot;&gt;Una oportunidad &amp;uacute\;nica para actualizar
 se en temas de ciberseguridad y fortalecer la resiliencia digital de organ
 izaciones y usuarios.&lt;/p&gt;\n&lt;ul&gt;\n&lt;li data-start=&quot;135&quot; data-end=&quot;198&quot;&gt;\n&lt;p 
 data-start=&quot;137&quot; data-end=&quot;198&quot;&gt;&lt;strong data-start=&quot;137&quot; data-end=&quot;155&quot;&gt;Co
 nferencista:&lt;/strong&gt; Baek-Young Choi (Distinguished Lecturer)&lt;/p&gt;\n&lt;/li&gt;\
 n&lt;li data-start=&quot;199&quot; data-end=&quot;235&quot;&gt;\n&lt;p data-start=&quot;201&quot; data-end=&quot;235&quot;&gt;
 &lt;strong data-start=&quot;201&quot; data-end=&quot;211&quot;&gt;Fecha:&lt;/strong&gt; 21 de octubre de 2
 025&lt;/p&gt;\n&lt;/li&gt;\n&lt;li data-start=&quot;236&quot; data-end=&quot;258&quot;&gt;\n&lt;p data-start=&quot;238&quot; 
 data-end=&quot;258&quot;&gt;&lt;strong data-start=&quot;238&quot; data-end=&quot;247&quot;&gt;Hora:&lt;/strong&gt; 10:0
 0 AM&lt;/p&gt;\n&lt;/li&gt;\n&lt;li data-start=&quot;259&quot; data-end=&quot;313&quot;&gt;\n&lt;p data-start=&quot;261&quot;
  data-end=&quot;313&quot;&gt;&lt;strong data-start=&quot;261&quot; data-end=&quot;271&quot;&gt;Lugar:&lt;/strong&gt; UT
 P (Universidad Tecnol&amp;oacute\;gica de Panam&amp;aacute\;)&lt;/p&gt;\n&lt;/li&gt;\n&lt;li data
 -start=&quot;314&quot; data-end=&quot;368&quot;&gt;\n&lt;p data-start=&quot;316&quot; data-end=&quot;368&quot;&gt;&lt;strong d
 ata-start=&quot;316&quot; data-end=&quot;327&quot;&gt;Evento:&lt;/strong&gt; COMSOC Distinguished Lectu
 re Tour 2025&lt;/p&gt;\n&lt;/li&gt;\n&lt;li data-start=&quot;369&quot; data-end=&quot;427&quot;&gt;\n&lt;p data-sta
 rt=&quot;371&quot; data-end=&quot;427&quot;&gt;&lt;strong data-start=&quot;371&quot; data-end=&quot;398&quot;&gt;Regiones p
 articipantes:&lt;/strong&gt; Brasil - Colombia - Panam&amp;aacute\;&lt;/p&gt;\n&lt;/li&gt;\n&lt;li 
 data-start=&quot;428&quot; data-end=&quot;499&quot;&gt;\n&lt;p data-start=&quot;430&quot; data-end=&quot;499&quot;&gt;&lt;stro
 ng data-start=&quot;430&quot; data-end=&quot;443&quot;&gt;Organiza:&lt;/strong&gt; IEEE Communications 
 Society (ComSoc)\, Cap&amp;iacute\;tulo Panam&amp;aacute\;&lt;/p&gt;\n&lt;/li&gt;\n&lt;/ul&gt;&lt;br /&gt;
 &lt;br /&gt;Agenda: &lt;br /&gt;&lt;ul&gt;\n&lt;li data-start=&quot;105&quot; data-end=&quot;134&quot;&gt;\n&lt;p data-st
 art=&quot;107&quot; data-end=&quot;134&quot;&gt;&lt;strong data-start=&quot;107&quot; data-end=&quot;116&quot;&gt;Tema:&lt;/st
 rong&gt; Mobile Security&lt;/p&gt;\n&lt;/li&gt;\n&lt;li data-start=&quot;135&quot; data-end=&quot;198&quot;&gt;\n&lt;p
  data-start=&quot;137&quot; data-end=&quot;198&quot;&gt;&lt;strong data-start=&quot;137&quot; data-end=&quot;155&quot;&gt;C
 onferencista:&lt;/strong&gt; Baek-Young Choi (Distinguished Lecturer)&lt;/p&gt;\n&lt;/li&gt;
 \n&lt;li data-start=&quot;199&quot; data-end=&quot;235&quot;&gt;\n&lt;p data-start=&quot;201&quot; data-end=&quot;235&quot;
 &gt;&lt;strong data-start=&quot;201&quot; data-end=&quot;211&quot;&gt;Fecha:&lt;/strong&gt; 21 de octubre de 
 2025&lt;/p&gt;\n&lt;/li&gt;\n&lt;li data-start=&quot;236&quot; data-end=&quot;258&quot;&gt;\n&lt;p data-start=&quot;238&quot;
  data-end=&quot;258&quot;&gt;&lt;strong data-start=&quot;238&quot; data-end=&quot;247&quot;&gt;Hora:&lt;/strong&gt; 10:
 00 AM&lt;/p&gt;\n&lt;/li&gt;\n&lt;li data-start=&quot;259&quot; data-end=&quot;313&quot;&gt;\n&lt;p data-start=&quot;261
 &quot; data-end=&quot;313&quot;&gt;&lt;strong data-start=&quot;261&quot; data-end=&quot;271&quot;&gt;Lugar:&lt;/strong&gt; U
 TP (Universidad Tecnol&amp;oacute\;gica de Panam&amp;aacute\;)&lt;/p&gt;\n&lt;/li&gt;\n&lt;li dat
 a-start=&quot;314&quot; data-end=&quot;368&quot;&gt;\n&lt;p data-start=&quot;316&quot; data-end=&quot;368&quot;&gt;&lt;strong 
 data-start=&quot;316&quot; data-end=&quot;327&quot;&gt;Evento:&lt;/strong&gt; COMSOC Distinguished Lect
 ure Tour 2025&lt;/p&gt;\n&lt;/li&gt;\n&lt;li data-start=&quot;369&quot; data-end=&quot;427&quot;&gt;\n&lt;p data-st
 art=&quot;371&quot; data-end=&quot;427&quot;&gt;&lt;strong data-start=&quot;371&quot; data-end=&quot;398&quot;&gt;Regiones 
 participantes:&lt;/strong&gt; Brasil - Colombia - Panam&amp;aacute\;&lt;/p&gt;\n&lt;/li&gt;\n&lt;li
  data-start=&quot;428&quot; data-end=&quot;499&quot;&gt;\n&lt;p data-start=&quot;430&quot; data-end=&quot;499&quot;&gt;&lt;str
 ong data-start=&quot;430&quot; data-end=&quot;443&quot;&gt;Organiza:&lt;/strong&gt; IEEE Communications
  Society (ComSoc)\, Cap&amp;iacute\;tulo Panam&amp;aacute\;&lt;/p&gt;\n&lt;/li&gt;\n&lt;/ul&gt;
END:VEVENT
END:VCALENDAR

