BEGIN:VCALENDAR
VERSION:2.0
PRODID:IEEE vTools.Events//EN
CALSCALE:GREGORIAN
BEGIN:VTIMEZONE
TZID:Asia/Kolkata
BEGIN:STANDARD
DTSTART:19451014T230000
TZOFFSETFROM:+0630
TZOFFSETTO:+0530
TZNAME:IST
END:STANDARD
END:VTIMEZONE
BEGIN:VEVENT
DTSTAMP:20250913T055730Z
UID:4E0EA1C4-7C0C-4F98-B6F2-3158F9743A78
DTSTART;TZID=Asia/Kolkata:20250414T100000
DTEND;TZID=Asia/Kolkata:20250419T170000
DESCRIPTION:Faculty and Students Development Programme &amp; MoU Signing Ceremo
 ny with LEAP (Learn Engineering by Activity &amp; Product)”\n\nThe event is 
 organized by the Faculty of Engineering (CCSIT &amp; CoE) in collaboration wit
 h IIT Madras\, scheduled from 14th April to 19th April 2025.\n\nKey Detail
 s in the Banner:\n\n-\nChief Patrons:\n\n-\nShri Suresh Jain (Hon’ble Ch
 ancellor\, TMU)\n\n-\nShri Manish Jain (Hon’ble GVC\, TMU)\n\n-\nShri Ak
 shat Jain (Executive Director\, TMU)\n\n-\nGuiding Sources:\n\n-\nProf. (D
 r.) V. K. Jain (Vice Chancellor\, TMU)\n\n-\nProf. (Dr.) Manjula Jain (Dea
 n Academics\, TMU)\n\n-\nProf. (Dr.) R. K. Dwivedi (Dean\, Faculty of Engi
 neering\, TMU)\n\n-\nExperts from LEAP:\n\n-\nProf. Satish Chandra Jain (C
 o-founder\, LEAP &amp; Ex-Prof\, IIT Roorkee)\n\n-\nProf. Timothy Gonsalves (F
 ounder\, LEAP &amp; Founding Director\, IIT)\n\n-\nMrs. Deepti Gupta (Expert\,
  LEAP)\n\n-\nMr. Praveen Kumar (Project Consultant\, LEAP)\n\n-\nMrs. Hema
  Rani (Co-founder\, LEAP &amp; Sr. Technology &amp; Product Leader)\n\n-\nMr. P. S
 . Naidu (Sr. Technology &amp; Product Leader\, LEAP)\n\n-\nHosts:\n\n-\nDr. Su
 nkulp Goel (Coordinator\, Tinkering Lab &amp; Associate Professor\, TMU)\n\n-\
 nDr. Amit Kansal (Associate Dean\, TMU)\n\n-\nEvent Details:\n\n-\nDate: 1
 4th April 2025\n\n-\nTime: 09:30 AM onwards\n\n-\nVenue: LT-2\, CCSIT\, TM
 U\n\nAdditional Features:\n\n-\nLogos of LEAP\, Maker Bhavan Foundation\, 
 and IITM Incubation Cell are displayed\, showing collaborative partners.\n
 \n-\nThe banner is visually designed with professional photos of all digni
 taries\, experts\, and hosts\, along with TMU’s accreditation details (N
 AAC A Grade\, 12-B Status from UGC).[]\n\nTeerthanker Mahaveer University\
 , Moradabad\, Uttar Pradesh\, India\, 244001
LOCATION:Teerthanker Mahaveer University\, Moradabad\, Uttar Pradesh\, Indi
 a\, 244001
ORGANIZER:dwivedi.rakesh02@gmail.com
SEQUENCE:10
SUMMARY:MoU signing Ceremony in LEAP Program in collaboration with IIT Madr
 as
URL;VALUE=URI:https://events.vtools.ieee.org/m/500849
X-ALT-DESC:Description: &lt;br /&gt;&lt;p data-start=&quot;113&quot; data-end=&quot;238&quot;&gt;&lt;strong da
 ta-start=&quot;113&quot; data-end=&quot;236&quot;&gt;Faculty and Students Development Programme &amp;
 amp\; MoU Signing Ceremony with LEAP (Learn Engineering by Activity &amp;amp\;
  Product)&amp;rdquo\;&lt;/strong&gt;&lt;/p&gt;\n&lt;p data-start=&quot;240&quot; data-end=&quot;400&quot;&gt;The eve
 nt is organized by the &lt;strong data-start=&quot;270&quot; data-end=&quot;310&quot;&gt;Faculty of 
 Engineering (CCSIT &amp;amp\; CoE)&lt;/strong&gt; in collaboration with &lt;strong data
 -start=&quot;333&quot; data-end=&quot;347&quot;&gt;IIT Madras&lt;/strong&gt;\, scheduled from &lt;strong d
 ata-start=&quot;364&quot; data-end=&quot;397&quot;&gt;14th April to 19th April 2025&lt;/strong&gt;.&lt;/p&gt;
 \n&lt;h3 data-start=&quot;402&quot; data-end=&quot;434&quot;&gt;Key Details in the Banner:&lt;/h3&gt;\n&lt;ul
  data-start=&quot;435&quot; data-end=&quot;1457&quot;&gt;\n&lt;li data-start=&quot;435&quot; data-end=&quot;597&quot;&gt;\n
 &lt;p data-start=&quot;437&quot; data-end=&quot;457&quot;&gt;&lt;strong data-start=&quot;437&quot; data-end=&quot;454&quot;
 &gt;Chief Patrons&lt;/strong&gt;:&lt;/p&gt;\n&lt;ul data-start=&quot;460&quot; data-end=&quot;597&quot;&gt;\n&lt;li da
 ta-start=&quot;460&quot; data-end=&quot;506&quot;&gt;\n&lt;p data-start=&quot;462&quot; data-end=&quot;506&quot;&gt;Shri Su
 resh Jain (Hon&amp;rsquo\;ble Chancellor\, TMU)&lt;/p&gt;\n&lt;/li&gt;\n&lt;li data-start=&quot;50
 9&quot; data-end=&quot;548&quot;&gt;\n&lt;p data-start=&quot;511&quot; data-end=&quot;548&quot;&gt;Shri Manish Jain (H
 on&amp;rsquo\;ble GVC\, TMU)&lt;/p&gt;\n&lt;/li&gt;\n&lt;li data-start=&quot;551&quot; data-end=&quot;597&quot;&gt;\
 n&lt;p data-start=&quot;553&quot; data-end=&quot;597&quot;&gt;Shri Akshat Jain (Executive Director\,
  TMU)&lt;/p&gt;\n&lt;/li&gt;\n&lt;/ul&gt;\n&lt;/li&gt;\n&lt;li data-start=&quot;599&quot; data-end=&quot;796&quot;&gt;\n&lt;p d
 ata-start=&quot;601&quot; data-end=&quot;623&quot;&gt;&lt;strong data-start=&quot;601&quot; data-end=&quot;620&quot;&gt;Gui
 ding Sources&lt;/strong&gt;:&lt;/p&gt;\n&lt;ul data-start=&quot;626&quot; data-end=&quot;796&quot;&gt;\n&lt;li data
 -start=&quot;626&quot; data-end=&quot;675&quot;&gt;\n&lt;p data-start=&quot;628&quot; data-end=&quot;675&quot;&gt;Prof. (Dr
 .) V. K. Jain (Vice Chancellor\, TMU)&lt;/p&gt;\n&lt;/li&gt;\n&lt;li data-start=&quot;678&quot; dat
 a-end=&quot;728&quot;&gt;\n&lt;p data-start=&quot;680&quot; data-end=&quot;728&quot;&gt;Prof. (Dr.) Manjula Jain 
 (Dean Academics\, TMU)&lt;/p&gt;\n&lt;/li&gt;\n&lt;li data-start=&quot;731&quot; data-end=&quot;796&quot;&gt;\n&lt;
 p data-start=&quot;733&quot; data-end=&quot;796&quot;&gt;Prof. (Dr.) R. K. Dwivedi (Dean\, Facult
 y of Engineering\, TMU)&lt;/p&gt;\n&lt;/li&gt;\n&lt;/ul&gt;\n&lt;/li&gt;\n&lt;li data-start=&quot;798&quot; dat
 a-end=&quot;1195&quot;&gt;\n&lt;p data-start=&quot;800&quot; data-end=&quot;824&quot;&gt;&lt;strong data-start=&quot;800&quot;
  data-end=&quot;821&quot;&gt;Experts from LEAP&lt;/strong&gt;:&lt;/p&gt;\n&lt;ul data-start=&quot;827&quot; data
 -end=&quot;1195&quot;&gt;\n&lt;li data-start=&quot;827&quot; data-end=&quot;898&quot;&gt;\n&lt;p data-start=&quot;829&quot; da
 ta-end=&quot;898&quot;&gt;Prof. Satish Chandra Jain (Co-founder\, LEAP &amp;amp\; Ex-Prof\,
  IIT Roorkee)&lt;/p&gt;\n&lt;/li&gt;\n&lt;li data-start=&quot;901&quot; data-end=&quot;969&quot;&gt;\n&lt;p data-st
 art=&quot;903&quot; data-end=&quot;969&quot;&gt;Prof. Timothy Gonsalves (Founder\, LEAP &amp;amp\; Fo
 unding Director\, IIT)&lt;/p&gt;\n&lt;/li&gt;\n&lt;li data-start=&quot;972&quot; data-end=&quot;1008&quot;&gt;\n
 &lt;p data-start=&quot;974&quot; data-end=&quot;1008&quot;&gt;Mrs. Deepti Gupta (Expert\, LEAP)&lt;/p&gt;\
 n&lt;/li&gt;\n&lt;li data-start=&quot;1011&quot; data-end=&quot;1059&quot;&gt;\n&lt;p data-start=&quot;1013&quot; data-
 end=&quot;1059&quot;&gt;Mr. Praveen Kumar (Project Consultant\, LEAP)&lt;/p&gt;\n&lt;/li&gt;\n&lt;li d
 ata-start=&quot;1062&quot; data-end=&quot;1133&quot;&gt;\n&lt;p data-start=&quot;1064&quot; data-end=&quot;1133&quot;&gt;Mr
 s. Hema Rani (Co-founder\, LEAP &amp;amp\; Sr. Technology &amp;amp\; Product Leade
 r)&lt;/p&gt;\n&lt;/li&gt;\n&lt;li data-start=&quot;1136&quot; data-end=&quot;1195&quot;&gt;\n&lt;p data-start=&quot;1138
 &quot; data-end=&quot;1195&quot;&gt;Mr. P. S. Naidu (Sr. Technology &amp;amp\; Product Leader\, 
 LEAP)&lt;/p&gt;\n&lt;/li&gt;\n&lt;/ul&gt;\n&lt;/li&gt;\n&lt;li data-start=&quot;1197&quot; data-end=&quot;1334&quot;&gt;\n&lt;p
  data-start=&quot;1199&quot; data-end=&quot;1211&quot;&gt;&lt;strong data-start=&quot;1199&quot; data-end=&quot;120
 8&quot;&gt;Hosts&lt;/strong&gt;:&lt;/p&gt;\n&lt;ul data-start=&quot;1214&quot; data-end=&quot;1334&quot;&gt;\n&lt;li data-s
 tart=&quot;1214&quot; data-end=&quot;1290&quot;&gt;\n&lt;p data-start=&quot;1216&quot; data-end=&quot;1290&quot;&gt;Dr. Sun
 kulp Goel (Coordinator\, Tinkering Lab &amp;amp\; Associate Professor\, TMU)&lt;/
 p&gt;\n&lt;/li&gt;\n&lt;li data-start=&quot;1293&quot; data-end=&quot;1334&quot;&gt;\n&lt;p data-start=&quot;1295&quot; da
 ta-end=&quot;1334&quot;&gt;Dr. Amit Kansal (Associate Dean\, TMU)&lt;/p&gt;\n&lt;/li&gt;\n&lt;/ul&gt;\n&lt;/
 li&gt;\n&lt;li data-start=&quot;1336&quot; data-end=&quot;1457&quot;&gt;\n&lt;p data-start=&quot;1338&quot; data-end
 =&quot;1358&quot;&gt;&lt;strong data-start=&quot;1338&quot; data-end=&quot;1355&quot;&gt;Event Details&lt;/strong&gt;:&lt;
 /p&gt;\n&lt;ul data-start=&quot;1361&quot; data-end=&quot;1457&quot;&gt;\n&lt;li data-start=&quot;1361&quot; data-en
 d=&quot;1390&quot;&gt;\n&lt;p data-start=&quot;1363&quot; data-end=&quot;1390&quot;&gt;&lt;strong data-start=&quot;1363&quot; 
 data-end=&quot;1371&quot;&gt;Date&lt;/strong&gt;: 14th April 2025&lt;/p&gt;\n&lt;/li&gt;\n&lt;li data-start=
 &quot;1393&quot; data-end=&quot;1423&quot;&gt;\n&lt;p data-start=&quot;1395&quot; data-end=&quot;1423&quot;&gt;&lt;strong data
 -start=&quot;1395&quot; data-end=&quot;1403&quot;&gt;Time&lt;/strong&gt;: 09:30 AM onwards&lt;/p&gt;\n&lt;/li&gt;\n
 &lt;li data-start=&quot;1426&quot; data-end=&quot;1457&quot;&gt;\n&lt;p data-start=&quot;1428&quot; data-end=&quot;145
 7&quot;&gt;&lt;strong data-start=&quot;1428&quot; data-end=&quot;1437&quot;&gt;Venue&lt;/strong&gt;: LT-2\, CCSIT\
 , TMU&lt;/p&gt;\n&lt;/li&gt;\n&lt;/ul&gt;\n&lt;/li&gt;\n&lt;/ul&gt;\n&lt;h3 data-start=&quot;1459&quot; data-end=&quot;148
 5&quot;&gt;Additional Features:&lt;/h3&gt;\n&lt;ul data-start=&quot;1486&quot; data-end=&quot;1791&quot;&gt;\n&lt;li 
 data-start=&quot;1486&quot; data-end=&quot;1613&quot;&gt;\n&lt;p data-start=&quot;1488&quot; data-end=&quot;1613&quot;&gt;L
 ogos of &lt;strong data-start=&quot;1497&quot; data-end=&quot;1505&quot;&gt;LEAP&lt;/strong&gt;\, &lt;strong 
 data-start=&quot;1507&quot; data-end=&quot;1534&quot;&gt;Maker Bhavan Foundation&lt;/strong&gt;\, and &lt;
 strong data-start=&quot;1540&quot; data-end=&quot;1564&quot;&gt;IITM Incubation Cell&lt;/strong&gt; are
  displayed\, showing collaborative partners.&lt;/p&gt;\n&lt;/li&gt;\n&lt;li data-start=&quot;1
 614&quot; data-end=&quot;1791&quot;&gt;\n&lt;p data-start=&quot;1616&quot; data-end=&quot;1791&quot;&gt;The banner is 
 visually designed with professional photos of all dignitaries\, experts\, 
 and hosts\, along with TMU&amp;rsquo\;s accreditation details (NAAC A Grade\, 
 12-B Status from UGC).&lt;img src=&quot;https://events.vtools.ieee.org/vtools_ui/m
 edia/display/c213027f-367a-455b-a992-54a56bdf0f18&quot; alt=&quot;&quot;&gt;&lt;/p&gt;\n&lt;/li&gt;\n&lt;/u
 l&gt;
END:VEVENT
END:VCALENDAR

