BEGIN:VCALENDAR
VERSION:2.0
PRODID:IEEE vTools.Events//EN
CALSCALE:GREGORIAN
BEGIN:VTIMEZONE
TZID:America/New_York
BEGIN:DAYLIGHT
DTSTART:20250309T030000
TZOFFSETFROM:-0500
TZOFFSETTO:-0400
RRULE:FREQ=YEARLY;BYDAY=2SU;BYMONTH=3
TZNAME:EDT
END:DAYLIGHT
BEGIN:STANDARD
DTSTART:20251102T010000
TZOFFSETFROM:-0400
TZOFFSETTO:-0500
RRULE:FREQ=YEARLY;BYDAY=1SU;BYMONTH=11
TZNAME:EST
END:STANDARD
END:VTIMEZONE
BEGIN:VEVENT
DTSTAMP:20250926T045927Z
UID:7831BC59-EEC7-467A-84AA-ADB0DDC5BC7C
DTSTART;TZID=America/New_York:20250922T120000
DTEND;TZID=America/New_York:20250922T140000
DESCRIPTION:Thinking about doing grad school? Hear from a panel of graduate
  school students in M.Sc.\, M.Eng.\, and PhD programs who will tell you al
 l about their experiences and answer all of your burning questions!\n\nRoo
 m: FDA 3 (Engine)\, Bldg: Frank Dawson Adams Building\, 3450 Rue Universit
 y\, Montréal\, Quebec\, Canada\, H3A 2A7
LOCATION:Room: FDA 3 (Engine)\, Bldg: Frank Dawson Adams Building\, 3450 Ru
 e University\, Montréal\, Quebec\, Canada\, H3A 2A7
ORGANIZER:ieee@mcgilleus.ca
SEQUENCE:20
SUMMARY:Graduate School 101
URL;VALUE=URI:https://events.vtools.ieee.org/m/501075
X-ALT-DESC:Description: &lt;br /&gt;&lt;p&gt;Thinking about doing grad school? Hear fro
 m a panel of graduate school students in M.Sc.\, M.Eng.\, and PhD programs
  who will tell you all about their experiences and answer all of your burn
 ing questions!&lt;/p&gt;
END:VEVENT
END:VCALENDAR

