BEGIN:VCALENDAR
VERSION:2.0
PRODID:IEEE vTools.Events//EN
CALSCALE:GREGORIAN
BEGIN:VTIMEZONE
TZID:America/New_York
BEGIN:DAYLIGHT
DTSTART:20250309T030000
TZOFFSETFROM:-0500
TZOFFSETTO:-0400
RRULE:FREQ=YEARLY;BYDAY=2SU;BYMONTH=3
TZNAME:EDT
END:DAYLIGHT
BEGIN:STANDARD
DTSTART:20251102T010000
TZOFFSETFROM:-0400
TZOFFSETTO:-0500
RRULE:FREQ=YEARLY;BYDAY=1SU;BYMONTH=11
TZNAME:EST
END:STANDARD
END:VTIMEZONE
BEGIN:VEVENT
DTSTAMP:20251006T120958Z
UID:170FBAFD-C2A4-401F-B9A2-CC7AA9B7442D
DTSTART;TZID=America/New_York:20251008T170000
DTEND;TZID=America/New_York:20251008T200000
DESCRIPTION:Please join the Boston IEEE Reliability Chapter at ASMPT NEXX i
 n Billerica for the following Technical Presentation on Wednesday October 
 8\, 2025!\n\nThere will be multiple speakers presenting Application Case H
 istory of real world customer examples on how Loctite adhesives\, sealants
 \, dispense &amp; curing equipment have been used for new product designs and 
 to solve existing product manufacturing challenges.\n\nSpeakers:\n\nMark Q
 uarantiello - Loctite Territory Sales Engineer – Northern New England\nK
 risten Loose - Henkel Lead Application Engineer\nSyndey Hanson - Loctite T
 erritory Sales Engineer – Southern New England &amp; New York\n\nSpeaker(s):
  Mark Quarantiello\, Sydney Hanson\, Kristen Loose\n\nAgenda: \n5:00 pm do
 ors open at ASMPT NEXX in Billerica\, for networking\n\n5:30 pm: Pizza\, s
 alad\, and refreshments are scheduled to arrive\, while networking continu
 es\n\n6:00 pm: Technical Presentation\n\n7:00 pm: Formal Q&amp;A\n\n7:30 pm: M
 eeting adjourns\, informal Q&amp;A and networking\n\n.\n\nBldg: Building 6 - s
 ee signage at site\, 900 Middlesex Turnpike\, Billerica\, Massachusetts\, 
 United States\, 01821
LOCATION:Bldg: Building 6 - see signage at site\, 900 Middlesex Turnpike\, 
 Billerica\, Massachusetts\, United States\, 01821
ORGANIZER:danweidman@ieee.org
SEQUENCE:46
SUMMARY:Adhesives\, Sealants\, and Associated Equipment: Reliability Improv
 ements for Industrial Manufacturers including Case Studies
URL;VALUE=URI:https://events.vtools.ieee.org/m/501094
X-ALT-DESC:Description: &lt;br /&gt;&lt;p class=&quot;MsoNormal&quot;&gt;&lt;span style=&quot;font-family
 : &#39;Arial&#39;\,sans-serif\;&quot;&gt;Please join the Boston IEEE Reliability Chapter a
 t ASMPT NEXX in Billerica for the following Technical Presentation on Wedn
 esday October 8\, 2025!&lt;/span&gt;&lt;/p&gt;\n&lt;p class=&quot;MsoNormal&quot;&gt;&lt;span style=&quot;font
 -family: &#39;Arial&#39;\,sans-serif\;&quot;&gt;There will be multiple speakers presenting
  Application Case History of real world customer examples on how Loctite a
 dhesives\, sealants\, dispense &amp;amp\; curing equipment have been used for 
 new product designs and to solve existing product manufacturing challenges
 .&amp;nbsp\;&lt;/span&gt;&lt;/p&gt;\n&lt;p class=&quot;MsoNormal&quot;&gt;&lt;strong&gt;&lt;span style=&quot;font-family
 : &#39;Arial&#39;\,sans-serif\;&quot;&gt;Speakers:&lt;/span&gt;&lt;/strong&gt;&lt;/p&gt;\n&lt;p class=&quot;MsoNorma
 l&quot;&gt;&lt;span style=&quot;font-family: &#39;Arial&#39;\,sans-serif\;&quot;&gt;Mark Quarantiello - Lo
 ctite Territory Sales Engineer &amp;ndash\; Northern New England&lt;br&gt;Kristen Lo
 ose - &amp;nbsp\;Henkel&amp;nbsp\;Lead Application Engineer&amp;nbsp\;&lt;br&gt;Syndey Hanso
 n -&amp;nbsp\;Loctite Territory Sales Engineer &amp;ndash\; Southern New England &amp;
 amp\; New York&lt;/span&gt;&lt;/p&gt;&lt;br /&gt;&lt;br /&gt;Agenda: &lt;br /&gt;&lt;p&gt;&lt;span style=&quot;font-fa
 mily: &#39;Arial&#39;\,sans-serif\;&quot;&gt;5:00 pm doors open at ASMPT NEXX in Billerica
 \, for networking&lt;/span&gt;&lt;/p&gt;\n&lt;p&gt;&lt;span style=&quot;font-family: &#39;Arial&#39;\,sans-s
 erif\;&quot;&gt;5:30 pm: Pizza\, salad\, and refreshments are scheduled to arrive\
 , while networking continues&lt;/span&gt;&lt;/p&gt;\n&lt;p&gt;&lt;span style=&quot;font-family: &#39;Ari
 al&#39;\,sans-serif\;&quot;&gt;6:00 pm: Technical Presentation&lt;/span&gt;&lt;/p&gt;\n&lt;p&gt;&lt;span st
 yle=&quot;font-family: &#39;Arial&#39;\,sans-serif\;&quot;&gt;7:00 pm: Formal Q&amp;amp\;A&lt;/span&gt;&lt;/
 p&gt;\n&lt;p&gt;&lt;span style=&quot;font-family: &#39;Arial&#39;\,sans-serif\;&quot;&gt;7:30 pm: Meeting a
 djourns\, informal Q&amp;amp\;A and networking&lt;/span&gt;&lt;/p&gt;\n&lt;p&gt;&lt;span style=&quot;fon
 t-family: &#39;Arial&#39;\,sans-serif\;&quot;&gt;.&lt;/span&gt;&lt;/p&gt;\n&lt;p&gt;&amp;nbsp\;&lt;/p&gt;
END:VEVENT
END:VCALENDAR

