BEGIN:VCALENDAR
VERSION:2.0
PRODID:IEEE vTools.Events//EN
CALSCALE:GREGORIAN
BEGIN:VTIMEZONE
TZID:America/Mexico_City
BEGIN:STANDARD
DTSTART:20221030T010000
TZOFFSETFROM:-0500
TZOFFSETTO:-0600
TZNAME:CST
END:STANDARD
END:VTIMEZONE
BEGIN:VEVENT
DTSTAMP:20251104T183852Z
UID:C831E1AB-CD66-415B-A7E8-909F677E9393
DTSTART;TZID=America/Mexico_City:20251128T160000
DTEND;TZID=America/Mexico_City:20251129T220000
DESCRIPTION:Veracruz Section Student Branches YP Meeting\n\n· Veracruz Sec
 tion is hosting a meeting of all its student branches and also inviting ot
 her Mexican branches\, to celebrate the XX Anniversary of the Section.\n\n
 · Within this event\, we are planning this YP Meeting\, with the aim of p
 romoting YP membership and to expand initial efforts performed by one of o
 ur student branches to impulse YP Affinity Groups within every Student Bra
 nch.\n\n· In the meeting\, we will take advantage of the networking circu
 mstances established previously by the main event and we will capture the 
 interest of potential YPs through talks and activities related to the most
  common needs of students near to graduation and those recently graduated.
 \n\n· To enhance the networking atmosphere\, the YP meeting will include 
 dinner\, that will be held together with the event of the student branches
  meeting\, to integrate the participants\, although the expenses of the YP
  meeting will be covered separately.\n\n· A kit of souvenirs of the event
  will be given to each participant.\n\nCo-sponsored by: Consejo Veracruzan
 o de Investigación Científica y Desarrollo Tecnológico (COVEICYDET)\n\n
 Agenda: \nFriday 28th of November 2025\n\n16:00 – Registration\n\n16:30 
 – Opening presentation by Dr. Jesús García Guzmán\, Veracruz Section 
 Chair.\n\n16:45 – Welcoming speech by MSc. Esteban Arias Méndez1\, R9 Y
 oung Professionals Chair.\n\n17:00 – Presentation on Young Professionals
  Groups and Benefits\, by Dr. Jaime Martínez Castillo\, Young Professiona
 ls Affinity Group Chair of Veracruz Section.\n\n18:00 – Coffee break and
  networking\n\n18:30 – Showcase and ignite presentations by invited Youn
 g Professionals.\n\n19:30 – Break.\n\n20:00 – Dinner.\n\n22:00 – End
  of first day.\n\n1 To be confirmed.\n\nSaturday 29th of November 2025\n\n
 10:00 – Opening remarks and notices.\n\n10:30 – Presentation on Mentor
 ing Meet Program\, by MSc. Efrén Bautista Linares\, R9 Representative of 
 this program.\n\n11:30 – Workshop on YP opportunities.\n\n12:45 – Clos
 ing remarks.\n\n13:00 – End of event.\n\n-------------------------------
 --------------------------------\n\nRoom: Convenciones\, Bldg: Hotel Xalap
 a\, Guadalupe Victoria 163\, Zona Centro\,\,  Centro\, 91000\, Xalapa-Enr
 íquez\, Ver.\, Veracruz-Llave\, Mexico\, 91000
LOCATION:Room: Convenciones\, Bldg: Hotel Xalapa\, Guadalupe Victoria 163\,
  Zona Centro\,\,  Centro\, 91000\, Xalapa-Enríquez\, Ver.\, Veracruz-Llav
 e\, Mexico\, 91000
ORGANIZER:jesusgarcia@ieee.org
SEQUENCE:31
SUMMARY:Veracruz Section Student Branches YP Meeting
URL;VALUE=URI:https://events.vtools.ieee.org/m/501245
X-ALT-DESC:Description: &lt;br /&gt;&lt;p class=&quot;MsoNormal&quot; style=&quot;text-align: justi
 fy\;&quot;&gt;&lt;span style=&quot;color: rgb(52\, 73\, 94)\; font-size: 18pt\;&quot;&gt;&lt;strong&gt;&lt;
 span lang=&quot;EN-US&quot; style=&quot;line-height: 107%\; font-family: &#39;Times New Roman
 &#39;\, serif\;&quot;&gt;Veracruz Section Student Branches YP Meeting&lt;/span&gt;&lt;/strong&gt;&lt;
 /span&gt;&lt;/p&gt;\n&lt;p class=&quot;MsoListParagraphCxSpFirst&quot; style=&quot;text-align: justif
 y\; text-indent: -18.0pt\; mso-list: l0 level1 lfo1\;&quot;&gt;&lt;!-- [if !supportLi
 sts]--&gt;&lt;span lang=&quot;EN-US&quot; style=&quot;font-size: 12.0pt\; line-height: 107%\; f
 ont-family: Symbol\; mso-fareast-font-family: Symbol\; mso-bidi-font-famil
 y: Symbol\;&quot;&gt;&lt;span style=&quot;mso-list: Ignore\;&quot;&gt;&amp;middot\;&lt;span style=&quot;font: 
 7.0pt &#39;Times New Roman&#39;\;&quot;&gt;&amp;nbsp\;&amp;nbsp\;&amp;nbsp\;&amp;nbsp\;&amp;nbsp\;&amp;nbsp\; &lt;/sp
 an&gt;&lt;/span&gt;&lt;/span&gt;&lt;!--[endif]--&gt;&lt;span lang=&quot;EN-US&quot; style=&quot;font-size: 12.0pt
 \; line-height: 107%\; font-family: &#39;Times New Roman&#39;\,serif\; mso-fareast
 -font-family: &#39;Times New Roman&#39;\;&quot;&gt;Veracruz Section is hosting a meeting o
 f all its student branches and also inviting other Mexican branches\, to c
 elebrate the XX Anniversary of the Section.&lt;/span&gt;&lt;/p&gt;\n&lt;p class=&quot;MsoListP
 aragraphCxSpMiddle&quot; style=&quot;text-align: justify\; text-indent: -18.0pt\; ms
 o-list: l0 level1 lfo1\;&quot;&gt;&lt;!-- [if !supportLists]--&gt;&lt;span lang=&quot;EN-US&quot; sty
 le=&quot;font-size: 12.0pt\; line-height: 107%\; font-family: Symbol\; mso-fare
 ast-font-family: Symbol\; mso-bidi-font-family: Symbol\;&quot;&gt;&lt;span style=&quot;mso
 -list: Ignore\;&quot;&gt;&amp;middot\;&lt;span style=&quot;font: 7.0pt &#39;Times New Roman&#39;\;&quot;&gt;&amp;n
 bsp\;&amp;nbsp\;&amp;nbsp\;&amp;nbsp\;&amp;nbsp\;&amp;nbsp\; &lt;/span&gt;&lt;/span&gt;&lt;/span&gt;&lt;!--[endif]-
 -&gt;&lt;span lang=&quot;EN-US&quot; style=&quot;font-size: 12.0pt\; line-height: 107%\; font-f
 amily: &#39;Times New Roman&#39;\,serif\; mso-fareast-font-family: &#39;Times New Roma
 n&#39;\;&quot;&gt;Within this event\, we are planning this YP Meeting\, with the aim o
 f promoting YP membership and to expand initial efforts performed by one o
 f our student branches to impulse YP Affinity Groups within every Student 
 Branch.&lt;/span&gt;&lt;/p&gt;\n&lt;p class=&quot;MsoListParagraphCxSpMiddle&quot; style=&quot;text-alig
 n: justify\; text-indent: -18.0pt\; mso-list: l0 level1 lfo1\;&quot;&gt;&lt;!-- [if !
 supportLists]--&gt;&lt;span lang=&quot;EN-US&quot; style=&quot;font-size: 12.0pt\; line-height:
  107%\; font-family: Symbol\; mso-fareast-font-family: Symbol\; mso-bidi-f
 ont-family: Symbol\;&quot;&gt;&lt;span style=&quot;mso-list: Ignore\;&quot;&gt;&amp;middot\;&lt;span styl
 e=&quot;font: 7.0pt &#39;Times New Roman&#39;\;&quot;&gt;&amp;nbsp\;&amp;nbsp\;&amp;nbsp\;&amp;nbsp\;&amp;nbsp\;&amp;nb
 sp\; &lt;/span&gt;&lt;/span&gt;&lt;/span&gt;&lt;!--[endif]--&gt;&lt;span lang=&quot;EN-US&quot; style=&quot;font-siz
 e: 12.0pt\; line-height: 107%\; font-family: &#39;Times New Roman&#39;\,serif\; ms
 o-fareast-font-family: &#39;Times New Roman&#39;\;&quot;&gt;In the meeting\, we will take 
 advantage of the networking circumstances established previously by the ma
 in event and we will capture the interest of potential YPs through talks a
 nd activities related to the most common needs of students near to graduat
 ion and those recently graduated.&lt;/span&gt;&lt;/p&gt;\n&lt;p class=&quot;MsoListParagraphCx
 SpMiddle&quot; style=&quot;text-align: justify\; text-indent: -18.0pt\; mso-list: l0
  level1 lfo1\;&quot;&gt;&lt;!-- [if !supportLists]--&gt;&lt;span lang=&quot;EN-US&quot; style=&quot;font-s
 ize: 12.0pt\; line-height: 107%\; font-family: Symbol\; mso-fareast-font-f
 amily: Symbol\; mso-bidi-font-family: Symbol\;&quot;&gt;&lt;span style=&quot;mso-list: Ign
 ore\;&quot;&gt;&amp;middot\;&lt;span style=&quot;font: 7.0pt &#39;Times New Roman&#39;\;&quot;&gt;&amp;nbsp\;&amp;nbsp
 \;&amp;nbsp\;&amp;nbsp\;&amp;nbsp\;&amp;nbsp\; &lt;/span&gt;&lt;/span&gt;&lt;/span&gt;&lt;!--[endif]--&gt;&lt;span la
 ng=&quot;EN-US&quot; style=&quot;font-size: 12.0pt\; line-height: 107%\; font-family: &#39;Ti
 mes New Roman&#39;\,serif\; mso-fareast-font-family: &#39;Times New Roman&#39;\;&quot;&gt;To e
 nhance the networking atmosphere\, the YP meeting will include dinner\, th
 at will be held together with the event of the student branches meeting\, 
 to integrate the participants\, although the expenses of the YP meeting wi
 ll be covered separately.&lt;/span&gt;&lt;/p&gt;\n&lt;p class=&quot;MsoListParagraphCxSpLast&quot; 
 style=&quot;text-align: justify\; text-indent: -18.0pt\; mso-list: l0 level1 lf
 o1\;&quot;&gt;&lt;!-- [if !supportLists]--&gt;&lt;span lang=&quot;EN-US&quot; style=&quot;font-size: 12.0p
 t\; line-height: 107%\; font-family: Symbol\; mso-fareast-font-family: Sym
 bol\; mso-bidi-font-family: Symbol\;&quot;&gt;&lt;span style=&quot;mso-list: Ignore\;&quot;&gt;&amp;mi
 ddot\;&lt;span style=&quot;font: 7.0pt &#39;Times New Roman&#39;\;&quot;&gt;&amp;nbsp\;&amp;nbsp\;&amp;nbsp\;&amp;
 nbsp\;&amp;nbsp\;&amp;nbsp\; &lt;/span&gt;&lt;/span&gt;&lt;/span&gt;&lt;!--[endif]--&gt;&lt;span lang=&quot;EN-US&quot;
  style=&quot;font-size: 12.0pt\; line-height: 107%\; font-family: &#39;Times New Ro
 man&#39;\,serif\; mso-fareast-font-family: &#39;Times New Roman&#39;\;&quot;&gt;A kit of souve
 nirs of the event will be given to each participant.&lt;/span&gt;&lt;/p&gt;&lt;br /&gt;&lt;br /
 &gt;Agenda: &lt;br /&gt;&lt;p class=&quot;MsoNormal&quot; style=&quot;text-align: justify\;&quot;&gt;&lt;span st
 yle=&quot;font-size: 14pt\;&quot;&gt;&lt;strong&gt;&lt;span lang=&quot;EN-US&quot; style=&quot;line-height: 107
 %\; font-family: &#39;Times New Roman&#39;\, serif\;&quot;&gt;Friday 28&lt;sup&gt;th&lt;/sup&gt; of No
 vember 2025&lt;/span&gt;&lt;/strong&gt;&lt;/span&gt;&lt;/p&gt;\n&lt;p class=&quot;MsoNormal&quot; style=&quot;text-a
 lign: justify\;&quot;&gt;&lt;span lang=&quot;EN-US&quot; style=&quot;font-size: 12.0pt\; line-height
 : 107%\; font-family: &#39;Times New Roman&#39;\,serif\; mso-fareast-font-family: 
 &#39;Times New Roman&#39;\;&quot;&gt;16:00 &amp;ndash\; Registration&lt;/span&gt;&lt;/p&gt;\n&lt;p class=&quot;Mso
 Normal&quot; style=&quot;text-align: justify\;&quot;&gt;&lt;span lang=&quot;EN-US&quot; style=&quot;font-size:
  12.0pt\; line-height: 107%\; font-family: &#39;Times New Roman&#39;\,serif\; mso-
 fareast-font-family: &#39;Times New Roman&#39;\;&quot;&gt;16:30 &amp;ndash\; Opening presentat
 ion by Dr. Jes&amp;uacute\;s Garc&amp;iacute\;a Guzm&amp;aacute\;n\, Veracruz Section 
 Chair.&lt;/span&gt;&lt;/p&gt;\n&lt;p class=&quot;MsoNormal&quot; style=&quot;margin-left: 48.25pt\; text
 -align: justify\; text-indent: -48.25pt\;&quot;&gt;&lt;span lang=&quot;EN-US&quot; style=&quot;font-
 size: 12.0pt\; line-height: 107%\; font-family: &#39;Times New Roman&#39;\,serif\;
  mso-fareast-font-family: &#39;Times New Roman&#39;\;&quot;&gt;16:45 &amp;ndash\; Welcoming sp
 eech by MSc. Esteban Arias M&amp;eacute\;ndez&lt;sup&gt;1&lt;/sup&gt;\, R9 Young Professio
 nals Chair. &lt;/span&gt;&lt;/p&gt;\n&lt;p class=&quot;MsoNormal&quot; style=&quot;margin-left: 41.15pt\
 ; text-indent: -41.15pt\;&quot;&gt;&lt;span lang=&quot;EN-US&quot; style=&quot;font-size: 12.0pt\; l
 ine-height: 107%\; font-family: &#39;Times New Roman&#39;\,serif\; mso-fareast-fon
 t-family: &#39;Times New Roman&#39;\;&quot;&gt;17:00 &amp;ndash\; Presentation on Young Profes
 sionals Groups and Benefits\, by Dr. Jaime Mart&amp;iacute\;nez Castillo\, You
 ng Professionals Affinity Group Chair of Veracruz Section.&lt;/span&gt;&lt;/p&gt;\n&lt;p 
 class=&quot;MsoNormal&quot; style=&quot;margin-left: 41.15pt\; text-indent: -41.15pt\;&quot;&gt;&lt;
 span lang=&quot;EN-US&quot; style=&quot;font-size: 12.0pt\; line-height: 107%\; font-fami
 ly: &#39;Times New Roman&#39;\,serif\; mso-fareast-font-family: &#39;Times New Roman&#39;\
 ;&quot;&gt;18:00 &amp;ndash\; Coffee break and networking&lt;/span&gt;&lt;/p&gt;\n&lt;p class=&quot;MsoNor
 mal&quot; style=&quot;margin-left: 41.15pt\; text-indent: -41.15pt\;&quot;&gt;&lt;span lang=&quot;EN
 -US&quot; style=&quot;font-size: 12.0pt\; line-height: 107%\; font-family: &#39;Times Ne
 w Roman&#39;\,serif\; mso-fareast-font-family: &#39;Times New Roman&#39;\;&quot;&gt;18:30 &amp;nda
 sh\; Showcase and ignite presentations by invited Young Professionals.&lt;/sp
 an&gt;&lt;/p&gt;\n&lt;p&gt;&lt;span lang=&quot;EN-US&quot; style=&quot;font-size: 12.0pt\; line-height: 107
 %\; font-family: &#39;Times New Roman&#39;\,serif\; mso-fareast-font-family: &#39;Time
 s New Roman&#39;\; mso-ansi-language: EN-US\; mso-fareast-language: EN-GB\; ms
 o-bidi-language: AR-SA\;&quot;&gt;19:30 &amp;ndash\; Break.&lt;/span&gt;&lt;/p&gt;\n&lt;p class=&quot;MsoN
 ormal&quot; style=&quot;margin-left: 41.15pt\; text-indent: -41.15pt\;&quot;&gt;&lt;span lang=&quot;
 EN-US&quot; style=&quot;font-size: 12.0pt\; line-height: 107%\; font-family: &#39;Times 
 New Roman&#39;\,serif\; mso-fareast-font-family: &#39;Times New Roman&#39;\;&quot;&gt;20:00 &amp;n
 dash\; Dinner. &lt;/span&gt;&lt;/p&gt;\n&lt;p class=&quot;MsoNormal&quot; style=&quot;margin-left: 41.15
 pt\; text-indent: -41.15pt\;&quot;&gt;&lt;span lang=&quot;EN-US&quot; style=&quot;font-size: 12.0pt\
 ; line-height: 107%\; font-family: &#39;Times New Roman&#39;\,serif\; mso-fareast-
 font-family: &#39;Times New Roman&#39;\;&quot;&gt;22:00 &amp;ndash\; End of first day.&lt;/span&gt;&lt;
 /p&gt;\n&lt;p class=&quot;MsoNormal&quot; style=&quot;margin-left: 41.15pt\; text-indent: -41.1
 5pt\;&quot;&gt;&lt;span lang=&quot;EN-US&quot; style=&quot;font-size: 12.0pt\; line-height: 107%\; f
 ont-family: &#39;Times New Roman&#39;\,serif\; mso-fareast-font-family: &#39;Times New
  Roman&#39;\;&quot;&gt;&lt;sup&gt;1 &lt;/sup&gt;To be confirmed.&amp;nbsp\;&lt;/span&gt;&lt;/p&gt;\n&lt;p class=&quot;MsoN
 ormal&quot; style=&quot;text-align: justify\;&quot;&gt;&lt;span style=&quot;font-size: 14pt\;&quot;&gt;&lt;stro
 ng&gt;&lt;span lang=&quot;EN-US&quot; style=&quot;line-height: 107%\; font-family: &#39;Times New R
 oman&#39;\, serif\;&quot;&gt;Saturday 29&lt;sup&gt;th&lt;/sup&gt; of November 2025&lt;/span&gt;&lt;/strong&gt;
 &lt;/span&gt;&lt;/p&gt;\n&lt;p class=&quot;MsoNormal&quot; style=&quot;margin-left: 41.15pt\; text-inden
 t: -41.15pt\;&quot;&gt;&lt;span lang=&quot;EN-US&quot; style=&quot;font-size: 12.0pt\; line-height: 
 107%\; font-family: &#39;Times New Roman&#39;\,serif\; mso-fareast-font-family: &#39;T
 imes New Roman&#39;\;&quot;&gt;10:00 &amp;ndash\; Opening remarks and notices.&lt;/span&gt;&lt;/p&gt;\
 n&lt;p class=&quot;MsoNormal&quot; style=&quot;margin-left: 41.15pt\; text-indent: -41.15pt\
 ;&quot;&gt;&lt;span lang=&quot;EN-US&quot; style=&quot;font-size: 12.0pt\; line-height: 107%\; font-
 family: &#39;Times New Roman&#39;\,serif\; mso-fareast-font-family: &#39;Times New Rom
 an&#39;\;&quot;&gt;10:30 &amp;ndash\; Presentation on Mentoring Meet Program\, by MSc. &lt;/s
 pan&gt;&lt;span style=&quot;font-size: 12.0pt\; line-height: 107%\; font-family: &#39;Tim
 es New Roman&#39;\,serif\; mso-fareast-font-family: &#39;Times New Roman&#39;\; mso-an
 si-language: EN-GB\;&quot;&gt;Efr&amp;eacute\;n Bautista Linares\, R9 Representative o
 f this program.&lt;/span&gt;&lt;/p&gt;\n&lt;p class=&quot;MsoNormal&quot; style=&quot;margin-left: 41.15
 pt\; text-indent: -41.15pt\;&quot;&gt;&lt;span style=&quot;font-size: 12.0pt\; line-height
 : 107%\; font-family: &#39;Times New Roman&#39;\,serif\; mso-fareast-font-family: 
 &#39;Times New Roman&#39;\; mso-ansi-language: EN-GB\;&quot;&gt;11:30 &amp;ndash\; Workshop on
  YP opportunities.&lt;/span&gt;&lt;/p&gt;\n&lt;p class=&quot;MsoNormal&quot; style=&quot;margin-left: 41
 .15pt\; text-indent: -41.15pt\;&quot;&gt;&lt;span style=&quot;font-size: 12.0pt\; line-hei
 ght: 107%\; font-family: &#39;Times New Roman&#39;\,serif\; mso-fareast-font-famil
 y: &#39;Times New Roman&#39;\; mso-ansi-language: EN-GB\;&quot;&gt;12:45 &amp;ndash\; Closing 
 remarks.&lt;/span&gt;&lt;/p&gt;\n&lt;p&gt;&lt;span lang=&quot;EN-US&quot; style=&quot;font-size: 12.0pt\; line
 -height: 107%\; font-family: &#39;Times New Roman&#39;\,serif\; mso-fareast-font-f
 amily: &#39;Times New Roman&#39;\; mso-ansi-language: EN-US\; mso-fareast-language
 : EN-GB\; mso-bidi-language: AR-SA\;&quot;&gt;&lt;span style=&quot;font-size: 12.0pt\; lin
 e-height: 107%\; font-family: &#39;Times New Roman&#39;\,serif\; mso-fareast-font-
 family: &#39;Times New Roman&#39;\; mso-ansi-language: EN-GB\; mso-fareast-languag
 e: EN-GB\; mso-bidi-language: AR-SA\;&quot;&gt;13:00 &amp;ndash\; End of event. &lt;/span
 &gt;&lt;/span&gt;&lt;/p&gt;\n&lt;div style=&quot;mso-element: footnote-list\;&quot;&gt;&lt;!-- [if !supportF
 ootnotes]--&gt;&lt;br clear=&quot;all&quot;&gt;&lt;hr align=&quot;left&quot; size=&quot;1&quot; width=&quot;33%&quot;&gt;&lt;!--[end
 if]--&gt;&lt;/div&gt;
END:VEVENT
END:VCALENDAR

