BEGIN:VCALENDAR
VERSION:2.0
PRODID:IEEE vTools.Events//EN
CALSCALE:GREGORIAN
BEGIN:VTIMEZONE
TZID:America/Guatemala
BEGIN:STANDARD
DTSTART:20060930T230000
TZOFFSETFROM:-0500
TZOFFSETTO:-0600
TZNAME:CST
END:STANDARD
END:VTIMEZONE
BEGIN:VEVENT
DTSTAMP:20251102T002704Z
UID:AEB0228D-0B00-45E2-941F-6E38E7FD6807
DTSTART;TZID=America/Guatemala:20251017T140000
DTEND;TZID=America/Guatemala:20251017T150000
DESCRIPTION:Mujeres que inspiran en STEM es una sesión especial dentro de 
 IngenIEEEría Costa Rica 2025\, dedicada a visibilizar y celebrar el lider
 azgo de mujeres que transforman el mundo de la ciencia\, la tecnología\, 
 la ingeniería y las matemáticas.\n\nPatrocinada por IEEE Mentoring – M
 eet\, esta actividad busca fortalecer la cultura de mentoría dentro de la
  comunidad IEEE\, ofreciendo un espacio para el aprendizaje\, la inspiraci
 ón y la conexión entre personas interesadas en el desarrollo profesional
  y en las áreas STEM.\n\nDurante la sesión\, destacadas mentoras compart
 irán sus experiencias y aprendizajes en campos como inteligencia artifici
 al\, robótica\, electrónica\, ciberseguridad\, biomedicina y emprendimie
 nto tecnológico. Este espacio promueve la inspiración\, la mentoría y l
 a creación de redes de apoyo que impulsen la equidad de género y el lide
 razgo inclusivo en los sectores científicos y tecnológicos.\n\nEl evento
  será liderado por los grupos Women in Engineering (WIE) y Young Professi
 onals (YP) IEEE Costa Rica Section\, quienes facilitarán actividades de m
 entoría y networking orientadas a fortalecer el crecimiento personal y pr
 ofesional en un entorno colaborativo e inclusivo.\n\nEvento abierto a todo
  el publico.\n\nPor favor llenar el presente registro y el siguiente formu
 lario: [Click aquí](https://forms.gle/6nfrYcScBtQtEKLy9)\n\n(Muy importan
 te llenar tanto el registro como el formulario)\n\nInstrucciones para llen
 ar el formulario:\n\n1) Ingresar su correo electrónico.\n\n2) Seleccionar
  el nombre del evento: INGENIERÍA 2025 | Sección IEEE Costa Rica\n\nRoom
 : Aqua A\, Bldg: Hotel D Sabana\, 300 m south from Pizza Hut\, Av. 6\, San
  José\, San Bosco\, 10103\, San José\, San Jose\, Costa Rica
LOCATION:Room: Aqua A\, Bldg: Hotel D Sabana\, 300 m south from Pizza Hut\,
  Av. 6\, San José\, San Bosco\, 10103\, San José\, San Jose\, Costa Rica
ORGANIZER:gonzalezmendozaelka@ieee.org
SEQUENCE:74
SUMMARY:Mujeres que inspiran en STEM
URL;VALUE=URI:https://events.vtools.ieee.org/m/501267
X-ALT-DESC:Description: &lt;br /&gt;&lt;p data-start=&quot;222&quot; data-end=&quot;502&quot;&gt;&lt;em data-s
 tart=&quot;257&quot; data-end=&quot;287&quot;&gt;Mujeres que inspiran en STEM&lt;/em&gt; es una sesi&amp;oa
 cute\;n especial dentro de &lt;strong data-start=&quot;321&quot; data-end=&quot;353&quot;&gt;IngenIE
 EEr&amp;iacute\;a Costa Rica 2025&lt;/strong&gt;\, dedicada a visibilizar y celebrar
  el liderazgo de mujeres que transforman el mundo de la ciencia\, la tecno
 log&amp;iacute\;a\, la ingenier&amp;iacute\;a y las matem&amp;aacute\;ticas.&lt;/p&gt;\n&lt;p d
 ata-start=&quot;504&quot; data-end=&quot;781&quot;&gt;Patrocinada por &lt;strong data-start=&quot;520&quot; da
 ta-end=&quot;545&quot;&gt;IEEE Mentoring &amp;ndash\; Meet&lt;/strong&gt;\, esta actividad busca 
 fortalecer la cultura de mentor&amp;iacute\;a dentro de la comunidad IEEE\, of
 reciendo un espacio para el aprendizaje\, la inspiraci&amp;oacute\;n y la cone
 xi&amp;oacute\;n entre personas interesadas en el desarrollo profesional y en 
 las &amp;aacute\;reas STEM.&lt;/p&gt;\n&lt;p data-start=&quot;783&quot; data-end=&quot;1173&quot;&gt;Durante l
 a sesi&amp;oacute\;n\, destacadas mentoras compartir&amp;aacute\;n sus experiencia
 s y aprendizajes en campos como inteligencia artificial\, rob&amp;oacute\;tica
 \, electr&amp;oacute\;nica\, ciberseguridad\, biomedicina y emprendimiento tec
 nol&amp;oacute\;gico. Este espacio promueve la inspiraci&amp;oacute\;n\, la mentor
 &amp;iacute\;a y la creaci&amp;oacute\;n de redes de apoyo que impulsen la equidad
  de g&amp;eacute\;nero y el liderazgo inclusivo en los sectores cient&amp;iacute\;
 ficos y tecnol&amp;oacute\;gicos.&lt;/p&gt;\n&lt;p data-start=&quot;1175&quot; data-end=&quot;1465&quot;&gt;El
  evento ser&amp;aacute\; liderado por los grupos &lt;strong data-start=&quot;1214&quot; dat
 a-end=&quot;1244&quot;&gt;Women in Engineering (WIE)&lt;/strong&gt; y &lt;strong data-start=&quot;124
 7&quot; data-end=&quot;1275&quot;&gt;Young Professionals (YP)&lt;/strong&gt; IEEE Costa Rica Secti
 on\, quienes facilitar&amp;aacute\;n actividades de mentor&amp;iacute\;a y network
 ing orientadas a fortalecer el crecimiento personal y profesional en un en
 torno colaborativo e inclusivo.&lt;br&gt;&lt;br&gt;&lt;strong&gt;Evento abierto a todo el pu
 blico.&lt;/strong&gt;&lt;/p&gt;\n&lt;p data-start=&quot;1175&quot; data-end=&quot;1465&quot;&gt;&lt;strong&gt;Por favo
 r llenar el presente registro y el siguiente formulario:&amp;nbsp\;&lt;a href=&quot;ht
 tps://forms.gle/6nfrYcScBtQtEKLy9&quot;&gt;Click aqu&amp;iacute\;&lt;/a&gt;&lt;/strong&gt;&lt;/p&gt;\n&lt;p
  data-start=&quot;1175&quot; data-end=&quot;1465&quot;&gt;&lt;strong&gt;(Muy importante llenar tanto el
  registro como el formulario)&lt;br&gt;&lt;br&gt;Instrucciones para llenar el formular
 io:&amp;nbsp\;&lt;/strong&gt;&lt;/p&gt;\n&lt;p data-start=&quot;1175&quot; data-end=&quot;1465&quot;&gt;1) Ingresar 
 su correo electr&amp;oacute\;nico.&lt;/p&gt;\n&lt;p data-start=&quot;1175&quot; data-end=&quot;1465&quot;&gt;2
 ) Seleccionar el nombre del evento: &lt;strong&gt;INGENIER&amp;Iacute\;A 2025 | Secc
 i&amp;oacute\;n IEEE&amp;nbsp\; Costa Rica&lt;/strong&gt;&lt;/p&gt;\n&lt;p data-start=&quot;1175&quot; data
 -end=&quot;1465&quot;&gt;&lt;img src=&quot;https://events.vtools.ieee.org/vtools_ui/media/displ
 ay/c4c52680-5861-47c4-87f8-701ef7434235&quot; width=&quot;531&quot; height=&quot;442&quot;&gt;&lt;/p&gt;
END:VEVENT
END:VCALENDAR

