BEGIN:VCALENDAR
VERSION:2.0
PRODID:IEEE vTools.Events//EN
CALSCALE:GREGORIAN
BEGIN:VTIMEZONE
TZID:America/Chicago
BEGIN:DAYLIGHT
DTSTART:20250309T030000
TZOFFSETFROM:-0600
TZOFFSETTO:-0500
RRULE:FREQ=YEARLY;BYDAY=2SU;BYMONTH=3
TZNAME:CDT
END:DAYLIGHT
BEGIN:STANDARD
DTSTART:20251102T010000
TZOFFSETFROM:-0500
TZOFFSETTO:-0600
RRULE:FREQ=YEARLY;BYDAY=1SU;BYMONTH=11
TZNAME:CST
END:STANDARD
END:VTIMEZONE
BEGIN:VEVENT
DTSTAMP:20251016T203033Z
UID:048D1C98-F217-4589-9DF3-3F4DC50D61AF
DTSTART;TZID=America/Chicago:20251007T110000
DTEND;TZID=America/Chicago:20251007T133000
DESCRIPTION:OG&amp;E will host a tour of its Transmission and Distribution Cont
 rol Centers. Attendees will not only gain insights into the daily operatio
 n of the electric power grid but also learn about the emerging challenges 
 facing the industry and the new technology\, tools\, and processes that ha
 ve been adopted by OG&amp;E to ensure system security and reliability. This ev
 ent is ideal for those interested in learning about electric power systems
 .\n\nThe tour will be facilitated by Dr. Kevin Ma. Kevin received his Ph.D
 . degree in Electrical Engineering with a concentration in power systems f
 rom Arizona State University in 2011. He joined OG&amp;E in 2015 and is curren
 tly the manager of grid operations engineering\, leading the engineering t
 eam that supports both control centers. Prior to that\, he worked for ISO 
 New England. Kevin is an IEEE senior member and the chair of IEEE Oklahoma
  City Section PES/IA Chapter. He is also registered PE and PMP.\n\n[ red O
 G&amp;E We Energize Life tagline]\n\nThe address is 3220 S High Ave\, Oklahoma
  City\, OK 73129. Guest parking is available near the main building entran
 ce (see the following map). Note: Please bring your official ID (e.g.\, dr
 iver&#39;s license) in order to get your guest badge for the tour.\n\nAgenda: 
 \n- 11:00 - 11:45: Guest gathering and network (Lunch will be provided by 
 IEEE Oklahoma City Section and PES/IA Chapter)\n- 11:45 - 12:30: Tour of D
 istribution Control Center\n- 12:30 - 13:15: Tour of Transmission Control 
 Center\n- 13:15 - 13:30: Q&amp;A and departure\n\nBldg: OG&amp;E\, 3220 S High Ave
 \, Oklahoma City\, Oklahoma\, United States\, 73129
LOCATION:Bldg: OG&amp;E\, 3220 S High Ave\, Oklahoma City\, Oklahoma\, United S
 tates\, 73129
ORGANIZER:maf@oge.com
SEQUENCE:123
SUMMARY:Oklahoma Gas &amp; Electric Transmission/Distribution Control Centers T
 our
URL;VALUE=URI:https://events.vtools.ieee.org/m/501570
X-ALT-DESC:Description: &lt;br /&gt;&lt;p class=&quot;MsoNormal&quot;&gt;&lt;span style=&quot;color: rgb(
 0\, 0\, 0)\;&quot;&gt;OG&amp;amp\;E will host a tour of its Transmission and Distribut
 ion Control Centers. Attendees will not only gain insights into the daily 
 operation of the electric power grid but also learn about the emerging cha
 llenges facing the industry and the new technology\, tools\, and processes
  that have been adopted by OG&amp;amp\;E to ensure system security and reliabi
 lity. This event is ideal for those interested in learning about electric 
 power systems.&lt;/span&gt;&lt;/p&gt;\n&lt;p class=&quot;MsoNormal&quot;&gt;&lt;span style=&quot;color: rgb(0\
 , 0\, 0)\;&quot;&gt;The tour will be facilitated by Dr. Kevin Ma. Kevin received h
 is Ph.D. degree in Electrical Engineering with a concentration in power sy
 stems from Arizona State University in 2011. He joined OG&amp;amp\;E in 2015 a
 nd is currently the manager of grid operations engineering\, leading the e
 ngineering team that supports both control centers. Prior to that\, he wor
 ked for ISO New England. Kevin is an IEEE senior member and the chair of I
 EEE Oklahoma City Section PES/IA Chapter. He is also registered PE and PMP
 .&amp;nbsp\;&lt;/span&gt;&lt;/p&gt;\n&lt;p&gt;&lt;span style=&quot;color: rgb(0\, 0\, 0)\;&quot;&gt;&lt;img src=&quot;ht
 tps://www.oge.com/wps/wcm/connect/3cd32da4-99d5-4f04-a764-f413c5792144/WEL
 +Red+Logo_L.png?MOD=AJPERES&amp;amp\;CACHEID=ROOTWORKSPACE-3cd32da4-99d5-4f04-
 a764-f413c5792144-p5-Dcye&quot; alt=&quot; red OG&amp;amp\;E We Energize Life tagline&quot;&gt;&lt;
 /span&gt;&lt;/p&gt;\n&lt;p&gt;&lt;span style=&quot;color: rgb(0\, 0\, 0)\;&quot;&gt;The address is 3220 S
  High Ave\, Oklahoma City\, OK 73129. Guest parking is available near the 
 main building entrance (see the following map). &lt;strong&gt;Note: Please bring
  your official ID (e.g.\, driver&#39;s license) in order to get your guest bad
 ge for the tour.&amp;nbsp\;&lt;/strong&gt;&lt;/span&gt;&lt;/p&gt;\n&lt;p&gt;&lt;img src=&quot;https://events.v
 tools.ieee.org/vtools_ui/media/display/fb4bde23-9006-4485-ab29-ad86bbba74b
 a&quot;&gt;&lt;/p&gt;\n&lt;p&gt;&amp;nbsp\;&lt;/p&gt;\n&lt;p&gt;&amp;nbsp\;&lt;/p&gt;\n&lt;p&gt;&amp;nbsp\;&lt;/p&gt;\n&lt;p&gt;&amp;nbsp\;&lt;/p&gt;&lt;br
  /&gt;&lt;br /&gt;Agenda: &lt;br /&gt;&lt;ul&gt;\n&lt;li&gt;11:00 - 11:45: Guest gathering and networ
 k (Lunch will be provided by &lt;span data-teams=&quot;true&quot;&gt;IEEE Oklahoma City Se
 ction and PES/IA Chapter&lt;/span&gt;)&lt;/li&gt;\n&lt;li&gt;11:45 - 12:30: Tour of Distribu
 tion Control Center&lt;/li&gt;\n&lt;li&gt;12:30 - 13:15: Tour of Transmission Control 
 Center&lt;/li&gt;\n&lt;li&gt;13:15 - 13:30: Q&amp;amp\;A and departure&lt;/li&gt;\n&lt;/ul&gt;\n&lt;p&gt;&amp;nb
 sp\;&lt;/p&gt;
END:VEVENT
END:VCALENDAR

