BEGIN:VCALENDAR
VERSION:2.0
PRODID:IEEE vTools.Events//EN
CALSCALE:GREGORIAN
BEGIN:VTIMEZONE
TZID:America/Chicago
BEGIN:DAYLIGHT
DTSTART:20250309T030000
TZOFFSETFROM:-0600
TZOFFSETTO:-0500
RRULE:FREQ=YEARLY;BYDAY=2SU;BYMONTH=3
TZNAME:CDT
END:DAYLIGHT
BEGIN:STANDARD
DTSTART:20251102T010000
TZOFFSETFROM:-0500
TZOFFSETTO:-0600
RRULE:FREQ=YEARLY;BYDAY=1SU;BYMONTH=11
TZNAME:CST
END:STANDARD
END:VTIMEZONE
BEGIN:VEVENT
DTSTAMP:20260315T043304Z
UID:7A79034D-6183-4B04-BD0D-FCD613D3DD44
DTSTART;TZID=America/Chicago:20251007T173000
DTEND;TZID=America/Chicago:20251007T200000
DESCRIPTION:For IEEE Night @ KU this year\, the KU Student Branch of IEEE p
 lans to hold a digital logic design competition. In this competition\, stu
 dent teams will design and build a logic circuit on a breadboard based off
  of a given scenario. The challenge will test each team’s ability to tra
 nslate a real-world decision problem into Boolean logic\, implement it wit
 h logic gates\, and demonstrate it using LEDs and jumper cables. This comp
 etition aims to spark collaboration between peers and also allow for the U
 niversity of Kansas’s IEEE Student Branch\, referred to as The Branch\, 
 to self-promote and support the celebration of IEEE Day globally.\n\nCo-sp
 onsored by: IEEE KC Section\n\nAgenda: \nThe timeline for this celebration
  is as follows:\n\n-\n5:30 - 5:45 pm: Opening and introduction\n\n-\n5:45 
 - 6:00 pm: Competition Details and Overview\n\n-\n6:00 - 6:30 pm: Circuit 
 design &amp; logic formulation\n\n-\n6:30 - 7:30 pm: Breadboard building and t
 esting\n\n-\n7:30 - 7:45 pm: Demo &amp; judging\n\n-\n7:45 - 8:00 pm: Winners 
 announced &amp; conclusion\n\nRoom: 2\, Bldg: Eaton\, 1520 W 15th St\, Lawrenc
 e\, Kansas\, United States\, 66045
LOCATION:Room: 2\, Bldg: Eaton\, 1520 W 15th St\, Lawrence\, Kansas\, Unite
 d States\, 66045
ORGANIZER:kuieeeofficer@gmail.com
SEQUENCE:265
SUMMARY:IEEE Night @ KU
URL;VALUE=URI:https://events.vtools.ieee.org/m/501666
X-ALT-DESC:Description: &lt;br /&gt;&lt;p dir=&quot;ltr&quot;&gt;For IEEE Night @ KU this year\, 
 the KU Student Branch of IEEE plans to hold a digital logic design competi
 tion. In this competition\, student teams will design and build a logic ci
 rcuit on a breadboard based off of a given scenario. The challenge will te
 st each team&amp;rsquo\;s ability to translate a real-world decision problem i
 nto Boolean logic\, implement it with logic gates\, and demonstrate it usi
 ng LEDs and jumper cables. This competition aims to spark collaboration be
 tween peers and also allow for the University of Kansas&amp;rsquo\;s IEEE Stud
 ent Branch\, referred to as The Branch\, to self-promote and support the c
 elebration of IEEE Day globally.&lt;/p&gt;\n&lt;p&gt;&amp;nbsp\;&lt;/p&gt;&lt;br /&gt;&lt;br /&gt;Agenda: &lt;b
 r /&gt;&lt;p dir=&quot;ltr&quot;&gt;The timeline for this celebration is as follows:&lt;/p&gt;\n&lt;ul
 &gt;\n&lt;li dir=&quot;ltr&quot; aria-level=&quot;1&quot;&gt;\n&lt;p dir=&quot;ltr&quot; role=&quot;presentation&quot;&gt;5:30 - 
 5:45 pm: Opening and introduction&lt;/p&gt;\n&lt;/li&gt;\n&lt;li dir=&quot;ltr&quot; aria-level=&quot;1&quot;
 &gt;\n&lt;p dir=&quot;ltr&quot; role=&quot;presentation&quot;&gt;5:45 - 6:00 pm: Competition Details an
 d Overview&lt;/p&gt;\n&lt;/li&gt;\n&lt;li dir=&quot;ltr&quot; aria-level=&quot;1&quot;&gt;\n&lt;p dir=&quot;ltr&quot; role=&quot;p
 resentation&quot;&gt;6:00 - 6:30 pm: Circuit design &amp;amp\; logic formulation&lt;/p&gt;\n
 &lt;/li&gt;\n&lt;li dir=&quot;ltr&quot; aria-level=&quot;1&quot;&gt;\n&lt;p dir=&quot;ltr&quot; role=&quot;presentation&quot;&gt;6:3
 0 - 7:30 pm: Breadboard building and testing&lt;/p&gt;\n&lt;/li&gt;\n&lt;li dir=&quot;ltr&quot; ari
 a-level=&quot;1&quot;&gt;\n&lt;p dir=&quot;ltr&quot; role=&quot;presentation&quot;&gt;7:30 - 7:45 pm: Demo &amp;amp\;
  judging&lt;/p&gt;\n&lt;/li&gt;\n&lt;li dir=&quot;ltr&quot; aria-level=&quot;1&quot;&gt;\n&lt;p dir=&quot;ltr&quot; role=&quot;pre
 sentation&quot;&gt;7:45 - 8:00 pm: Winners announced &amp;amp\; conclusion&lt;/p&gt;\n&lt;/li&gt;\
 n&lt;/ul&gt;\n&lt;p&gt;&amp;nbsp\;&lt;/p&gt;
END:VEVENT
END:VCALENDAR

