BEGIN:VCALENDAR
VERSION:2.0
PRODID:IEEE vTools.Events//EN
CALSCALE:GREGORIAN
BEGIN:VTIMEZONE
TZID:America/Sao_Paulo
BEGIN:DAYLIGHT
DTSTART:20380119T001407
TZOFFSETFROM:-0300
TZOFFSETTO:-0300
RRULE:FREQ=YEARLY;BYDAY=3TU;BYMONTH=1
TZNAME:-03
END:DAYLIGHT
BEGIN:STANDARD
DTSTART:20190216T230000
TZOFFSETFROM:-0200
TZOFFSETTO:-0300
RRULE:FREQ=YEARLY;BYDAY=3SA;BYMONTH=2
TZNAME:-03
END:STANDARD
END:VTIMEZONE
BEGIN:VEVENT
DTSTAMP:20251030T143022Z
UID:C8818E28-8DE4-4862-B52C-B0CA2D04C3C0
DTSTART;TZID=America/Sao_Paulo:20251020T100000
DTEND;TZID=America/Sao_Paulo:20251020T120000
DESCRIPTION:DISTINGUISHED INDUSTRY SPEAKER PROGRAM\n\nSPEAKER:\n\nDr. Tomoh
 iro Nakatani\, NTT Communication Science Laboratories\, Japan\n\n📢 IEEE
  SPS Northeast Brazil Chapter – Distinguished Industry Speaker Program\n
 \nThe IEEE Signal Processing Society Northeast Brazil Chapter is pleased t
 o invite you to an insightful seminar on:\n\nConvolutional Beamformer for 
 Joint Denoising\, Dereverberation\, and Source Separation\n\n🎙️ Disti
 nguished Speaker:\nDr. Tomohiro Nakatani\nNTT Communication Science Labora
 tories\, NTT\, Inc.\, Japan\n\nDr. Nakatani is a leading expert in source 
 separation and speech enhancement. In this session\, he will present advan
 ced approaches to convolutional beamforming\, highlighting their applicati
 ons in denoising\, dereverberation\, and source separation.\n\nThis event 
 offers a valuable opportunity for students\, researchers\, and professiona
 ls to gain cutting-edge insights into signal processing and interact with 
 a distinguished industry expert.\n\n✨ Don’t miss this chance to learn 
 and network!\n\n📅 Date: 20th October 2025\n⏲ Time: 10:00 AM BRT (UTC 
 -3)\n🚩Local: LESC\, Bloco\, 723\, Department of Teleinformatics Enginee
 ring\, Federal University of Ceará\, Fortaleza\, Brazil\n\nJoin Zoom Meet
 ing\nhttps://us06web.zoom.us/j/87424738187\n\nExperience an inspiring sess
 ion with one of the foremost innovators in speech and audio processing.\n\
 nSpeaker(s): Dr. Tomohiro Nakatani\, \, \n\nRoom: BLOCO 723\, Bldg: Depart
 ment of Teleinformatics Engineering\, Federal University of Ceara\, LESC\,
  Fortaleza\, Ceara\, Brazil\, 60455-970\, Virtual: https://events.vtools.i
 eee.org/m/501813
LOCATION:Room: BLOCO 723\, Bldg: Department of Teleinformatics Engineering\
 , Federal University of Ceara\, LESC\, Fortaleza\, Ceara\, Brazil\, 60455-
 970\, Virtual: https://events.vtools.ieee.org/m/501813
ORGANIZER:andre@gtel.ufc.br
SEQUENCE:88
SUMMARY:Distinguished Industry Speaker - Dr. Tomohiro Nakatani (@Northeast 
 Brazil SPS Chapter)
URL;VALUE=URI:https://events.vtools.ieee.org/m/501813
X-ALT-DESC:Description: &lt;br /&gt;&lt;div&gt;\n&lt;p&gt;&lt;span style=&quot;color: rgb(22\, 145\, 
 121)\;&quot;&gt;&lt;strong&gt;&lt;img src=&quot;https://events.vtools.ieee.org/vtools_ui/media/d
 isplay/99d6d6cb-5bf0-45d3-8091-a34424617ca0&quot; width=&quot;200&quot; height=&quot;190&quot;&gt;&lt;/st
 rong&gt;&lt;/span&gt;&lt;/p&gt;\n&lt;p&gt;&lt;span style=&quot;color: rgb(35\, 111\, 161)\;&quot;&gt;&lt;strong&gt;DI
 STINGUISHED INDUSTRY SPEAKER&lt;/strong&gt;&lt;strong&gt; PROGRAM&lt;/strong&gt;&lt;/span&gt;&lt;/p&gt;\
 n&lt;p&gt;&lt;strong&gt;SPEAKER:&lt;/strong&gt;&lt;/p&gt;\n&lt;p&gt;&lt;strong&gt;Dr. Tomohiro Nakatani\, &lt;/st
 rong&gt;&lt;strong&gt;NTT Communication Science Laboratories\, Japan&lt;/strong&gt;&lt;/p&gt;\n
 &lt;p&gt;&lt;strong&gt;&lt;img src=&quot;https://events.vtools.ieee.org/vtools_ui/media/displa
 y/026500b8-6e0f-4e7d-b558-2d326705c5a7&quot; width=&quot;108&quot; height=&quot;108&quot;&gt;&lt;/strong&gt;
 &lt;/p&gt;\n&lt;/div&gt;\n&lt;p data-start=&quot;101&quot; data-end=&quot;184&quot;&gt;📢 &lt;strong data-start=&quot;
 104&quot; data-end=&quot;182&quot;&gt;IEEE SPS Northeast Brazil Chapter &amp;ndash\; Distinguish
 ed Industry Speaker Program&lt;/strong&gt;&lt;/p&gt;\n&lt;p data-start=&quot;186&quot; data-end=&quot;30
 5&quot;&gt;The IEEE Signal Processing Society Northeast Brazil Chapter is pleased 
 to invite you to an &lt;strong data-start=&quot;277&quot; data-end=&quot;299&quot;&gt;insightful sem
 inar&lt;/strong&gt; on:&lt;/p&gt;\n&lt;p data-start=&quot;307&quot; data-end=&quot;397&quot;&gt;&lt;strong data-sta
 rt=&quot;307&quot; data-end=&quot;395&quot;&gt;Convolutional Beamformer for Joint Denoising\, Der
 everberation\, and Source Separation&lt;/strong&gt;&lt;/p&gt;\n&lt;p data-start=&quot;399&quot; dat
 a-end=&quot;518&quot;&gt;🎙️ &lt;strong data-start=&quot;403&quot; data-end=&quot;429&quot;&gt;Distinguished 
 Speaker:&lt;/strong&gt;&lt;br data-start=&quot;429&quot; data-end=&quot;432&quot;&gt;&lt;strong data-start=&quot;4
 32&quot; data-end=&quot;457&quot;&gt;Dr. Tomohiro Nakatani&lt;/strong&gt;&lt;br data-start=&quot;457&quot; data
 -end=&quot;460&quot;&gt;NTT Communication Science Laboratories\, NTT\, Inc.\, Japan&lt;/p&gt;
 \n&lt;p data-start=&quot;520&quot; data-end=&quot;768&quot;&gt;Dr. Nakatani is a leading expert in s
 ource separation and speech enhancement. In this session\, he will present
  advanced approaches to convolutional beamforming\, highlighting their app
 lications in denoising\, dereverberation\, and source separation.&lt;/p&gt;\n&lt;p 
 data-start=&quot;770&quot; data-end=&quot;965&quot;&gt;This event offers a valuable opportunity f
 or &lt;strong data-start=&quot;815&quot; data-end=&quot;859&quot;&gt;students\, researchers\, and pr
 ofessionals&lt;/strong&gt; to gain cutting-edge insights into signal processing 
 and interact with a distinguished industry expert.&lt;/p&gt;\n&lt;p data-start=&quot;967
 &quot; data-end=&quot;1015&quot;&gt;✨ Don&amp;rsquo\;t miss this chance to learn and network!&lt;
 /p&gt;\n&lt;p&gt;&amp;nbsp\;&lt;/p&gt;\n&lt;div&gt;&amp;nbsp\;&lt;/div&gt;\n&lt;div&gt;&lt;strong&gt;📅 Date&lt;/strong&gt;: 
 20th October 2025&lt;/div&gt;\n&lt;div&gt;&lt;strong&gt;⏲&amp;nbsp\; Time&lt;/strong&gt;: 10:00 AM B
 RT (UTC -3)&lt;/div&gt;\n&lt;div&gt;&lt;strong&gt;🚩Local:&lt;/strong&gt; &lt;strong&gt;LESC&lt;/strong&gt;\
 , Bloco\, 723\, Department of Teleinformatics Engineering\, Federal Univer
 sity of Cear&amp;aacute\;\, Fortaleza\, Brazil&lt;/div&gt;\n&lt;div&gt;&lt;br&gt;Join Zoom Meeti
 ng&lt;/div&gt;\n&lt;div&gt;&lt;a href=&quot;https://us06web.zoom.us/j/87424738187&quot;&gt;https://us0
 6web.zoom.us/j/87424738187&lt;/a&gt;&lt;/div&gt;\n&lt;div&gt;&amp;nbsp\;&lt;/div&gt;\n&lt;div&gt;&amp;nbsp\;&lt;/di
 v&gt;\n&lt;div&gt;Experience an inspiring session with one of the foremost innovato
 rs in speech and audio processing.&lt;/div&gt;
END:VEVENT
END:VCALENDAR

