BEGIN:VCALENDAR
VERSION:2.0
PRODID:IEEE vTools.Events//EN
CALSCALE:GREGORIAN
BEGIN:VTIMEZONE
TZID:America/New_York
BEGIN:DAYLIGHT
DTSTART:20250309T030000
TZOFFSETFROM:-0500
TZOFFSETTO:-0400
RRULE:FREQ=YEARLY;BYDAY=2SU;BYMONTH=3
TZNAME:EDT
END:DAYLIGHT
BEGIN:STANDARD
DTSTART:20251102T010000
TZOFFSETFROM:-0400
TZOFFSETTO:-0500
RRULE:FREQ=YEARLY;BYDAY=1SU;BYMONTH=11
TZNAME:EST
END:STANDARD
END:VTIMEZONE
BEGIN:VEVENT
DTSTAMP:20251119T160844Z
UID:3AEAA649-2EFC-482A-977D-5790E3467E93
DTSTART;TZID=America/New_York:20250920T110000
DTEND;TZID=America/New_York:20250921T170000
DESCRIPTION:We are planning on having a big crunch session this weekend for
  everyone to work together!\n\nRoom: 5353\, Bldg: E7\, 200 University Ave 
 W\, Waterloo\, Ontario\, Canada\, N2L 3E9
LOCATION:Room: 5353\, Bldg: E7\, 200 University Ave W\, Waterloo\, Ontario\
 , Canada\, N2L 3E9
ORGANIZER:uwasic@uwaterloo.ca
SEQUENCE:13
SUMMARY:Work Session
URL;VALUE=URI:https://events.vtools.ieee.org/m/501998
X-ALT-DESC:Description: &lt;br /&gt;&lt;p&gt;We are planning on having a big crunch ses
 sion this weekend for everyone to work together!&lt;/p&gt;
END:VEVENT
END:VCALENDAR

