BEGIN:VCALENDAR
VERSION:2.0
PRODID:IEEE vTools.Events//EN
CALSCALE:GREGORIAN
BEGIN:VTIMEZONE
TZID:America/New_York
BEGIN:DAYLIGHT
DTSTART:20250309T030000
TZOFFSETFROM:-0500
TZOFFSETTO:-0400
RRULE:FREQ=YEARLY;BYDAY=2SU;BYMONTH=3
TZNAME:EDT
END:DAYLIGHT
BEGIN:STANDARD
DTSTART:20251102T010000
TZOFFSETFROM:-0400
TZOFFSETTO:-0500
RRULE:FREQ=YEARLY;BYDAY=1SU;BYMONTH=11
TZNAME:EST
END:STANDARD
END:VTIMEZONE
BEGIN:VEVENT
DTSTAMP:20251014T184602Z
UID:BA8204EB-1A71-469D-9CCE-DF074C788C20
DTSTART;TZID=America/New_York:20251013T183000
DTEND;TZID=America/New_York:20251013T200000
DESCRIPTION:Join us to practice for the 24h competitive programming competi
 tion hosted by IEEE: IEEEXtreme! Any skill levels welcome!\n\nRoom: 1032\,
  Bldg: IST\,  4450 Polytechnic Circle\, Lakeland\, Florida\, United States
 \, 33805
LOCATION:Room: 1032\, Bldg: IST\,  4450 Polytechnic Circle\, Lakeland\, Flo
 rida\, United States\, 33805
ORGANIZER:cgabel3645@floridapoly.edu
SEQUENCE:4
SUMMARY:Florida Polytechnic IEEE CS IEEEXtreme Practice
URL;VALUE=URI:https://events.vtools.ieee.org/m/502841
X-ALT-DESC:Description: &lt;br /&gt;&lt;p&gt;Join us to practice&amp;nbsp\;for the 24h comp
 etitive programming competition hosted by IEEE: IEEEXtreme! Any skill leve
 ls welcome!&lt;/p&gt;
END:VEVENT
END:VCALENDAR

