BEGIN:VCALENDAR
VERSION:2.0
PRODID:IEEE vTools.Events//EN
CALSCALE:GREGORIAN
BEGIN:VTIMEZONE
TZID:America/New_York
BEGIN:DAYLIGHT
DTSTART:20250309T030000
TZOFFSETFROM:-0500
TZOFFSETTO:-0400
RRULE:FREQ=YEARLY;BYDAY=2SU;BYMONTH=3
TZNAME:EDT
END:DAYLIGHT
BEGIN:STANDARD
DTSTART:20251102T010000
TZOFFSETFROM:-0400
TZOFFSETTO:-0500
RRULE:FREQ=YEARLY;BYDAY=1SU;BYMONTH=11
TZNAME:EST
END:STANDARD
END:VTIMEZONE
BEGIN:VEVENT
DTSTAMP:20251010T210328Z
UID:4FFCEF51-95DD-4DB0-9BDC-B184024477FA
DTSTART;TZID=America/New_York:20251007T183000
DTEND;TZID=America/New_York:20251007T200000
DESCRIPTION:Celebrate IEEE Day 2025 at the University of South Carolina. We
 ’ll host a USC faculty guest lecture\, felicitate the speaker with a cop
 y of our new book\, officially launch the new IEEE Computer Society chapte
 r logo\, and wrap with cake and networking.\nDate/Time: Tuesday\, October 
 7\, 2025\, 6:30–8:00 PM (ET)\nLocation: Swearingen Engineering Center (S
 WGN) 1A05 — Faculty Lounge\, University of South Carolina\, Columbia\, S
 C\n\n#IEEEDAY #IEEEDAY2025\n\n[]\n\nSpeaker(s): Ramtin\, Sairohith\n\nAgen
 da: \n6:30–6:40 PM — Welcome and IEEE Day note\n6:40–7:10 PM — Gue
 st lecture\n7:10–7:20 PM — Q&amp;A\n7:20–7:40 PM — Felicitation and ac
 knowledgments (present a signed copy of the new book to the speaker)\n7:40
 –8:00 PM — Chapter logo launch\, cake cutting\, and networking\n\nSWGN
  1A05 Faculty Lounge\, Columbia\, South Carolina\, United States
LOCATION:SWGN 1A05 Faculty Lounge\, Columbia\, South Carolina\, United Stat
 es
ORGANIZER:sairohith.thummarakoti@ieee.org
SEQUENCE:25
SUMMARY:IEEE Day 2025 at USC: Guest Lecture\, Chapter Logo Launch\, and Cel
 ebration
URL;VALUE=URI:https://events.vtools.ieee.org/m/503123
X-ALT-DESC:Description: &lt;br /&gt;&lt;p&gt;Celebrate IEEE Day 2025 at the University 
 of South Carolina. We&amp;rsquo\;ll host a USC faculty guest lecture\, felicit
 ate the speaker with a copy of our new book\, officially launch the new IE
 EE Computer Society chapter logo\, and wrap with cake and networking.&amp;nbsp
 \;&lt;br data-start=&quot;407&quot; data-end=&quot;410&quot;&gt;Date/Time: Tuesday\, October 7\, 202
 5\, 6:30&amp;ndash\;8:00 PM (ET)&lt;br data-start=&quot;464&quot; data-end=&quot;467&quot;&gt;Location: 
 Swearingen Engineering Center (SWGN) 1A05 &amp;mdash\; Faculty Lounge\, Univer
 sity of South Carolina\, Columbia\, SC&lt;/p&gt;\n&lt;p&gt;&lt;strong&gt;#IEEEDAY #IEEEDAY20
 25&lt;/strong&gt;&lt;/p&gt;\n&lt;p&gt;&lt;img src=&quot;https://events.vtools.ieee.org/vtools_ui/med
 ia/display/44c15f09-dc01-4f53-8fc2-8de6b2f38e87&quot; alt=&quot;&quot; width=&quot;933&quot; height
 =&quot;1320&quot;&gt;&lt;/p&gt;&lt;br /&gt;&lt;br /&gt;Agenda: &lt;br /&gt;&lt;p&gt;6:30&amp;ndash\;6:40 PM &amp;mdash\; Welc
 ome and IEEE Day note&lt;br data-start=&quot;992&quot; data-end=&quot;995&quot;&gt;6:40&amp;ndash\;7:10 
 PM &amp;mdash\; Guest lecture&lt;br data-start=&quot;1023&quot; data-end=&quot;1026&quot;&gt;7:10&amp;ndash\
 ;7:20 PM &amp;mdash\; Q&amp;amp\;A&lt;br data-start=&quot;1044&quot; data-end=&quot;1047&quot;&gt;7:20&amp;ndash
 \;7:40 PM &amp;mdash\; Felicitation and acknowledgments (present a signed copy
  of the new book to the speaker)&lt;br data-start=&quot;1149&quot; data-end=&quot;1152&quot;&gt;7:40
 &amp;ndash\;8:00 PM &amp;mdash\; Chapter logo launch\, cake cutting\, and networki
 ng&lt;/p&gt;
END:VEVENT
END:VCALENDAR

