BEGIN:VCALENDAR
VERSION:2.0
PRODID:IEEE vTools.Events//EN
CALSCALE:GREGORIAN
BEGIN:VTIMEZONE
TZID:America/Lima
BEGIN:DAYLIGHT
DTSTART:20380118T221407
TZOFFSETFROM:-0500
TZOFFSETTO:-0500
RRULE:FREQ=YEARLY;BYDAY=3MO;BYMONTH=1
TZNAME:-05
END:DAYLIGHT
BEGIN:STANDARD
DTSTART:19940331T230000
TZOFFSETFROM:-0400
TZOFFSETTO:-0500
RRULE:FREQ=YEARLY;BYDAY=-1TH;BYMONTH=3
TZNAME:-05
END:STANDARD
END:VTIMEZONE
BEGIN:VEVENT
DTSTAMP:20251023T234312Z
UID:C39158EA-1EE9-4A01-8B8E-8DEC0643C148
DTSTART;TZID=America/Lima:20250923T080000
DTEND;TZID=America/Lima:20250923T150000
DESCRIPTION:✨🤝 𝗟𝗮 𝗰𝗶𝗲𝗻𝗰𝗶𝗮\, 𝗹𝗮 𝗶
 𝗻𝗻𝗼𝘃𝗮𝗰𝗶ó𝗻 𝘆 𝗹𝗮 𝗰𝗼𝗺𝘂𝗻𝗶
 𝗱𝗮𝗱 𝘀𝗲 𝗰𝗼𝗻𝘀𝘁𝗿𝘂𝘆𝗲𝗻 𝗲𝗻 
 𝗲𝗾𝘂𝗶𝗽𝗼.\nSe parte de un cambio que hará la diferencia e
 n las comunidades mas vulnerables de Ecuador\nEl 23 de septiembre se lanza
 ra el &quot;explorando el futuro STEM&quot; en Colta\, un evento que ayudará a los 
 niños y niñas a conocer más sobre la tecnología.\n\nRiobamba\, Cotopax
 i\, Ecuador
LOCATION:Riobamba\, Cotopaxi\, Ecuador
ORGANIZER:kaperez@ieee.org
SEQUENCE:39
SUMMARY:Primera Jornada de Ciencia\, Tecnología\, Ingeniería y Matemátic
 a (STEM)
URL;VALUE=URI:https://events.vtools.ieee.org/m/504075
X-ALT-DESC:Description: &lt;br /&gt;&lt;p&gt;✨🤝 𝗟𝗮 𝗰𝗶𝗲𝗻𝗰𝗶
 𝗮\, 𝗹𝗮 𝗶𝗻𝗻𝗼𝘃𝗮𝗰𝗶&amp;oacute\;𝗻 𝘆 𝗹
 𝗮 𝗰𝗼𝗺𝘂𝗻𝗶𝗱𝗮𝗱 𝘀𝗲 𝗰𝗼𝗻𝘀𝘁
 𝗿𝘂𝘆𝗲𝗻 𝗲𝗻 𝗲𝗾𝘂𝗶𝗽𝗼.&lt;br&gt;Se parte de un 
 cambio que har&amp;aacute\; la diferencia en las comunidades mas vulnerables d
 e Ecuador&lt;br&gt;El 23 de septiembre se lanzara el &quot;explorando el futuro STEM&quot;
  en Colta\, un evento que ayudar&amp;aacute\; a los ni&amp;ntilde\;os y ni&amp;ntilde\
 ;as a conocer m&amp;aacute\;s sobre la tecnolog&amp;iacute\;a.&lt;br&gt;&lt;br&gt;&lt;img style=&quot;
 display: block\; margin-left: auto\; margin-right: auto\;&quot; src=&quot;https://ev
 ents.vtools.ieee.org/vtools_ui/media/display/a128ebc7-f620-4246-baeb-135b1
 e9fd4b0&quot; width=&quot;608&quot; height=&quot;456&quot;&gt;&lt;/p&gt;
END:VEVENT
END:VCALENDAR

