BEGIN:VCALENDAR
VERSION:2.0
PRODID:IEEE vTools.Events//EN
CALSCALE:GREGORIAN
BEGIN:VTIMEZONE
TZID:America/New_York
BEGIN:DAYLIGHT
DTSTART:20250309T030000
TZOFFSETFROM:-0500
TZOFFSETTO:-0400
RRULE:FREQ=YEARLY;BYDAY=2SU;BYMONTH=3
TZNAME:EDT
END:DAYLIGHT
BEGIN:STANDARD
DTSTART:20251102T010000
TZOFFSETFROM:-0400
TZOFFSETTO:-0500
RRULE:FREQ=YEARLY;BYDAY=1SU;BYMONTH=11
TZNAME:EST
END:STANDARD
END:VTIMEZONE
BEGIN:VEVENT
DTSTAMP:20251008T114402Z
UID:423F8020-192E-47D5-966A-47C441885422
DTSTART;TZID=America/New_York:20251007T163000
DTEND;TZID=America/New_York:20251007T180000
DESCRIPTION:We will be looking at I3-ATLAS an Interstellar visitor with [NA
 SA info](https://science.nasa.gov/solar-system/comets/3i-atlas/) on the &quot;c
 omet&quot;\,\nHarvard Professor [Avi Loeb&#39;s assertion that it could be an alien
  craft](https://www.cbsnews.com/boston/news/harvard-scientist-comet-alien-
 craft-earth/)\,\nand a [TED talk about exoplanets](https://www.ted.com/tal
 ks/jessie_christiansen_what_the_discovery_of_exoplanets_reveals_about_the_
 universe) if we have time.\nJoin us in-person in Londonderry at The Baldwi
 n\, or virtual via WebEx\n\nRoom: Classroom\, Bldg: C\, 50 Woodmont ave\, 
 Londonderry\, New Hampshire\, United States\, 03053\, Virtual: https://eve
 nts.vtools.ieee.org/m/504253
LOCATION:Room: Classroom\, Bldg: C\, 50 Woodmont ave\, Londonderry\, New Ha
 mpshire\, United States\, 03053\, Virtual: https://events.vtools.ieee.org/
 m/504253
ORGANIZER:LM@jimisaak.com
SEQUENCE:31
SUMMARY:Considering an intersteellar visit from I3-ATLAS
URL;VALUE=URI:https://events.vtools.ieee.org/m/504253
X-ALT-DESC:Description: &lt;br /&gt;&lt;div class=&quot;gmail_default&quot; style=&quot;font-family
 : times new roman\, serif\; font-size: large\;&quot;&gt;We will be looking at I3-A
 TLAS an Interstellar visitor with &lt;a href=&quot;https://science.nasa.gov/solar-
 system/comets/3i-atlas/&quot;&gt;NASA info&lt;/a&gt; on the &quot;comet&quot;\,&amp;nbsp\;&lt;/div&gt;\n&lt;div
  class=&quot;gmail_default&quot; style=&quot;font-family: times new roman\, serif\; font-
 size: large\;&quot;&gt;Harvard Professor&amp;nbsp\;&lt;a href=&quot;https://www.cbsnews.com/bo
 ston/news/harvard-scientist-comet-alien-craft-earth/&quot;&gt;Avi Loeb&#39;s assertion
  that it could be an alien craft&lt;/a&gt;\,&amp;nbsp\;&amp;nbsp\;&lt;/div&gt;\n&lt;div class=&quot;gm
 ail_default&quot; style=&quot;font-family: times new roman\, serif\; font-size: larg
 e\;&quot;&gt;and&amp;nbsp\; a &lt;a href=&quot;https://www.ted.com/talks/jessie_christiansen_w
 hat_the_discovery_of_exoplanets_reveals_about_the_universe&quot;&gt;TED talk about
  exoplanets&lt;/a&gt; if we have time.&lt;/div&gt;\n&lt;div class=&quot;gmail_default&quot; style=&quot;
 font-family: times new roman\, serif\; font-size: large\;&quot;&gt;Join us in-pers
 on in Londonderry at The Baldwin\, or virtual via WebEx&lt;/div&gt;
END:VEVENT
END:VCALENDAR

