BEGIN:VCALENDAR
VERSION:2.0
PRODID:IEEE vTools.Events//EN
CALSCALE:GREGORIAN
BEGIN:VTIMEZONE
TZID:Asia/Muscat
BEGIN:DAYLIGHT
DTSTART:20380119T071407
TZOFFSETFROM:+0400
TZOFFSETTO:+0400
RRULE:FREQ=YEARLY;BYDAY=3TU;BYMONTH=1
TZNAME:+04
END:DAYLIGHT
BEGIN:STANDARD
DTSTART:19200101T001848
TZOFFSETFROM:+0341
TZOFFSETTO:+0400
RRULE:FREQ=YEARLY;BYDAY=1TH;BYMONTH=1
TZNAME:+04
END:STANDARD
END:VTIMEZONE
BEGIN:VEVENT
DTSTAMP:20250930T152439Z
UID:AC238990-52C0-4AFE-9904-FA28150891EC
DTSTART;TZID=Asia/Muscat:20251111T093000
DTEND;TZID=Asia/Muscat:20251111T143000
DESCRIPTION:An immersive training designed to provide participants with pra
 ctical\, hands-on experience in cloud-based geographic information systems
  (GIS) and remote sensing using Google Earth Engine to process and analyze
  satellite imagery to observe and detect natural disasters.\n\nCo-sponsore
 d by: MBRSC\n\nVirtual: https://events.vtools.ieee.org/m/504288
LOCATION:Virtual: https://events.vtools.ieee.org/m/504288
ORGANIZER:hadamis@ud.ac.ae
SEQUENCE:0
SUMMARY:Cloud-Powered GIS: Natural Disaster Analysis with Google Earth Engi
 ne Workshop
URL;VALUE=URI:https://events.vtools.ieee.org/m/504288
X-ALT-DESC:Description: &lt;br /&gt;&lt;p&gt;An immersive training designed to provide 
 participants with practical\, hands-on experience in cloud-based geographi
 c information systems (GIS) and remote sensing using Google Earth Engine t
 o process and analyze satellite imagery to observe and detect natural disa
 sters.&lt;/p&gt;
END:VEVENT
END:VCALENDAR

