BEGIN:VCALENDAR
VERSION:2.0
PRODID:IEEE vTools.Events//EN
CALSCALE:GREGORIAN
BEGIN:VTIMEZONE
TZID:Europe/London
BEGIN:DAYLIGHT
DTSTART:20250330T020000
TZOFFSETFROM:+0000
TZOFFSETTO:+0100
RRULE:FREQ=YEARLY;BYDAY=-1SU;BYMONTH=3
TZNAME:BST
END:DAYLIGHT
BEGIN:STANDARD
DTSTART:20251026T010000
TZOFFSETFROM:+0100
TZOFFSETTO:+0000
RRULE:FREQ=YEARLY;BYDAY=-1SU;BYMONTH=10
TZNAME:GMT
END:STANDARD
END:VTIMEZONE
BEGIN:VEVENT
DTSTAMP:20251220T213501Z
UID:AF5FA70A-4B75-4542-8009-A48F0E585D08
DTSTART;TZID=Europe/London:20251005T090000
DTEND;TZID=Europe/London:20251005T113000
DESCRIPTION:Scouts Visit\n\n[]\n\nIn a dynamic collaboration with Scouts Sa
 kkiet Ezzit\, we hosted an impactful educational visit led by our mentor\,
  Eya Mazzoun. The session was designed to bridge the gap between teenage c
 uriosity and responsible technology use.\n\nThe workshop followed a struct
 ured\, hands-on approach to ensure maximum engagement:\n\n-\nKnowledge Ass
 essment: The session kicked off with an interactive mini-quiz to gauge the
  participants&#39; existing understanding of Artificial Intelligence.\n\n-\nAI
  Fundamentals &amp; Safety: Eya guided the group through the diverse applicati
 ons of AI\, specifically emphasizing ethical usage and how to navigate AI 
 tools safely in their daily lives.\n\n-\nComprehension Challenge: To reinf
 orce the learning objectives\, we hosted a competitive quiz activity\, ens
 uring every participant walked away with a clear grasp of the core concept
 s.\n\nBeyond technical skills\, we prioritized the human element. The visi
 t concluded with a dedicated well-being awareness session\, where we explo
 red the intersection of technology and mental health. We discussed practic
 al ways to implement tech tools to enhance rather than hinder personal wel
 l-being and digital balance.\n\nSpeaker(s): Eya maazoun\, \n\nBldg: Scout 
 Sekkit Ezzit\, RQ46+2FR\, Sakiet Ezzit\, Sfax\, Sfax\, Tunisia\, 3021
LOCATION:Bldg: Scout Sekkit Ezzit\, RQ46+2FR\, Sakiet Ezzit\, Sfax\, Sfax\,
  Tunisia\, 3021
ORGANIZER:sba-isims-wie@ieee.org
SEQUENCE:27
SUMMARY:Scouts Visit 
URL;VALUE=URI:https://events.vtools.ieee.org/m/504561
X-ALT-DESC:Description: &lt;br /&gt;&lt;h1 style=&quot;text-align: center\;&quot;&gt;&lt;span style=
 &quot;font-family: &#39;times new roman&#39;\, times\, serif\; color: rgb(132\, 63\, 16
 1)\;&quot;&gt;Scouts Visit&amp;nbsp\;&amp;nbsp\;&lt;/span&gt;&lt;/h1&gt;\n&lt;table style=&quot;border-collaps
 e: collapse\; width: 55.3606%\; height: 673px\; margin-left: auto\; margin
 -right: auto\;&quot; border=&quot;1&quot;&gt;&lt;colgroup&gt;&lt;col style=&quot;width: 50.1312%\;&quot;&gt;&lt;col s
 tyle=&quot;width: 49.9854%\;&quot;&gt;&lt;/colgroup&gt;\n&lt;tbody&gt;\n&lt;tr&gt;\n&lt;td&gt;&lt;span style=&quot;font
 -family: &#39;times new roman&#39;\, times\, serif\; color: rgb(132\, 63\, 161)\;&quot;
 &gt;&lt;img style=&quot;display: block\; margin-left: auto\; margin-right: auto\;&quot; sr
 c=&quot;https://events.vtools.ieee.org/vtools_ui/media/display/1bea241f-acd1-40
 68-8ad0-c026a6eb9b7d&quot; alt=&quot;&quot; width=&quot;256&quot; height=&quot;320&quot;&gt;&lt;/span&gt;&lt;/td&gt;\n&lt;td st
 yle=&quot;text-align: center\;&quot;&gt;&lt;img src=&quot;https://events.vtools.ieee.org/vtools
 _ui/media/display/65018229-e1e9-4720-81bc-41d80e18a477&quot; width=&quot;269&quot; height
 =&quot;337&quot;&gt;&lt;/td&gt;\n&lt;/tr&gt;\n&lt;tr style=&quot;text-align: center\;&quot;&gt;\n&lt;td style=&quot;text-al
 ign: center\;&quot;&gt;&lt;img src=&quot;https://events.vtools.ieee.org/vtools_ui/media/di
 splay/fc5d9b3a-d4d0-4931-ae51-f68448ef0513&quot; width=&quot;258&quot; height=&quot;323&quot;&gt;&lt;/td&gt;
 \n&lt;td&gt;&lt;img src=&quot;https://events.vtools.ieee.org/vtools_ui/media/display/61a
 1a4ac-eb3d-4114-b81d-ea21ac6651ba&quot; width=&quot;279&quot; height=&quot;349&quot;&gt;&lt;/td&gt;\n&lt;/tr&gt;\n
 &lt;/tbody&gt;\n&lt;/table&gt;\n&lt;p style=&quot;text-align: center\;&quot; data-path-to-node=&quot;3&quot;&gt;
 &lt;span style=&quot;color: rgb(132\, 63\, 161)\; font-family: &#39;times new roman&#39;\,
  times\, serif\;&quot;&gt;In a dynamic collaboration with Scouts Sakkiet Ezzit\, w
 e hosted an impactful educational visit led by our mentor\, Eya Mazzoun. T
 he session was designed to bridge the gap between teenage curiosity and re
 sponsible technology use.&lt;/span&gt;&lt;/p&gt;\n&lt;p style=&quot;text-align: center\;&quot; data
 -path-to-node=&quot;5&quot;&gt;&lt;span style=&quot;color: rgb(132\, 63\, 161)\; font-family: &#39;
 times new roman&#39;\, times\, serif\;&quot;&gt;The workshop followed a structured\, h
 ands-on approach to ensure maximum engagement:&lt;/span&gt;&lt;/p&gt;\n&lt;ul style=&quot;text
 -align: center\;&quot; data-path-to-node=&quot;6&quot;&gt;\n&lt;li style=&quot;color: rgb(132\, 63\,
  161)\; font-family: &#39;times new roman&#39;\, times\, serif\;&quot;&gt;\n&lt;p data-path-t
 o-node=&quot;6\,0\,0&quot;&gt;&lt;span style=&quot;color: rgb(132\, 63\, 161)\; font-family: &#39;t
 imes new roman&#39;\, times\, serif\;&quot;&gt;Knowledge Assessment: The session kicke
 d off with an interactive mini-quiz to gauge the participants&#39; existing un
 derstanding of Artificial Intelligence.&lt;/span&gt;&lt;/p&gt;\n&lt;/li&gt;\n&lt;li style=&quot;colo
 r: rgb(132\, 63\, 161)\; font-family: &#39;times new roman&#39;\, times\, serif\;&quot;
 &gt;\n&lt;p data-path-to-node=&quot;6\,1\,0&quot;&gt;&lt;span style=&quot;color: rgb(132\, 63\, 161)\
 ; font-family: &#39;times new roman&#39;\, times\, serif\;&quot;&gt;AI Fundamentals &amp;amp\;
  Safety: Eya guided the group through the diverse applications of AI\, spe
 cifically emphasizing ethical usage and how to navigate AI tools safely in
  their daily lives.&lt;/span&gt;&lt;/p&gt;\n&lt;/li&gt;\n&lt;li style=&quot;color: rgb(132\, 63\, 16
 1)\; font-family: &#39;times new roman&#39;\, times\, serif\;&quot;&gt;\n&lt;p data-path-to-n
 ode=&quot;6\,2\,0&quot;&gt;&lt;span style=&quot;color: rgb(132\, 63\, 161)\; font-family: &#39;time
 s new roman&#39;\, times\, serif\;&quot;&gt;Comprehension Challenge: To reinforce the 
 learning objectives\, we hosted a competitive quiz activity\, ensuring eve
 ry participant walked away with a clear grasp of the core concepts.&lt;/span&gt;
 &lt;/p&gt;\n&lt;/li&gt;\n&lt;/ul&gt;\n&lt;p style=&quot;text-align: center\;&quot; data-path-to-node=&quot;8&quot;&gt;
 &lt;span style=&quot;color: rgb(132\, 63\, 161)\; font-family: &#39;times new roman&#39;\,
  times\, serif\;&quot;&gt;Beyond technical skills\, we prioritized the human eleme
 nt. The visit concluded with a dedicated&amp;nbsp\;well-being awareness sessio
 n\, where we explored the intersection of technology and mental health. We
  discussed practical ways to implement tech tools to enhance rather than h
 inder personal well-being and digital balance.&lt;/span&gt;&lt;/p&gt;
END:VEVENT
END:VCALENDAR

