BEGIN:VCALENDAR
VERSION:2.0
PRODID:IEEE vTools.Events//EN
CALSCALE:GREGORIAN
BEGIN:VTIMEZONE
TZID:America/New_York
BEGIN:DAYLIGHT
DTSTART:20260308T030000
TZOFFSETFROM:-0500
TZOFFSETTO:-0400
RRULE:FREQ=YEARLY;BYDAY=2SU;BYMONTH=3
TZNAME:EDT
END:DAYLIGHT
BEGIN:STANDARD
DTSTART:20251102T010000
TZOFFSETFROM:-0400
TZOFFSETTO:-0500
RRULE:FREQ=YEARLY;BYDAY=1SU;BYMONTH=11
TZNAME:EST
END:STANDARD
END:VTIMEZONE
BEGIN:VEVENT
DTSTAMP:20251231T225808Z
UID:B6515D46-BE9D-43C7-85FB-83C04B2E4487
DTSTART;TZID=America/New_York:20251108T110000
DTEND;TZID=America/New_York:20251108T123000
DESCRIPTION:Join the Coastal South Carolina Section as we tour the Hunley M
 useum.\n\nThe Hunley was the first submarine to sink an enemy warship. It 
 was discovered in a diving expedition in 1995 and moved to the Warren Lasc
 h Conservation Center for preservation.\n\nYou can learn more about the Hu
 nley at its website: https://www.hunley.org/\n\nBldg: Warren Lasch Conserv
 ation Center\, 1250 Supply Street\, North Charleston\, South Carolina\, Un
 ited States\, 29405
LOCATION:Bldg: Warren Lasch Conservation Center\, 1250 Supply Street\, Nort
 h Charleston\, South Carolina\, United States\, 29405
ORGANIZER:derik.pack@gmail.com
SEQUENCE:55
SUMMARY:Hunley Museum Tour
URL;VALUE=URI:https://events.vtools.ieee.org/m/505287
X-ALT-DESC:Description: &lt;br /&gt;&lt;p&gt;Join the Coastal South Carolina Section as
  we tour the Hunley Museum.&lt;/p&gt;\n&lt;p&gt;The Hunley was the first submarine to 
 sink an enemy warship. It was discovered in a diving expedition in 1995 an
 d moved to the Warren Lasch Conservation Center for preservation.&amp;nbsp\;&lt;/
 p&gt;\n&lt;p&gt;You can learn more about the Hunley at its website: https://www.hun
 ley.org/&lt;/p&gt;
END:VEVENT
END:VCALENDAR

