BEGIN:VCALENDAR
VERSION:2.0
PRODID:IEEE vTools.Events//EN
CALSCALE:GREGORIAN
BEGIN:VTIMEZONE
TZID:America/New_York
BEGIN:DAYLIGHT
DTSTART:20250309T030000
TZOFFSETFROM:-0500
TZOFFSETTO:-0400
RRULE:FREQ=YEARLY;BYDAY=2SU;BYMONTH=3
TZNAME:EDT
END:DAYLIGHT
BEGIN:STANDARD
DTSTART:20251102T010000
TZOFFSETFROM:-0400
TZOFFSETTO:-0500
RRULE:FREQ=YEARLY;BYDAY=1SU;BYMONTH=11
TZNAME:EST
END:STANDARD
END:VTIMEZONE
BEGIN:VEVENT
DTSTAMP:20251013T200344Z
UID:D3A3A005-65EA-4124-A292-0E73438C4BBD
DTSTART;TZID=America/New_York:20251009T170000
DTEND;TZID=America/New_York:20251009T183000
DESCRIPTION:The talk will provide an overview of the Semiconductor Industry
  and Electronic Design Automation (EDA) coupled with a summary of the curr
 ent global electronics systems trends. The discussion will span from sand 
 to how AI is used to design chips today and will include advice on how to 
 get into the semiconductor and EDA industries.\n\nRoom: 100\, Bldg: Holtz 
 Hall (Clemson Campus)\, 198 Old Greenville Hwy\, Clemson\, South Carolina\
 , United States\, 29634
LOCATION:Room: 100\, Bldg: Holtz Hall (Clemson Campus)\, 198 Old Greenville
  Hwy\, Clemson\, South Carolina\, United States\, 29634
ORGANIZER:hraza@clemson.edu
SEQUENCE:11
SUMMARY:ECE Tech Talk on Semiconductor Industry and Electronic Design Autom
 ation (EDA) by Cadence
URL;VALUE=URI:https://events.vtools.ieee.org/m/505349
X-ALT-DESC:Description: &lt;br /&gt;&lt;p&gt;The talk will provide an overview of the S
 emiconductor Industry and Electronic Design Automation (EDA) coupled with 
 a summary of the current global electronics systems trends. The discussion
  will span from sand to how AI is used to design chips today and will incl
 ude advice on how to get into the semiconductor and EDA industries.&lt;/p&gt;
END:VEVENT
END:VCALENDAR

